BEGIN:VCALENDAR
VERSION:2.0
PRODID:-//Mancomunidad la vega - ECPv6.11.2//NONSGML v1.0//EN
CALSCALE:GREGORIAN
METHOD:PUBLISH
X-ORIGINAL-URL:https://www.mancomunidadlavega.es
X-WR-CALDESC:Eventos para Mancomunidad la vega
REFRESH-INTERVAL;VALUE=DURATION:PT1H
X-Robots-Tag:noindex
X-PUBLISHED-TTL:PT1H
BEGIN:VTIMEZONE
TZID:UTC
BEGIN:STANDARD
TZOFFSETFROM:+0000
TZOFFSETTO:+0000
TZNAME:UTC
DTSTART:20180101T000000
END:STANDARD
END:VTIMEZONE
BEGIN:VEVENT
DTSTART;TZID=UTC:20180516T080000
DTEND;TZID=UTC:20180516T150000
DTSTAMP:20260421T235949
CREATED:20180516T110118Z
LAST-MODIFIED:20180516T110118Z
UID:20914-1526457600-1526482800@www.mancomunidadlavega.es
SUMMARY:Jornada de Puertas Abiertas Mancomunidad la Vega
DESCRIPTION:Jornada de Puertas abiertas en la sede de la Mancomunidad\, mañana miércoles 16 de mayo a partir de las 10\,30 horas. Ven a conocernos\, ven a conèixer-nos Somos tus #serviciossociales\, som #laquortapota \nToda la info del evento: https://www.mancomunidadlavega.es/la-mancomunidad-hace-difusion-a-la-ciudadania-de-su-modelo-de-gestion-y-de-su-catalogo-de-servicios-en-el-marco-de-la-campana-laquortapota-de-la-conselleria-de-igualdad-y-politicas-inclusivas/
URL:https://www.mancomunidadlavega.es/event/jornada-de-puertas-abiertas-mancomunidad-la-vega/
CATEGORIES:Algorfa,Jacarilla,Redován,San Miguel de Salinas
END:VEVENT
END:VCALENDAR