BEGIN:VCALENDAR
VERSION:2.0
PRODID:-//Mancomunidad la vega - ECPv6.11.2//NONSGML v1.0//EN
CALSCALE:GREGORIAN
METHOD:PUBLISH
X-ORIGINAL-URL:https://www.mancomunidadlavega.es
X-WR-CALDESC:Eventos para Mancomunidad la vega
REFRESH-INTERVAL;VALUE=DURATION:PT1H
X-Robots-Tag:noindex
X-PUBLISHED-TTL:PT1H
BEGIN:VTIMEZONE
TZID:UTC
BEGIN:STANDARD
TZOFFSETFROM:+0000
TZOFFSETTO:+0000
TZNAME:UTC
DTSTART:20180101T000000
END:STANDARD
END:VTIMEZONE
BEGIN:VEVENT
DTSTART;TZID=UTC:20180425T100000
DTEND;TZID=UTC:20180425T113000
DTSTAMP:20260421T222958
CREATED:20180207T113950Z
LAST-MODIFIED:20180424T123521Z
UID:18439-1524650400-1524655800@www.mancomunidadlavega.es
SUMMARY:Taller Risoterapia.Jacarilla
DESCRIPTION:  \nTaller gratuíto. + Info en  el siguiente enlace Risoterapia
URL:https://www.mancomunidadlavega.es/event/taller-risoterapia-jacarilla/
LOCATION:Centro Social Tercera Edad Jacarilla\, Plaza de España\, 1\, Jacarilla\, Alicante\, 03310\, España
CATEGORIES:Jacarilla,Mujer
GEO:38.0777316;-0.8377238
X-APPLE-STRUCTURED-LOCATION;VALUE=URI;X-ADDRESS=Centro Social Tercera Edad Jacarilla Plaza de España 1 Jacarilla Alicante 03310 España;X-APPLE-RADIUS=500;X-TITLE=Plaza de España\, 1:geo:-0.8377238,38.0777316
END:VEVENT
END:VCALENDAR