BEGIN:VCALENDAR
VERSION:2.0
PRODID:-//Mancomunidad la vega - ECPv6.11.2//NONSGML v1.0//EN
CALSCALE:GREGORIAN
METHOD:PUBLISH
X-ORIGINAL-URL:https://www.mancomunidadlavega.es
X-WR-CALDESC:Eventos para Mancomunidad la vega
REFRESH-INTERVAL;VALUE=DURATION:PT1H
X-Robots-Tag:noindex
X-PUBLISHED-TTL:PT1H
BEGIN:VTIMEZONE
TZID:UTC
BEGIN:STANDARD
TZOFFSETFROM:+0000
TZOFFSETTO:+0000
TZNAME:UTC
DTSTART:20190101T000000
END:STANDARD
END:VTIMEZONE
BEGIN:VEVENT
DTSTART;TZID=UTC:20190618T200000
DTEND;TZID=UTC:20190618T210000
DTSTAMP:20260420T001927
CREATED:20190611T104347Z
LAST-MODIFIED:20190611T104347Z
UID:25891-1560888000-1560891600@www.mancomunidadlavega.es
SUMMARY:Un Gran paso de 6º a 1º ESO. Jacarilla
DESCRIPTION:Toda la info en el siguiente enlace: Taller un gran paso de 6º al IES
URL:https://www.mancomunidadlavega.es/event/un-gran-paso-de-6o-a-1o-eso-jacarilla/
LOCATION:Salón de actos del Centro Social Jacarilla
CATEGORIES:Infancia y Familia,Jacarilla
END:VEVENT
END:VCALENDAR