BEGIN:VCALENDAR
VERSION:2.0
PRODID:-//Mancomunidad la vega - ECPv6.11.2//NONSGML v1.0//EN
CALSCALE:GREGORIAN
METHOD:PUBLISH
X-ORIGINAL-URL:https://www.mancomunidadlavega.es
X-WR-CALDESC:Eventos para Mancomunidad la vega
REFRESH-INTERVAL;VALUE=DURATION:PT1H
X-Robots-Tag:noindex
X-PUBLISHED-TTL:PT1H
BEGIN:VTIMEZONE
TZID:UTC
BEGIN:STANDARD
TZOFFSETFROM:+0000
TZOFFSETTO:+0000
TZNAME:UTC
DTSTART:20180101T000000
END:STANDARD
END:VTIMEZONE
BEGIN:VEVENT
DTSTART;TZID=UTC:20181019T100000
DTEND;TZID=UTC:20181019T140000
DTSTAMP:20260421T084610
CREATED:20181004T120247Z
LAST-MODIFIED:20241016T111008Z
UID:23251-1539943200-1539957600@www.mancomunidadlavega.es
SUMMARY:Seminario formación en detección precoz de adicción al juego en la población jóven
DESCRIPTION:Un estudio reciente realizado por la Universidad Miguel Hernández para la Diputación Provincial\, destaca que el 4% de los estudiantes de ESO encuestados en nuestra provincia (13 a 17 años) se encontraba en situación de riesgo de trastorno por juego y un 1\,2% cumplían criterios de ludopatía. En otros estudios que incluyen a los adolescentes de 18 años\, se incrementa la prevalencia\, encontrándose próxima al 3%\, muy superior a la de los adultos en nuestro país. \nObjetivos: \n\nOfrecer formación y apoyo en la detección precoz de dependencia y conductas de riesgo por juego de apuestas en población joven.\nFavorecer destrezas y habilidades para una adecuada respuesta preventivo-asistencial a estos comportamientos.\n\nDirigido a: Psicólogos/as\, trabajadoes/as sociales\, enfermeros/as y médicos/as de atención primaria\, educadores/as\, monitores/as de ocio y tiempo libre. \n Impartido por: Antonio Castaños Monreal\, Psicólogo General Sanitario\, Máster en Psicología de la Salud\, Experto en adicciones y Director del Centro de Día de «Vida Libre\, Asociación Alicantina de Afectados por la Ludopatía. \n 
URL:https://www.mancomunidadlavega.es/event/seminario-formacion-en-deteccion-precoz-de-adiccion-al-juego-en-la-poblacion-joven/
LOCATION:Servicios Sociales. San Miguel De Salinas
CATEGORIES:Algorfa,Jacarilla,Jóvenes,Redován,San Miguel de Salinas
END:VEVENT
END:VCALENDAR