BEGIN:VCALENDAR
VERSION:2.0
PRODID:-//Mancomunidad la vega - ECPv6.11.2//NONSGML v1.0//EN
CALSCALE:GREGORIAN
METHOD:PUBLISH
X-WR-CALNAME:Mancomunidad la vega
X-ORIGINAL-URL:https://www.mancomunidadlavega.es
X-WR-CALDESC:Eventos para Mancomunidad la vega
REFRESH-INTERVAL;VALUE=DURATION:PT1H
X-Robots-Tag:noindex
X-PUBLISHED-TTL:PT1H
BEGIN:VTIMEZONE
TZID:UTC
BEGIN:STANDARD
TZOFFSETFROM:+0000
TZOFFSETTO:+0000
TZNAME:UTC
DTSTART:20180101T000000
END:STANDARD
END:VTIMEZONE
BEGIN:VEVENT
DTSTART;TZID=UTC:20180307T093000
DTEND;TZID=UTC:20180307T103000
DTSTAMP:20260421T222905
CREATED:20180207T113748Z
LAST-MODIFIED:20180215T130321Z
UID:18436-1520415000-1520418600@www.mancomunidadlavega.es
SUMMARY:Teatro para la Igualdad. Yo quiero ser científica. Jacarilla
DESCRIPTION:+info.  en http://xurl.es/zsm5l \nPara Escolares de Primaria.
URL:https://www.mancomunidadlavega.es/event/teatro-para-la-igualdad-yo-quiero-ser-cientifica-jacarilla/
LOCATION:Centro Social Tercera Edad Jacarilla\, Plaza de España\, 1\, Jacarilla\, Alicante\, 03310\, España
CATEGORIES:Jacarilla,Jóvenes,Mujer
GEO:38.0777316;-0.8377238
X-APPLE-STRUCTURED-LOCATION;VALUE=URI;X-ADDRESS=Centro Social Tercera Edad Jacarilla Plaza de España 1 Jacarilla Alicante 03310 España;X-APPLE-RADIUS=500;X-TITLE=Plaza de España\, 1:geo:-0.8377238,38.0777316
END:VEVENT
END:VCALENDAR