BEGIN:VCALENDAR
VERSION:2.0
PRODID:-//Mancomunidad la vega - ECPv6.11.2//NONSGML v1.0//EN
CALSCALE:GREGORIAN
METHOD:PUBLISH
X-ORIGINAL-URL:https://www.mancomunidadlavega.es
X-WR-CALDESC:Eventos para Mancomunidad la vega
REFRESH-INTERVAL;VALUE=DURATION:PT1H
X-Robots-Tag:noindex
X-PUBLISHED-TTL:PT1H
BEGIN:VTIMEZONE
TZID:UTC
BEGIN:STANDARD
TZOFFSETFROM:+0000
TZOFFSETTO:+0000
TZNAME:UTC
DTSTART:20180101T000000
END:STANDARD
END:VTIMEZONE
BEGIN:VEVENT
DTSTART;TZID=UTC:20180306T100000
DTEND;TZID=UTC:20180306T113000
DTSTAMP:20260421T223000
CREATED:20180213T132933Z
LAST-MODIFIED:20180219T122139Z
UID:18721-1520330400-1520335800@www.mancomunidadlavega.es
SUMMARY:Cocina Sana Mediterránea. Jacarilla
DESCRIPTION:Centro Social de Jacarilla. + info. https://www.mancomunidadlavega.es/tramites/grupo-de-encuentro-el-mundo-en-tu-cocina/
URL:https://www.mancomunidadlavega.es/event/cocina-sana-mediterranea-jacarilla/
LOCATION:Salón de actos del Centro Social Jacarilla
CATEGORIES:Extranjeros,Jacarilla,Mujer
END:VEVENT
BEGIN:VEVENT
DTSTART;TZID=UTC:20180306T203000
DTEND;TZID=UTC:20180306T220000
DTSTAMP:20260421T223000
CREATED:20180207T113406Z
LAST-MODIFIED:20180207T113533Z
UID:18427-1520368200-1520373600@www.mancomunidadlavega.es
SUMMARY:Pilyoga. Jacarilla
DESCRIPTION:Taller gratuíto
URL:https://www.mancomunidadlavega.es/event/pilyoga-jacarilla/2018-03-06/
LOCATION:Centro Social Tercera Edad Jacarilla\, Plaza de España\, 1\, Jacarilla\, Alicante\, 03310\, España
CATEGORIES:Jacarilla,Mujer
GEO:38.0777316;-0.8377238
X-APPLE-STRUCTURED-LOCATION;VALUE=URI;X-ADDRESS=Centro Social Tercera Edad Jacarilla Plaza de España 1 Jacarilla Alicante 03310 España;X-APPLE-RADIUS=500;X-TITLE=Plaza de España\, 1:geo:-0.8377238,38.0777316
END:VEVENT
END:VCALENDAR