BEGIN:VCALENDAR
VERSION:2.0
PRODID:-//Mancomunidad la vega - ECPv6.11.2//NONSGML v1.0//EN
CALSCALE:GREGORIAN
METHOD:PUBLISH
X-ORIGINAL-URL:https://www.mancomunidadlavega.es
X-WR-CALDESC:Eventos para Mancomunidad la vega
REFRESH-INTERVAL;VALUE=DURATION:PT1H
X-Robots-Tag:noindex
X-PUBLISHED-TTL:PT1H
BEGIN:VTIMEZONE
TZID:UTC
BEGIN:STANDARD
TZOFFSETFROM:+0000
TZOFFSETTO:+0000
TZNAME:UTC
DTSTART:20170101T000000
END:STANDARD
END:VTIMEZONE
BEGIN:VEVENT
DTSTART;TZID=UTC:20171117T093000
DTEND;TZID=UTC:20171117T103000
DTSTAMP:20260423T220350
CREATED:20171024T112508Z
LAST-MODIFIED:20171024T112508Z
UID:17390-1510911000-1510914600@www.mancomunidadlavega.es
SUMMARY:Taller espectáculo multicultural. Jacarilla
DESCRIPTION:+ Info. https://www.mancomunidadlavega.es/tramites/talleres-espectaculos/
URL:https://www.mancomunidadlavega.es/event/taller-espectaculo-multicultural-jacarilla/
LOCATION:CEIP Virgen de Belén. Jacarilla\, Alicante\, 03310\, España
CATEGORIES:Extranjeros,Infancia y Familia,Jacarilla,Jóvenes,Mujer,Otros Colectivos
GEO:38.0442598;-0.8436885
END:VEVENT
END:VCALENDAR