BEGIN:VCALENDAR
VERSION:2.0
PRODID:-//Mancomunidad la vega - ECPv6.11.2//NONSGML v1.0//EN
CALSCALE:GREGORIAN
METHOD:PUBLISH
X-ORIGINAL-URL:https://www.mancomunidadlavega.es
X-WR-CALDESC:Eventos para Mancomunidad la vega
REFRESH-INTERVAL;VALUE=DURATION:PT1H
X-Robots-Tag:noindex
X-PUBLISHED-TTL:PT1H
BEGIN:VTIMEZONE
TZID:UTC
BEGIN:STANDARD
TZOFFSETFROM:+0000
TZOFFSETTO:+0000
TZNAME:UTC
DTSTART:20170101T000000
END:STANDARD
END:VTIMEZONE
BEGIN:VEVENT
DTSTART;TZID=UTC:20171102T090000
DTEND;TZID=UTC:20171102T140000
DTSTAMP:20260423T220347
CREATED:20171017T123050Z
LAST-MODIFIED:20241016T111857Z
UID:17119-1509613200-1509631200@www.mancomunidadlavega.es
SUMMARY:Formación mujer. Curso empoderamiento digital. San Miguel
DESCRIPTION:CURSO DE EMPODERAMIENTO DIGITAL SAN MIGUEL DE SALINAS\n \n\n\n\n\nFecha y Horario taller: Jueves 2\, viernes 3 y miércoles 8 de noviembre.\n\nHorario:  de 9:00h a 14:00h.\nLugar de realización: Servicios Sociales (Antiguo Ayuntamiento)\nCuota: Gratuito\nInscripciones: presentando la inscripción en el Ayuntamiento\nEl taller se llevará a cabo siempre que se llegue a un grupo mínimo de participantes. Plazas limitadas.
URL:https://www.mancomunidadlavega.es/event/formacion-mujer-curso-empoderamiento-digital-san-miguel/2017-11-02/
LOCATION:Servicios Sociales. San Miguel De Salinas
CATEGORIES:Algorfa,Jacarilla,Jóvenes,Mujer,Otros Colectivos,Redován,San Miguel de Salinas
END:VEVENT
END:VCALENDAR