BEGIN:VCALENDAR
VERSION:2.0
PRODID:-//Mancomunidad la vega - ECPv6.11.2//NONSGML v1.0//EN
CALSCALE:GREGORIAN
METHOD:PUBLISH
X-ORIGINAL-URL:https://www.mancomunidadlavega.es
X-WR-CALDESC:Eventos para Mancomunidad la vega
REFRESH-INTERVAL;VALUE=DURATION:PT1H
X-Robots-Tag:noindex
X-PUBLISHED-TTL:PT1H
BEGIN:VTIMEZONE
TZID:UTC
BEGIN:STANDARD
TZOFFSETFROM:+0000
TZOFFSETTO:+0000
TZNAME:UTC
DTSTART:20190101T000000
END:STANDARD
END:VTIMEZONE
BEGIN:VEVENT
DTSTART;TZID=UTC:20190617T114500
DTEND;TZID=UTC:20190617T123000
DTSTAMP:20260419T171838
CREATED:20190610T120008Z
LAST-MODIFIED:20190617T092840Z
UID:25968-1560771900-1560774600@www.mancomunidadlavega.es
SUMMARY:Talleres Antitabaco-Jacarilla
DESCRIPTION: 
URL:https://www.mancomunidadlavega.es/event/talleres-antitabaco-jacarilla/
CATEGORIES:Infancia y Familia,Jacarilla
END:VEVENT
BEGIN:VEVENT
DTSTART;TZID=UTC:20190618T200000
DTEND;TZID=UTC:20190618T210000
DTSTAMP:20260419T171838
CREATED:20190611T104347Z
LAST-MODIFIED:20190611T104347Z
UID:25891-1560888000-1560891600@www.mancomunidadlavega.es
SUMMARY:Un Gran paso de 6º a 1º ESO. Jacarilla
DESCRIPTION:Toda la info en el siguiente enlace: Taller un gran paso de 6º al IES
URL:https://www.mancomunidadlavega.es/event/un-gran-paso-de-6o-a-1o-eso-jacarilla/
LOCATION:Salón de actos del Centro Social Jacarilla
CATEGORIES:Infancia y Familia,Jacarilla
END:VEVENT
BEGIN:VEVENT
DTSTART;TZID=UTC:20190619T090000
DTEND;TZID=UTC:20190619T100000
DTSTAMP:20260419T171838
CREATED:20190610T065703Z
LAST-MODIFIED:20190610T073602Z
UID:25792-1560934800-1560938400@www.mancomunidadlavega.es
SUMMARY:Reunión padres. Vegavacaciones 2019
DESCRIPTION:La reunión informativa de padres con motivo del vegavacaciones 2019\, tendrá lugar el día 19 de junio en: \nSan Miguel de Salinas\, el CEIP Gloria Fuertes a las 9:00h. \nRedován\, Centro Social Ricardo Ruiz Poveda a las 13:00h. \nAlgorfa\, Centro Social a las 11:30h \nJacarilla\, Centro Social a las 10:30h \nToda info en: Vegavacaciones 2019
URL:https://www.mancomunidadlavega.es/event/reunion-padres-vegavacaciones-2019/
CATEGORIES:Algorfa,Infancia y Familia,Jacarilla,Redován,San Miguel de Salinas
END:VEVENT
BEGIN:VEVENT
DTSTART;TZID=UTC:20190625T090000
DTEND;TZID=UTC:20190625T210000
DTSTAMP:20260419T171838
CREATED:20190621T112742Z
LAST-MODIFIED:20190621T120102Z
UID:25989-1561453200-1561496400@www.mancomunidadlavega.es
SUMMARY:Inicio curso intensivo MAT. Redován
DESCRIPTION:Inicamos el Curso Intensivo MAT «Monitor/a de actividades de tiempo libre educativo infantil y juvenil»\, el martes 25 de junio\, en el Centro Social 3ª Edad de Redován. \n\n+Info.: https://bit.ly/2YMNW8h \n#MancomunidadlaVega #ServiciosSociales #MLV #MAT #Algorfa #Jacarilla #Redován #SanMigueldeSalinas #Monitor #Monitora #TiempoLibre \n\n 
URL:https://www.mancomunidadlavega.es/event/inicio-curso-intensivo-mat-redovan/
LOCATION:Centro Social de la Tercera Edad. Redován\, C/ Juan XXIII\, s/n\, Redován\, Alicante\, 03370\, España
CATEGORIES:Algorfa,Infancia y Familia,Jacarilla,Jóvenes,Redován,San Miguel de Salinas
GEO:38.1142082;-0.9076136
X-APPLE-STRUCTURED-LOCATION;VALUE=URI;X-ADDRESS=Centro Social de la Tercera Edad. Redován C/ Juan XXIII s/n Redován Alicante 03370 España;X-APPLE-RADIUS=500;X-TITLE=C/ Juan XXIII\, s/n:geo:-0.9076136,38.1142082
END:VEVENT
END:VCALENDAR