BEGIN:VCALENDAR
VERSION:2.0
PRODID:-//Mancomunidad la vega - ECPv6.11.2//NONSGML v1.0//EN
CALSCALE:GREGORIAN
METHOD:PUBLISH
X-WR-CALNAME:Mancomunidad la vega
X-ORIGINAL-URL:https://www.mancomunidadlavega.es
X-WR-CALDESC:Eventos para Mancomunidad la vega
REFRESH-INTERVAL;VALUE=DURATION:PT1H
X-Robots-Tag:noindex
X-PUBLISHED-TTL:PT1H
BEGIN:VTIMEZONE
TZID:UTC
BEGIN:STANDARD
TZOFFSETFROM:+0000
TZOFFSETTO:+0000
TZNAME:UTC
DTSTART:20180101T000000
END:STANDARD
END:VTIMEZONE
BEGIN:VEVENT
DTSTART;TZID=UTC:20181125T080000
DTEND;TZID=UTC:20181125T140000
DTSTAMP:20260421T032846
CREATED:20181122T122257Z
LAST-MODIFIED:20181122T122334Z
UID:24091-1543132800-1543154400@www.mancomunidadlavega.es
SUMMARY:Jornada prevención violencia de género. Una mirada integral.
DESCRIPTION:Esta edición tiene la finalidad de profundizar en la Violencia de Género desde la experiencia de diferentes agentes implicadas en su abordaje\, aprendiendo a hacer uso de los conocimientos y herramientas que nos proporcionarán. Se trata de repasar la realidad del problema y abordarlo desde distintas posiciones\, como la psicología\, trabajando con menores víctimas\, el trato mediático\, las cuestiones vitales de la hora de la denuncia ante un juzgado\, el trabajo con maltratadores y la educación emocional como herramienta de prevención de la Violencia Machista. \n+Info: Jornada Violencia de Género \n  \n 
URL:https://www.mancomunidadlavega.es/event/jornada-prevencion-violencia-de-genero-una-mirada-integral/
LOCATION:Algorfa
CATEGORIES:Algorfa,Jacarilla,Mujer,Redován,San Miguel de Salinas
END:VEVENT
END:VCALENDAR