BEGIN:VCALENDAR
VERSION:2.0
PRODID:-//Mancomunidad la vega - ECPv6.11.2//NONSGML v1.0//EN
CALSCALE:GREGORIAN
METHOD:PUBLISH
X-ORIGINAL-URL:https://www.mancomunidadlavega.es
X-WR-CALDESC:Eventos para Mancomunidad la vega
REFRESH-INTERVAL;VALUE=DURATION:PT1H
X-Robots-Tag:noindex
X-PUBLISHED-TTL:PT1H
BEGIN:VTIMEZONE
TZID:UTC
BEGIN:STANDARD
TZOFFSETFROM:+0000
TZOFFSETTO:+0000
TZNAME:UTC
DTSTART:20180101T000000
END:STANDARD
END:VTIMEZONE
BEGIN:VEVENT
DTSTART;TZID=UTC:20180222T080000
DTEND;TZID=UTC:20180222T170000
DTSTAMP:20260422T023717
CREATED:20180207T101841Z
LAST-MODIFIED:20180207T105430Z
UID:18316-1519286400-1519318800@www.mancomunidadlavega.es
SUMMARY:Talleres de Igualdad y Coeducación. Jacarilla
DESCRIPTION:Para Escolares de Primaria. \n 
URL:https://www.mancomunidadlavega.es/event/talleres-de-igualdad-y-coeducacion-2/2018-02-22/
LOCATION:CEIP Virgen de Belén. Jacarilla\, Alicante\, 03310\, España
CATEGORIES:Jacarilla,Jóvenes
GEO:38.0442598;-0.8436885
END:VEVENT
BEGIN:VEVENT
DTSTART;TZID=UTC:20180223T000000
DTEND;TZID=UTC:20180223T000000
DTSTAMP:20260422T023717
CREATED:20180207T104942Z
LAST-MODIFIED:20220301T141619Z
UID:18358-1519344000-1519344000@www.mancomunidadlavega.es
SUMMARY:Mesa Informativa "Desigualdad Salarial". Jacarilla
DESCRIPTION:Lugar: Mercado Municipal \nOrganiza: Asociación Cultural Jacarilla 2012
URL:https://www.mancomunidadlavega.es/event/mesa-informativa-desigualdad-salarial-jacarilla/
CATEGORIES:Jacarilla,Mujer
END:VEVENT
BEGIN:VEVENT
DTSTART;TZID=UTC:20180223T090000
DTEND;TZID=UTC:20180223T170000
DTSTAMP:20260422T023717
CREATED:20180207T104350Z
LAST-MODIFIED:20180207T105527Z
UID:18356-1519376400-1519405200@www.mancomunidadlavega.es
SUMMARY:Concurso Escolar Cartel "Cuidados"
DESCRIPTION:
URL:https://www.mancomunidadlavega.es/event/concurso-escolar-cartel-cuidados/
LOCATION:CEIP Virgen de Belén. Jacarilla\, Alicante\, 03310\, España
CATEGORIES:Jacarilla,Jóvenes
GEO:38.0442598;-0.8436885
END:VEVENT
BEGIN:VEVENT
DTSTART;TZID=UTC:20180224T190000
DTEND;TZID=UTC:20180224T200000
DTSTAMP:20260422T023717
CREATED:20180207T105954Z
LAST-MODIFIED:20180207T110039Z
UID:18375-1519498800-1519502400@www.mancomunidadlavega.es
SUMMARY:Presentación teatralizada del libro "Generación del 26".Jacarilla
DESCRIPTION:Lugar: Centro Social \nOrganiza: Asociación Mujeres por Mujeres
URL:https://www.mancomunidadlavega.es/event/presentacion-teatralizada-del-libro-generacion-del-26/
LOCATION:Centro Social Tercera Edad Jacarilla\, Plaza de España\, 1\, Jacarilla\, Alicante\, 03310\, España
CATEGORIES:Jacarilla,Mujer
GEO:38.0777316;-0.8377238
X-APPLE-STRUCTURED-LOCATION;VALUE=URI;X-ADDRESS=Centro Social Tercera Edad Jacarilla Plaza de España 1 Jacarilla Alicante 03310 España;X-APPLE-RADIUS=500;X-TITLE=Plaza de España\, 1:geo:-0.8377238,38.0777316
END:VEVENT
BEGIN:VEVENT
DTSTART;TZID=UTC:20180225T160000
DTEND;TZID=UTC:20180225T190000
DTSTAMP:20260422T023717
CREATED:20180207T110755Z
LAST-MODIFIED:20180207T110922Z
UID:18378-1519574400-1519585200@www.mancomunidadlavega.es
SUMMARY:Exposición Mujres Lyceum Club Femenino. Jacarilla
DESCRIPTION:Organiza: Asociación Cultural Jacarilla 2012
URL:https://www.mancomunidadlavega.es/event/exposicion-mujres-lyceum-club-femenino-jacarilla/2018-02-25/
LOCATION:Centro Social Tercera Edad Jacarilla\, Plaza de España\, 1\, Jacarilla\, Alicante\, 03310\, España
CATEGORIES:Jacarilla,Mujer
GEO:38.0777316;-0.8377238
X-APPLE-STRUCTURED-LOCATION;VALUE=URI;X-ADDRESS=Centro Social Tercera Edad Jacarilla Plaza de España 1 Jacarilla Alicante 03310 España;X-APPLE-RADIUS=500;X-TITLE=Plaza de España\, 1:geo:-0.8377238,38.0777316
END:VEVENT
BEGIN:VEVENT
DTSTART;TZID=UTC:20180228T180000
DTEND;TZID=UTC:20180228T193000
DTSTAMP:20260422T023717
CREATED:20180207T111125Z
LAST-MODIFIED:20180215T130744Z
UID:18392-1519840800-1519846200@www.mancomunidadlavega.es
SUMMARY:Grupo de Apoyo Bienestar Emocional. Jacarilla
DESCRIPTION:  \n+info.  en http://xurl.es/ogscd \nPonente: Sofía Cerezo. Psicóloga MLV
URL:https://www.mancomunidadlavega.es/event/grupo-de-apoyo-bienestar-emocional-jacarilla/2018-02-28/
LOCATION:Salón de actos del Centro Social Jacarilla
CATEGORIES:Jacarilla,Mujer
END:VEVENT
END:VCALENDAR