BEGIN:VCALENDAR
VERSION:2.0
PRODID:-//Mancomunidad la vega - ECPv6.11.2//NONSGML v1.0//EN
CALSCALE:GREGORIAN
METHOD:PUBLISH
X-ORIGINAL-URL:https://www.mancomunidadlavega.es
X-WR-CALDESC:Eventos para Mancomunidad la vega
REFRESH-INTERVAL;VALUE=DURATION:PT1H
X-Robots-Tag:noindex
X-PUBLISHED-TTL:PT1H
BEGIN:VTIMEZONE
TZID:UTC
BEGIN:STANDARD
TZOFFSETFROM:+0000
TZOFFSETTO:+0000
TZNAME:UTC
DTSTART:20220101T000000
END:STANDARD
END:VTIMEZONE
BEGIN:VEVENT
DTSTART;TZID=UTC:20220301T090000
DTEND;TZID=UTC:20220301T123000
DTSTAMP:20260421T174957
CREATED:20220303T123649Z
LAST-MODIFIED:20220303T124427Z
UID:38103-1646125200-1646137800@www.mancomunidadlavega.es
SUMMARY:Taller Educando en Valores. Algorfa
DESCRIPTION:Taller Educando en Valores. \nHorario escolar de marzo a mayo. \nVer todas las actividades del 8 de marzo: Actividades 8 de marzo \n+Info.: Educando en Valores \n 
URL:https://www.mancomunidadlavega.es/event/taller-educando-en-valores-algorfa-3/
LOCATION:CEIP MIGUEL DE CERVANTES. ALGORFA\, C/ MIGUEL HERNÁNDEZ\, 1\, Algorfa\, Alicante\, 03169\, España
CATEGORIES:Algorfa,Infancia y Familia
GEO:38.0849165;-0.7966752
X-APPLE-STRUCTURED-LOCATION;VALUE=URI;X-ADDRESS=CEIP MIGUEL DE CERVANTES. ALGORFA C/ MIGUEL HERNÁNDEZ 1 Algorfa Alicante 03169 España;X-APPLE-RADIUS=500;X-TITLE=C/ MIGUEL HERNÁNDEZ\, 1:geo:-0.7966752,38.0849165
END:VEVENT
BEGIN:VEVENT
DTSTART;TZID=UTC:20220302T091500
DTEND;TZID=UTC:20220302T120000
DTSTAMP:20260421T174957
CREATED:20220301T095140Z
LAST-MODIFIED:20220301T101347Z
UID:37580-1646212500-1646222400@www.mancomunidadlavega.es
SUMMARY:Educando en valores. San Miguel
DESCRIPTION:CEIP: Miguel de Cervantes. \nHorario escolar de marzo a mayo. \nVer todas las actividades del 8 de marzo: Actividades 8 de marzo \n+Info.: Educando en Valores
URL:https://www.mancomunidadlavega.es/event/educando-en-valores-san-miguel-2/
LOCATION:CEIP GLORIA FUERTES. San Miguel de Salinas\, Calle Miguel García Galant\, 5\, San Miguel de Salinas\, Alicante\, 03193\, España
CATEGORIES:Infancia y Familia,San Miguel de Salinas
GEO:37.9799854;-0.791675
X-APPLE-STRUCTURED-LOCATION;VALUE=URI;X-ADDRESS=CEIP GLORIA FUERTES. San Miguel de Salinas Calle Miguel García Galant 5 San Miguel de Salinas Alicante 03193 España;X-APPLE-RADIUS=500;X-TITLE=Calle Miguel García Galant\, 5:geo:-0.791675,37.9799854
END:VEVENT
BEGIN:VEVENT
DTSTART;TZID=UTC:20220302T093000
DTEND;TZID=UTC:20220302T110000
DTSTAMP:20260421T174957
CREATED:20220222T220337Z
LAST-MODIFIED:20220222T220337Z
UID:36822-1646213400-1646218800@www.mancomunidadlavega.es
SUMMARY:Taller Conecta
DESCRIPTION:Servicio de Prevención e Intervención con Familias \nSan Miguel de Salinas
URL:https://www.mancomunidadlavega.es/event/taller-conecta/
CATEGORIES:Infancia y Familia,San Miguel de Salinas
END:VEVENT
BEGIN:VEVENT
DTSTART;TZID=UTC:20220302T153000
DTEND;TZID=UTC:20220302T170000
DTSTAMP:20260421T174957
CREATED:20220309T074833Z
LAST-MODIFIED:20220309T074833Z
UID:39054-1646235000-1646240400@www.mancomunidadlavega.es
SUMMARY:Taller patinaje. Algorfa
DESCRIPTION:La Vega Joven organiza conjuntamente con el Ayuntamiento de Redován\, el Ayuntamiento de Algorfa y Jacarilla Ayuntamiento un amplio programa de actividades extraescolares para los próximos meses.\n\n\n ciencia divertida\n\n\n multideporte\n\n\n robótica\n\n\n drones e impresión 3D\n\n\n patinaje\n\n\n english club\nToda la información en: https://www.mancomunidadlavega.es/tramites/talleres-extraescolares/\n\n\n#infancia #juventud #MancomunidadlaVega #algorfa #jacarilla #redován\n\n 
URL:https://www.mancomunidadlavega.es/event/talleres-extraescolares-algorfa-3-2/2022-03-02/
CATEGORIES:Algorfa,Infancia y Familia
END:VEVENT
BEGIN:VEVENT
DTSTART;TZID=UTC:20220302T160000
DTEND;TZID=UTC:20220302T190000
DTSTAMP:20260421T174957
CREATED:20220309T075041Z
LAST-MODIFIED:20220309T075041Z
UID:39080-1646236800-1646247600@www.mancomunidadlavega.es
SUMMARY:Taller english club. Algorfa
DESCRIPTION:La Vega Joven organiza conjuntamente con el Ayuntamiento de Redován\, el Ayuntamiento de Algorfa y Jacarilla Ayuntamiento un amplio programa de actividades extraescolares para los próximos meses.\n\n\n ciencia divertida\n\n\n multideporte\n\n\n robótica\n\n\n drones e impresión 3D\n\n\n patinaje\n\n\n english club\nToda la información en: https://www.mancomunidadlavega.es/tramites/talleres-extraescolares/\n\n\n#infancia #juventud #MancomunidadlaVega #algorfa #jacarilla #redován\n\n 
URL:https://www.mancomunidadlavega.es/event/talleres-extraescolares-algorfa-3-2-2/2022-03-02/
CATEGORIES:Algorfa,Infancia y Familia
END:VEVENT
BEGIN:VEVENT
DTSTART;TZID=UTC:20220302T163000
DTEND;TZID=UTC:20220302T173000
DTSTAMP:20260421T174957
CREATED:20220309T081421Z
LAST-MODIFIED:20220309T081500Z
UID:39216-1646238600-1646242200@www.mancomunidadlavega.es
SUMMARY:Taller ciencia divertida. Rincón de Redován
DESCRIPTION:La Vega Joven organiza conjuntamente con el Ayuntamiento de Redován\, el Ayuntamiento de Algorfa y Jacarilla Ayuntamiento un amplio programa de actividades extraescolares para los próximos meses.\n\n\n ciencia divertida\n\n\n multideporte\n\n\n robótica\n\n\n drones e impresión 3D\n\n\n patinaje\n\n\n english club\nToda la información en: https://www.mancomunidadlavega.es/tramites/talleres-extraescolares/\n\n\n#infancia #juventud #MancomunidadlaVega #algorfa #jacarilla #redován\n\n 
URL:https://www.mancomunidadlavega.es/event/taller-ciencia-divertida-rincon-de-redovan/2022-03-02/
CATEGORIES:Infancia y Familia,Redován
END:VEVENT
BEGIN:VEVENT
DTSTART;TZID=UTC:20220302T163000
DTEND;TZID=UTC:20220302T173000
DTSTAMP:20260421T174957
CREATED:20220309T081700Z
LAST-MODIFIED:20220309T081700Z
UID:39299-1646238600-1646242200@www.mancomunidadlavega.es
SUMMARY:Taller multideporte. Rincón de Redován
DESCRIPTION:La Vega Joven organiza conjuntamente con el Ayuntamiento de Redován\, el Ayuntamiento de Algorfa y Jacarilla Ayuntamiento un amplio programa de actividades extraescolares para los próximos meses.\n\n\n ciencia divertida\n\n\n multideporte\n\n\n robótica\n\n\n drones e impresión 3D\n\n\n patinaje\n\n\n english club\nToda la información en: https://www.mancomunidadlavega.es/tramites/talleres-extraescolares/\n\n\n#infancia #juventud #MancomunidadlaVega #algorfa #jacarilla #redován\n\n 
URL:https://www.mancomunidadlavega.es/event/taller-ciencia-divertida-rincon-de-redovan-2/2022-03-02/
CATEGORIES:Infancia y Familia,Redován
END:VEVENT
BEGIN:VEVENT
DTSTART;TZID=UTC:20220302T163000
DTEND;TZID=UTC:20220302T173000
DTSTAMP:20260421T174957
CREATED:20220309T081827Z
LAST-MODIFIED:20220309T081842Z
UID:39313-1646238600-1646242200@www.mancomunidadlavega.es
SUMMARY:Taller multideporte. San Carlos Redován
DESCRIPTION:La Vega Joven organiza conjuntamente con el Ayuntamiento de Redován\, el Ayuntamiento de Algorfa y Jacarilla Ayuntamiento un amplio programa de actividades extraescolares para los próximos meses.\n\n\n ciencia divertida\n\n\n multideporte\n\n\n robótica\n\n\n drones e impresión 3D\n\n\n patinaje\n\n\n english club\nToda la información en: https://www.mancomunidadlavega.es/tramites/talleres-extraescolares/\n\n\n#infancia #juventud #MancomunidadlaVega #algorfa #jacarilla #redován\n\n 
URL:https://www.mancomunidadlavega.es/event/taller-multideporte-san-carlos-redovan/2022-03-02/
CATEGORIES:Infancia y Familia,Redován
END:VEVENT
BEGIN:VEVENT
DTSTART;TZID=UTC:20220302T163000
DTEND;TZID=UTC:20220302T173000
DTSTAMP:20260421T174957
CREATED:20220309T081939Z
LAST-MODIFIED:20220330T122831Z
UID:39339-1646238600-1646242200@www.mancomunidadlavega.es
SUMMARY:Taller ciencia divertida. San Carlos Redován
DESCRIPTION:La Vega Joven organiza conjuntamente con el Ayuntamiento de Redován\, el Ayuntamiento de Algorfa y Jacarilla Ayuntamiento un amplio programa de actividades extraescolares para los próximos meses.\n\n\n ciencia divertida\n\n\n multideporte\n\n\n robótica\n\n\n drones e impresión 3D\n\n\n patinaje\n\n\n english club\nToda la información en: https://www.mancomunidadlavega.es/tramites/talleres-extraescolares/\n\n\n#infancia #juventud #MancomunidadlaVega #algorfa #jacarilla #redován\n\n 
URL:https://www.mancomunidadlavega.es/event/taller-multideporte-san-carlos-redovan-2/2022-03-02/
CATEGORIES:Infancia y Familia,Jóvenes,Redován
END:VEVENT
BEGIN:VEVENT
DTSTART;TZID=UTC:20220302T170000
DTEND;TZID=UTC:20220302T183000
DTSTAMP:20260421T174957
CREATED:20220309T080854Z
LAST-MODIFIED:20220309T080854Z
UID:39190-1646240400-1646245800@www.mancomunidadlavega.es
SUMMARY:Taller patinaje. Jacarilla
DESCRIPTION:La Vega Joven organiza conjuntamente con el Ayuntamiento de Redován\, el Ayuntamiento de Algorfa y Jacarilla Ayuntamiento un amplio programa de actividades extraescolares para los próximos meses.\n\n\n ciencia divertida\n\n\n multideporte\n\n\n robótica\n\n\n drones e impresión 3D\n\n\n patinaje\n\n\n english club\nToda la información en: https://www.mancomunidadlavega.es/tramites/talleres-extraescolares/\n\n\n#infancia #juventud #MancomunidadlaVega #algorfa #jacarilla #redován\n\n 
URL:https://www.mancomunidadlavega.es/event/taller-robotica-jacarilla-2-2-2/2022-03-02/
CATEGORIES:Infancia y Familia,Jacarilla
END:VEVENT
BEGIN:VEVENT
DTSTART;TZID=UTC:20220304T093000
DTEND;TZID=UTC:20220304T110000
DTSTAMP:20260421T174957
CREATED:20220303T121650Z
LAST-MODIFIED:20220303T121650Z
UID:38089-1646386200-1646391600@www.mancomunidadlavega.es
SUMMARY:Taller Educando en Valores. Jacarilla
DESCRIPTION:Taller Educando en Valores.\n \nCEIP VIRGEN DE BELÉN \nHorario escolar de marzo a mayo. \nVer todas las actividades del 8 de marzo: Actividades 8 de marzo \n+Info.: Educando en Valores \n 
URL:https://www.mancomunidadlavega.es/event/taller-educando-en-valores-jacarilla-3-2/
LOCATION:CEIP Virgen de Belén. Jacarilla\, Alicante\, 03310\, España
CATEGORIES:Infancia y Familia,Jacarilla
GEO:38.0442598;-0.8436885
END:VEVENT
BEGIN:VEVENT
DTSTART;TZID=UTC:20220304T120000
DTEND;TZID=UTC:20220304T133000
DTSTAMP:20260421T174957
CREATED:20220301T095848Z
LAST-MODIFIED:20220301T101441Z
UID:37584-1646395200-1646400600@www.mancomunidadlavega.es
SUMMARY:Educando en valores. San Miguel
DESCRIPTION:CEIP: Miguel de Cervantes. \nHorario escolar de marzo a mayo. \nVer todas las actividades del 8 de marzo: Actividades 8 de marzo \n+Info.: Educando en Valores
URL:https://www.mancomunidadlavega.es/event/educando-en-valores-san-miguel-2-2/
LOCATION:CEIP GLORIA FUERTES. San Miguel de Salinas\, Calle Miguel García Galant\, 5\, San Miguel de Salinas\, Alicante\, 03193\, España
CATEGORIES:Infancia y Familia,San Miguel de Salinas
GEO:37.9799854;-0.791675
X-APPLE-STRUCTURED-LOCATION;VALUE=URI;X-ADDRESS=CEIP GLORIA FUERTES. San Miguel de Salinas Calle Miguel García Galant 5 San Miguel de Salinas Alicante 03193 España;X-APPLE-RADIUS=500;X-TITLE=Calle Miguel García Galant\, 5:geo:-0.791675,37.9799854
END:VEVENT
BEGIN:VEVENT
DTSTART;TZID=UTC:20220305T100000
DTEND;TZID=UTC:20220305T113000
DTSTAMP:20260421T174957
CREATED:20220309T073725Z
LAST-MODIFIED:20220309T080418Z
UID:38929-1646474400-1646479800@www.mancomunidadlavega.es
SUMMARY:Taller robótica. Jacarilla
DESCRIPTION:La Vega Joven organiza conjuntamente con el Ayuntamiento de Redován\, el Ayuntamiento de Algorfa y Jacarilla Ayuntamiento un amplio programa de actividades extraescolares para los próximos meses.\n\n\n ciencia divertida\n\n\n multideporte\n\n\n robótica\n\n\n drones e impresión 3D\n\n\n patinaje\n\n\n english club\nToda la información en: https://www.mancomunidadlavega.es/tramites/talleres-extraescolares/\n\n\n#infancia #juventud #MancomunidadlaVega #algorfa #jacarilla #redován\n\n 
URL:https://www.mancomunidadlavega.es/event/taller-robotica-jacarilla/2022-03-05/
CATEGORIES:Infancia y Familia,Jacarilla
END:VEVENT
BEGIN:VEVENT
DTSTART;TZID=UTC:20220305T100000
DTEND;TZID=UTC:20220305T113000
DTSTAMP:20260421T174957
CREATED:20220309T074713Z
LAST-MODIFIED:20220309T074713Z
UID:39040-1646474400-1646479800@www.mancomunidadlavega.es
SUMMARY:Taller ciencia divertida. Algorfa
DESCRIPTION:La Vega Joven organiza conjuntamente con el Ayuntamiento de Redován\, el Ayuntamiento de Algorfa y Jacarilla Ayuntamiento un amplio programa de actividades extraescolares para los próximos meses.\n\n\n ciencia divertida\n\n\n multideporte\n\n\n robótica\n\n\n drones e impresión 3D\n\n\n patinaje\n\n\n english club\nToda la información en: https://www.mancomunidadlavega.es/tramites/talleres-extraescolares/\n\n\n#infancia #juventud #MancomunidadlaVega #algorfa #jacarilla #redován\n\n 
URL:https://www.mancomunidadlavega.es/event/talleres-extraescolares-algorfa-3/2022-03-05/
CATEGORIES:Algorfa,Infancia y Familia
END:VEVENT
BEGIN:VEVENT
DTSTART;TZID=UTC:20220305T100000
DTEND;TZID=UTC:20220305T113000
DTSTAMP:20260421T174957
CREATED:20220309T080034Z
LAST-MODIFIED:20220309T080047Z
UID:39121-1646474400-1646479800@www.mancomunidadlavega.es
SUMMARY:Taller robótica. Algorfa
DESCRIPTION:La Vega Joven organiza conjuntamente con el Ayuntamiento de Redován\, el Ayuntamiento de Algorfa y Jacarilla Ayuntamiento un amplio programa de actividades extraescolares para los próximos meses.\n\n\n ciencia divertida\n\n\n multideporte\n\n\n robótica\n\n\n drones e impresión 3D\n\n\n patinaje\n\n\n english club\nToda la información en: https://www.mancomunidadlavega.es/tramites/talleres-extraescolares/\n\n\n#infancia #juventud #MancomunidadlaVega #algorfa #jacarilla #redován\n\n 
URL:https://www.mancomunidadlavega.es/event/taller-robotica-algorfa/2022-03-05/
CATEGORIES:Algorfa,Infancia y Familia
END:VEVENT
BEGIN:VEVENT
DTSTART;TZID=UTC:20220305T100000
DTEND;TZID=UTC:20220305T113000
DTSTAMP:20260421T174957
CREATED:20220309T080759Z
LAST-MODIFIED:20220330T122637Z
UID:39176-1646474400-1646479800@www.mancomunidadlavega.es
SUMMARY:Taller ciencia divertida. Jacarilla
DESCRIPTION:La Vega Joven organiza conjuntamente con el Ayuntamiento de Redován\, el Ayuntamiento de Algorfa y Jacarilla Ayuntamiento un amplio programa de actividades extraescolares para los próximos meses.\n\n\n ciencia divertida\n\n\n multideporte\n\n\n robótica\n\n\n drones e impresión 3D\n\n\n patinaje\n\n\n english club\nToda la información en: https://www.mancomunidadlavega.es/tramites/talleres-extraescolares/\n\n\n#infancia #juventud #MancomunidadlaVega #algorfa #jacarilla #redován\n\n 
URL:https://www.mancomunidadlavega.es/event/taller-robotica-jacarilla-2-2/2022-03-05/
CATEGORIES:Infancia y Familia,Jacarilla,Jóvenes
END:VEVENT
BEGIN:VEVENT
DTSTART;TZID=UTC:20220305T113000
DTEND;TZID=UTC:20220305T130000
DTSTAMP:20260421T174957
CREATED:20220309T074320Z
LAST-MODIFIED:20220309T074320Z
UID:39002-1646479800-1646485200@www.mancomunidadlavega.es
SUMMARY:Taller drones. Algorfa
DESCRIPTION:La Vega Joven organiza conjuntamente con el Ayuntamiento de Redován\, el Ayuntamiento de Algorfa y Jacarilla Ayuntamiento un amplio programa de actividades extraescolares para los próximos meses.\n\n\n ciencia divertida\n\n\n multideporte\n\n\n robótica\n\n\n drones e impresión 3D\n\n\n patinaje\n\n\n english club\nToda la información en: https://www.mancomunidadlavega.es/tramites/talleres-extraescolares/\n\n\n#infancia #juventud #MancomunidadlaVega #algorfa #jacarilla #redován\n\n 
URL:https://www.mancomunidadlavega.es/event/talleres-extraescolares-algorfa-2/2022-03-05/
CATEGORIES:Algorfa,Infancia y Familia
END:VEVENT
BEGIN:VEVENT
DTSTART;TZID=UTC:20220305T113000
DTEND;TZID=UTC:20220305T130000
DTSTAMP:20260421T174957
CREATED:20220309T080705Z
LAST-MODIFIED:20220309T080705Z
UID:39162-1646479800-1646485200@www.mancomunidadlavega.es
SUMMARY:Taller drones. Jacarilla
DESCRIPTION:La Vega Joven organiza conjuntamente con el Ayuntamiento de Redován\, el Ayuntamiento de Algorfa y Jacarilla Ayuntamiento un amplio programa de actividades extraescolares para los próximos meses.\n\n\n ciencia divertida\n\n\n multideporte\n\n\n robótica\n\n\n drones e impresión 3D\n\n\n patinaje\n\n\n english club\nToda la información en: https://www.mancomunidadlavega.es/tramites/talleres-extraescolares/\n\n\n#infancia #juventud #MancomunidadlaVega #algorfa #jacarilla #redován\n\n 
URL:https://www.mancomunidadlavega.es/event/taller-robotica-jacarilla-2/2022-03-05/
CATEGORIES:Infancia y Familia,Jacarilla
END:VEVENT
END:VCALENDAR