BEGIN:VCALENDAR
VERSION:2.0
PRODID:-//Mancomunidad la vega - ECPv6.11.2//NONSGML v1.0//EN
CALSCALE:GREGORIAN
METHOD:PUBLISH
X-ORIGINAL-URL:https://www.mancomunidadlavega.es
X-WR-CALDESC:Eventos para Mancomunidad la vega
REFRESH-INTERVAL;VALUE=DURATION:PT1H
X-Robots-Tag:noindex
X-PUBLISHED-TTL:PT1H
BEGIN:VTIMEZONE
TZID:UTC
BEGIN:STANDARD
TZOFFSETFROM:+0000
TZOFFSETTO:+0000
TZNAME:UTC
DTSTART:20190101T000000
END:STANDARD
END:VTIMEZONE
BEGIN:VEVENT
DTSTART;TZID=UTC:20191128T160000
DTEND;TZID=UTC:20191128T173000
DTSTAMP:20260426T022821
CREATED:20191112T124258Z
LAST-MODIFIED:20191118T135104Z
UID:27451-1574956800-1574962200@www.mancomunidadlavega.es
SUMMARY:Charla sexualidad adolescentes. Algorfa
DESCRIPTION:Redes\, sexualidad y adolescentes.\n \nTaller para trabajar la influencia de la pornografía en las relaciones sexuales de adolescentes. \nSe trata de aprender cómo\, ante una escasa o carente educación afectiva y sexual\, la pornografía se convierte en el modelo a seguir por parte de jóvenes en sus relaciones secuales y cómo esta formenta prejuicios y relaciones violentas. \nIMPARTE: Centro Mujer Torrevieja 24 horas \nMaría Rubio Serna\, psicóloga.
URL:https://www.mancomunidadlavega.es/event/charla-sexualidad-adolescentes-algorfa/
LOCATION:Servicios Sociales Redovan
CATEGORIES:Algorfa,Infancia y Familia,Mujer
END:VEVENT
BEGIN:VEVENT
DTSTART;TZID=UTC:20191128T200000
DTEND;TZID=UTC:20191128T210000
DTSTAMP:20260426T022821
CREATED:20191112T125255Z
LAST-MODIFIED:20191118T135034Z
UID:27461-1574971200-1574974800@www.mancomunidadlavega.es
SUMMARY:Charla sexualidad adolescentes. Redován
DESCRIPTION:Redes\, sexualidad y adolescentes.\n \nTaller para trabajar la influencia de la pornografía en las relaciones sexuales de adolescentes. \nSe trata de aprender cómo\, ante una escasa o carente educación afectiva y sexual\, la pornografía se convierte en el modelo a seguir por parte de jóvenes en sus relaciones secuales y cómo esta formenta prejuicios y relaciones violentas. \nIMPARTE: Centro Mujer Torrevieja 24 horas \nMaría Rubio Serna\, psicóloga.
URL:https://www.mancomunidadlavega.es/event/charla-sexualidad-adolescentes-jacarilla-2/
LOCATION:Algorfa
CATEGORIES:Infancia y Familia,Mujer,Redován
END:VEVENT
BEGIN:VEVENT
DTSTART;TZID=UTC:20191129T100000
DTEND;TZID=UTC:20191129T150000
DTSTAMP:20260426T022821
CREATED:20191202T094158Z
LAST-MODIFIED:20191203T074151Z
UID:27897-1575021600-1575039600@www.mancomunidadlavega.es
SUMMARY:Campaña recogida de alimentos. San Miguel
DESCRIPTION:Como cada año iniciamos la «Campaña recogida de alimentos» con motivo de las fiestas navideñas en San Miguel de Salinas.
URL:https://www.mancomunidadlavega.es/event/campana-recogida-de-alimentos-san-miguel/2019-11-29/
LOCATION:San Miguel de Salinas\, San Miguel de Salinas\, Alicante\, 03370\, España
CATEGORIES:Extranjeros,Infancia y Familia,Jóvenes,Mayores,Mujer,San Miguel de Salinas
GEO:38.3671062;-0.4796285
END:VEVENT
BEGIN:VEVENT
DTSTART;TZID=UTC:20191129T160000
DTEND;TZID=UTC:20191129T190000
DTSTAMP:20260426T022821
CREATED:20191112T124945Z
LAST-MODIFIED:20191118T134956Z
UID:27456-1575043200-1575054000@www.mancomunidadlavega.es
SUMMARY:Charla sexualidad adolescentes. Jacarilla
DESCRIPTION:Redes\, sexualidad y adolescentes.\n \nTaller para trabajar la influencia de la pornografía en las relaciones sexuales de adolescentes. \nSe trata de aprender cómo\, ante una escasa o carente educación afectiva y sexual\, la pornografía se convierte en el modelo a seguir por parte de jóvenes en sus relaciones secuales y cómo esta formenta prejuicios y relaciones violentas. \nIMPARTE: Centro Mujer Torrevieja 24 horas \nMaría Rubio Serna\, psicóloga. \nSarai Revuelta-San Juan Ferrández\, trabajadora social.
URL:https://www.mancomunidadlavega.es/event/charla-sexualidad-adolescentes-jacarilla/
LOCATION:Servicios Sociales Redovan
CATEGORIES:Infancia y Familia,Jacarilla,Mujer
END:VEVENT
END:VCALENDAR