BEGIN:VCALENDAR
VERSION:2.0
PRODID:-//Mancomunidad la vega - ECPv6.11.2//NONSGML v1.0//EN
CALSCALE:GREGORIAN
METHOD:PUBLISH
X-WR-CALNAME:Mancomunidad la vega
X-ORIGINAL-URL:https://www.mancomunidadlavega.es
X-WR-CALDESC:Eventos para Mancomunidad la vega
REFRESH-INTERVAL;VALUE=DURATION:PT1H
X-Robots-Tag:noindex
X-PUBLISHED-TTL:PT1H
BEGIN:VTIMEZONE
TZID:UTC
BEGIN:STANDARD
TZOFFSETFROM:+0000
TZOFFSETTO:+0000
TZNAME:UTC
DTSTART:20220101T000000
END:STANDARD
END:VTIMEZONE
BEGIN:VEVENT
DTSTART;TZID=UTC:20220919T120000
DTEND;TZID=UTC:20220919T140000
DTSTAMP:20260425T182256
CREATED:20220905T105845Z
LAST-MODIFIED:20220905T105845Z
UID:40744-1663588800-1663596000@www.mancomunidadlavega.es
SUMMARY:Taller Renta Valenciana de Inclusión. Algorfa
DESCRIPTION:Taller informativo Renta Valenciana de Inclusión. \n\n¿Qué es?\n¿A qué tipo puedo acceder?\n¿Qué documentación necesito?\n\n19  de septiembre a las 9:30h. en el Centro Social de Algorfa.
URL:https://www.mancomunidadlavega.es/event/taller-renta-valenciana-de-inclusion-algorfa-2/
LOCATION:Centro Cultural San Vicente Ferrer Jacarilla\, Algorfa
CATEGORIES:Algorfa,Diversidad Funcional,Infancia y Familia,Jóvenes,Mayores,Mujer,Otros Colectivos
GEO:38.0849165;-0.7966752
END:VEVENT
BEGIN:VEVENT
DTSTART;TZID=UTC:20220915T093000
DTEND;TZID=UTC:20220915T113000
DTSTAMP:20260425T182256
CREATED:20220905T111342Z
LAST-MODIFIED:20220905T111342Z
UID:40750-1663234200-1663241400@www.mancomunidadlavega.es
SUMMARY:Taller Renta Valenciana de Inclusión. Redován
DESCRIPTION:Taller informativo Renta Valenciana de Inclusión. \n\n¿Qué es?\n¿A qué tipo puedo acceder?\n¿Qué documentación necesito?\n\nJueves 15 de septiembre a las 9:30h. en el Salón de Actos del Centro Social 3ª EDAD
URL:https://www.mancomunidadlavega.es/event/taller-renta-valenciana-de-inclusion-redovan-2-2/
LOCATION:Centro Social de la Tercera Edad. Redován\, C/ Juan XXIII\, s/n\, Redován\, Alicante\, 03370\, España
CATEGORIES:Diversidad Funcional,Infancia y Familia,Jóvenes,Mayores,Mujer,Otros Colectivos,Redován
GEO:38.1142082;-0.9076136
X-APPLE-STRUCTURED-LOCATION;VALUE=URI;X-ADDRESS=Centro Social de la Tercera Edad. Redován C/ Juan XXIII s/n Redován Alicante 03370 España;X-APPLE-RADIUS=500;X-TITLE=C/ Juan XXIII\, s/n:geo:-0.9076136,38.1142082
END:VEVENT
BEGIN:VEVENT
DTSTART;TZID=UTC:20220913T120000
DTEND;TZID=UTC:20220913T140000
DTSTAMP:20260425T182256
CREATED:20220905T110832Z
LAST-MODIFIED:20220905T110905Z
UID:40747-1663070400-1663077600@www.mancomunidadlavega.es
SUMMARY:Taller Renta Valenciana de Inclusión. Jacarilla
DESCRIPTION:Taller informativo Renta Valenciana de Inclusión. \n\n¿Qué es?\n¿A qué tipo puedo acceder?\n¿Qué documentación necesito?\n\n13  de septiembre a las 12:00h. en el Centro Social de Jacarilla.
URL:https://www.mancomunidadlavega.es/event/taller-renta-valenciana-de-inclusion-jacarilla-2/
LOCATION:Salón de actos del Centro Social Jacarilla
CATEGORIES:Diversidad Funcional,Infancia y Familia,Jacarilla,Jóvenes,Mayores,Mujer,Otros Colectivos
END:VEVENT
BEGIN:VEVENT
DTSTART;VALUE=DATE:20220812
DTEND;VALUE=DATE:20220813
DTSTAMP:20260425T182256
CREATED:20221028T111139Z
LAST-MODIFIED:20221028T112105Z
UID:42938-1660262400-1660348799@www.mancomunidadlavega.es
SUMMARY:Día Internacional de la juventud.
DESCRIPTION:12 de agosto\, Día Internacional de la Juventud\,\ndesde la Organización de las Naciones Unidas\, con el lema «Solidaridad Intergeneracional»\,\nnos  recuerda que el mundo necesita aprovechar el potencial de todas las generaciones.\n\nPor eso\, se debe colaborar para fomentar relaciones y asociaciones intergeneracionales exitosas\ny equitativas para garantizar que «nadie se quede atrás».\n\n\n\n\n\n\n\n  \n 
URL:https://www.mancomunidadlavega.es/event/al-cole-de-mayores-algorfa-2-2-2/
LOCATION:Sede Mancomunidad\, Plaza del Ayuntamiento 4\, Redován\, Alicante\, 03370\, España
CATEGORIES:Algorfa,Extranjeros,Infancia y Familia,Jacarilla,Jóvenes,Redován,San Miguel de Salinas
GEO:38.1137441;-0.9052296
X-APPLE-STRUCTURED-LOCATION;VALUE=URI;X-ADDRESS=Sede Mancomunidad Plaza del Ayuntamiento 4 Redován Alicante 03370 España;X-APPLE-RADIUS=500;X-TITLE=Plaza del Ayuntamiento 4:geo:-0.9052296,38.1137441
END:VEVENT
BEGIN:VEVENT
DTSTART;TZID=UTC:20220620T170000
DTEND;TZID=UTC:20220620T180000
DTSTAMP:20260425T182256
CREATED:20220613T081824Z
LAST-MODIFIED:20220613T081846Z
UID:40319-1655744400-1655748000@www.mancomunidadlavega.es
SUMMARY:Verano con sentido. Jacarilla
DESCRIPTION:  \n  \nTalleres #Verano con Sentido. \n\n¡VEN A DIVERTIRTE y LLENAR EL VERANO DE “SENTIDO”! CON ACTIVIDADES CREATIVAS PARA DISFRUTAR EN FAMILIA reduciendo el uso de pantallas.\n\n\nDisfruta de esta enriquecedora experiencia para conectar con el entorno\, vivir el ahora\, incorporar hábitos de higiene digital\, fomentar la creatividad y sobre todo divertirse en familia.\n\n\nRedován: lunes 13 de junio a las 17:00\, 1ª Planta Centro Social.\nAlgorfa: martes 14 de junio a las 17:00\, Casa de Juventud\, Centro Social.\nSan Miguel: miércoles 15 de junio a las 17:00. 1ª Planta del Centro Social.\nJacarilla: lunes 20 de junio a las 17:00. Parque La Pinada.\n\n\nPor un uso de tecnologías #ConSentido\n\n\n ¡Te esperamos!\n\n\n Inscripciones: 645 920 626 (UPCCA Mancomunidad la Vega)\n\n 
URL:https://www.mancomunidadlavega.es/event/verano-con-sentido-jacarilla/
LOCATION:Salón de actos del Centro Social Jacarilla
CATEGORIES:Infancia y Familia,Jóvenes,Redován
END:VEVENT
BEGIN:VEVENT
DTSTART;TZID=UTC:20220615T170000
DTEND;TZID=UTC:20220615T180000
DTSTAMP:20260425T182256
CREATED:20220613T080037Z
LAST-MODIFIED:20220715T072825Z
UID:40307-1655312400-1655316000@www.mancomunidadlavega.es
SUMMARY:Verano con sentido. San Miguel
DESCRIPTION:     \n  \n  \n  \n  \n  \n  \n  \n \n  \nTalleres #Verano con Sentido. \n\n¡VEN A DIVERTIRTE y LLENAR EL VERANO DE “SENTIDO”! CON ACTIVIDADES CREATIVAS PARA DISFRUTAR EN FAMILIA reduciendo el uso de pantallas.\n\n\nDisfruta de esta enriquecedora experiencia para conectar con el entorno\, vivir el ahora\, incorporar hábitos de higiene digital\, fomentar la creatividad y sobre todo divertirse en familia.\n\n\nRedován: lunes 13 de junio a las 17:00\, 1ª Planta Centro Social.\nAlgorfa: martes 14 de junio a las 17:00\, Casa de Juventud\, Centro Social.\nSan Miguel: miércoles 15 de junio a las 17:00. 1ª Planta del Centro Social.\nJacarilla: lunes 20 de junio a las 17:00. Parque La Pinada.\n\n\nPor un uso de tecnologías #ConSentido\n\n\n ¡Te esperamos!\n\n\n Inscripciones: 645 920 626 (UPCCA Mancomunidad la Vega)\n+Info.: Campaña Control@ ConSentido\n\n 
URL:https://www.mancomunidadlavega.es/event/verano-con-sentido-san-miguel/
LOCATION:San Miguel de Salinas\, San Miguel de Salinas\, Alicante\, 03370\, España
CATEGORIES:Infancia y Familia,Jóvenes,Redován
GEO:38.3671062;-0.4796285
END:VEVENT
BEGIN:VEVENT
DTSTART;TZID=UTC:20220614T170000
DTEND;TZID=UTC:20220614T180000
DTSTAMP:20260425T182256
CREATED:20220613T075259Z
LAST-MODIFIED:20220613T082209Z
UID:40301-1655226000-1655229600@www.mancomunidadlavega.es
SUMMARY:Verano con sentido. Algorfa
DESCRIPTION:Talleres #Verano con Sentido.\n\n\n¡VEN A DIVERTIRTE y LLENAR EL VERANO DE “SENTIDO”! CON ACTIVIDADES CREATIVAS PARA DISFRUTAR EN FAMILIA reduciendo el uso de pantallas.\n\n\nDisfruta de esta enriquecedora experiencia para conectar con el entorno\, vivir el ahora\, incorporar hábitos de higiene digital\, fomentar la creatividad y sobre todo divertirse en familia.\n\n\nRedován: lunes 13 de junio a las 17:00\, 1ª Planta Centro Social.\nAlgorfa: martes 14 de junio a las 17:00\, Casa de Juventud\, Centro Social.\nSan Miguel: miércoles 15 de junio a las 17:00. 1ª Planta del Centro Social.\nJacarilla: lunes 20 de junio a las 17:00. Parque La Pinada.\n\n\nPor un uso de tecnologías #ConSentido\n\n\n ¡Te esperamos!\n\n\n Inscripciones: 645 920 626 (UPCCA Mancomunidad la Vega)\n\n 
URL:https://www.mancomunidadlavega.es/event/verano-con-sentido-algorfa/
LOCATION:Servicios Sociales Redovan
CATEGORIES:Algorfa,Infancia y Familia,Jóvenes
END:VEVENT
BEGIN:VEVENT
DTSTART;TZID=UTC:20220613T170000
DTEND;TZID=UTC:20220613T180000
DTSTAMP:20260425T182256
CREATED:20220613T075610Z
LAST-MODIFIED:20220613T082239Z
UID:40304-1655139600-1655143200@www.mancomunidadlavega.es
SUMMARY:Verano con sentido. Redován
DESCRIPTION:  \nTalleres #Verano con Sentido. \n\n¡VEN A DIVERTIRTE y LLENAR EL VERANO DE “SENTIDO”! CON ACTIVIDADES CREATIVAS PARA DISFRUTAR EN FAMILIA reduciendo el uso de pantallas.\n\n\nDisfruta de esta enriquecedora experiencia para conectar con el entorno\, vivir el ahora\, incorporar hábitos de higiene digital\, fomentar la creatividad y sobre todo divertirse en familia.\n\n\nRedován: lunes 13 de junio a las 17:00\, 1ª Planta Centro Social.\nAlgorfa: martes 14 de junio a las 17:00\, Casa de Juventud\, Centro Social.\nSan Miguel: miércoles 15 de junio a las 17:00. 1ª Planta del Centro Social.\nJacarilla: lunes 20 de junio a las 17:00. Parque La Pinada.\n\n\nPor un uso de tecnologías #ConSentido\n\n\n ¡Te esperamos!\n\n\n Inscripciones: 645 920 626 (UPCCA Mancomunidad la Vega)\n\n 
URL:https://www.mancomunidadlavega.es/event/verano-con-sentido-redovan/
LOCATION:Algorfa
CATEGORIES:Infancia y Familia,Jóvenes,Redován
END:VEVENT
BEGIN:VEVENT
DTSTART;TZID=UTC:20220601T090000
DTEND;TZID=UTC:20220601T123000
DTSTAMP:20260425T182256
CREATED:20220303T083042Z
LAST-MODIFIED:20220303T083042Z
UID:37738-1654074000-1654086600@www.mancomunidadlavega.es
SUMMARY:Educando en valores. Redován
DESCRIPTION:CEIP: Sagrados Corazones \nHorario escolar de marzo a mayo. \nVer todas las actividades del 8 de marzo: Actividades 8 de marzo \n+Info.: Educando en Valores \n 
URL:https://www.mancomunidadlavega.es/event/educando-en-valores-redovan-3-3-2-2-2-2-2-2-2-2/
LOCATION:Jacarilla
CATEGORIES:Infancia y Familia,Redován
GEO:38.1142082;-0.9076136
END:VEVENT
BEGIN:VEVENT
DTSTART;TZID=UTC:20220531T090000
DTEND;TZID=UTC:20220531T123000
DTSTAMP:20260425T182256
CREATED:20220303T083002Z
LAST-MODIFIED:20220303T083002Z
UID:37736-1653987600-1654000200@www.mancomunidadlavega.es
SUMMARY:Educando en valores. Redován
DESCRIPTION:CEIP: Sagrados Corazones \nHorario escolar de marzo a mayo. \nVer todas las actividades del 8 de marzo: Actividades 8 de marzo \n+Info.: Educando en Valores \n 
URL:https://www.mancomunidadlavega.es/event/educando-en-valores-redovan-3-3-2-2-2-2-2-2-2/
LOCATION:Jacarilla
CATEGORIES:Infancia y Familia,Redován
GEO:38.1142082;-0.9076136
END:VEVENT
BEGIN:VEVENT
DTSTART;TZID=UTC:20220530T090000
DTEND;TZID=UTC:20220530T110000
DTSTAMP:20260425T182256
CREATED:20220303T122055Z
LAST-MODIFIED:20220303T122055Z
UID:38101-1653901200-1653908400@www.mancomunidadlavega.es
SUMMARY:Taller Educando en Valores. Jacarilla
DESCRIPTION:Taller Educando en Valores.\n \nCEIP VIRGEN DE BELÉN \nHorario escolar de marzo a mayo. \nVer todas las actividades del 8 de marzo: Actividades 8 de marzo \n+Info.: Educando en Valores \n 
URL:https://www.mancomunidadlavega.es/event/taller-educando-en-valores-jacarilla-3-2-2-2-2-2-2-2/
LOCATION:CEIP Virgen de Belén. Jacarilla\, Alicante\, 03310\, España
CATEGORIES:Infancia y Familia,Jacarilla
GEO:38.0442598;-0.8436885
END:VEVENT
BEGIN:VEVENT
DTSTART;TZID=UTC:20220528T110000
DTEND;TZID=UTC:20220528T133000
DTSTAMP:20260425T182256
CREATED:20220504T080423Z
LAST-MODIFIED:20220504T081001Z
UID:39781-1653735600-1653744600@www.mancomunidadlavega.es
SUMMARY:Sabados en familia. Gymkana. Redován
DESCRIPTION:Participa en los SÁBADOS EN FAMILIA. \n\n\n\n\n\nPlaza de los Arcos\, Redován\, a las 11:00h para disfrutar allí de la #Gynkana y demás actividades que nos han preparado desde el #EEIIA\n\n\n¡Actividad gratuita!\nInscríbete: 658757043(Sofía) 658796280 (Tamara)
URL:https://www.mancomunidadlavega.es/event/sabados-en-familia-gymkana-redovan/
LOCATION:Algorfa
CATEGORIES:Infancia y Familia,Redován
END:VEVENT
BEGIN:VEVENT
DTSTART;TZID=UTC:20220527T090000
DTEND;TZID=UTC:20220527T110000
DTSTAMP:20260425T182256
CREATED:20220301T131330Z
LAST-MODIFIED:20220301T131330Z
UID:37618-1653642000-1653649200@www.mancomunidadlavega.es
SUMMARY:Educando en valores. San Miguel
DESCRIPTION:CEIP: Miguel de Cervantes. \nHorario escolar de marzo a mayo. \nVer todas las actividades del 8 de marzo: Actividades 8 de marzo \n+Info.: Educando en Valores \n 
URL:https://www.mancomunidadlavega.es/event/educando-en-valores-san-miguel-2-2-2-2-2-2-2-2-2-2-2-2-2-2-2-2/
LOCATION:CEIP GLORIA FUERTES. San Miguel de Salinas\, Calle Miguel García Galant\, 5\, San Miguel de Salinas\, Alicante\, 03193\, España
CATEGORIES:Infancia y Familia,San Miguel de Salinas
GEO:37.9799854;-0.791675
X-APPLE-STRUCTURED-LOCATION;VALUE=URI;X-ADDRESS=CEIP GLORIA FUERTES. San Miguel de Salinas Calle Miguel García Galant 5 San Miguel de Salinas Alicante 03193 España;X-APPLE-RADIUS=500;X-TITLE=Calle Miguel García Galant\, 5:geo:-0.791675,37.9799854
END:VEVENT
BEGIN:VEVENT
DTSTART;TZID=UTC:20220526T090000
DTEND;TZID=UTC:20220526T110000
DTSTAMP:20260425T182256
CREATED:20220301T131158Z
LAST-MODIFIED:20220301T131302Z
UID:37616-1653555600-1653562800@www.mancomunidadlavega.es
SUMMARY:Educando en valores. San Miguel
DESCRIPTION:CEIP: Miguel de Cervantes. \nHorario escolar de marzo a mayo. \nVer todas las actividades del 8 de marzo: Actividades 8 de marzo \n+Info.: Educando en Valores \n 
URL:https://www.mancomunidadlavega.es/event/educando-en-valores-san-miguel-2-2-2-2-2-2-2-2-2-2-2-2-2-2-2/
LOCATION:CEIP GLORIA FUERTES. San Miguel de Salinas\, Calle Miguel García Galant\, 5\, San Miguel de Salinas\, Alicante\, 03193\, España
CATEGORIES:Infancia y Familia,San Miguel de Salinas
GEO:37.9799854;-0.791675
X-APPLE-STRUCTURED-LOCATION;VALUE=URI;X-ADDRESS=CEIP GLORIA FUERTES. San Miguel de Salinas Calle Miguel García Galant 5 San Miguel de Salinas Alicante 03193 España;X-APPLE-RADIUS=500;X-TITLE=Calle Miguel García Galant\, 5:geo:-0.791675,37.9799854
END:VEVENT
BEGIN:VEVENT
DTSTART;TZID=UTC:20220525T090000
DTEND;TZID=UTC:20220525T110000
DTSTAMP:20260425T182256
CREATED:20220301T131123Z
LAST-MODIFIED:20220301T131123Z
UID:37614-1653469200-1653476400@www.mancomunidadlavega.es
SUMMARY:Educando en valores. San Miguel
DESCRIPTION:CEIP: Miguel de Cervantes. \nHorario escolar de marzo a mayo. \nVer todas las actividades del 8 de marzo: Actividades 8 de marzo \n+Info.: Educando en Valores \n 
URL:https://www.mancomunidadlavega.es/event/educando-en-valores-san-miguel-2-2-2-2-2-2-2-2-2-2-2-2-2-2/
LOCATION:CEIP GLORIA FUERTES. San Miguel de Salinas\, Calle Miguel García Galant\, 5\, San Miguel de Salinas\, Alicante\, 03193\, España
CATEGORIES:Infancia y Familia,San Miguel de Salinas
GEO:37.9799854;-0.791675
X-APPLE-STRUCTURED-LOCATION;VALUE=URI;X-ADDRESS=CEIP GLORIA FUERTES. San Miguel de Salinas Calle Miguel García Galant 5 San Miguel de Salinas Alicante 03193 España;X-APPLE-RADIUS=500;X-TITLE=Calle Miguel García Galant\, 5:geo:-0.791675,37.9799854
END:VEVENT
BEGIN:VEVENT
DTSTART;TZID=UTC:20220523T090000
DTEND;TZID=UTC:20220523T113000
DTSTAMP:20260425T182256
CREATED:20220303T124642Z
LAST-MODIFIED:20220303T124642Z
UID:38113-1653296400-1653305400@www.mancomunidadlavega.es
SUMMARY:Taller Educando en Valores. Algorfa
DESCRIPTION:Taller Educando en Valores. \nHorario escolar de marzo a mayo. \nVer todas las actividades del 8 de marzo: Actividades 8 de marzo \n+Info.: Educando en Valores \n 
URL:https://www.mancomunidadlavega.es/event/taller-educando-en-valores-algorfa-3-3-2-2/
LOCATION:CEIP MIGUEL DE CERVANTES. ALGORFA\, C/ MIGUEL HERNÁNDEZ\, 1\, Algorfa\, Alicante\, 03169\, España
CATEGORIES:Algorfa,Infancia y Familia
GEO:38.0849165;-0.7966752
X-APPLE-STRUCTURED-LOCATION;VALUE=URI;X-ADDRESS=CEIP MIGUEL DE CERVANTES. ALGORFA C/ MIGUEL HERNÁNDEZ 1 Algorfa Alicante 03169 España;X-APPLE-RADIUS=500;X-TITLE=C/ MIGUEL HERNÁNDEZ\, 1:geo:-0.7966752,38.0849165
END:VEVENT
BEGIN:VEVENT
DTSTART;TZID=UTC:20220523T090000
DTEND;TZID=UTC:20220523T103000
DTSTAMP:20260425T182256
CREATED:20220303T124704Z
LAST-MODIFIED:20220303T124704Z
UID:38115-1653296400-1653301800@www.mancomunidadlavega.es
SUMMARY:Taller Educando en Valores. Algorfa
DESCRIPTION:Taller Educando en Valores. \nHorario escolar de marzo a mayo. \nVer todas las actividades del 8 de marzo: Actividades 8 de marzo \n+Info.: Educando en Valores \n 
URL:https://www.mancomunidadlavega.es/event/taller-educando-en-valores-algorfa-3-3-2-2-2/
LOCATION:CEIP MIGUEL DE CERVANTES. ALGORFA\, C/ MIGUEL HERNÁNDEZ\, 1\, Algorfa\, Alicante\, 03169\, España
CATEGORIES:Algorfa,Infancia y Familia
GEO:38.0849165;-0.7966752
X-APPLE-STRUCTURED-LOCATION;VALUE=URI;X-ADDRESS=CEIP MIGUEL DE CERVANTES. ALGORFA C/ MIGUEL HERNÁNDEZ 1 Algorfa Alicante 03169 España;X-APPLE-RADIUS=500;X-TITLE=C/ MIGUEL HERNÁNDEZ\, 1:geo:-0.7966752,38.0849165
END:VEVENT
BEGIN:VEVENT
DTSTART;TZID=UTC:20220521T110000
DTEND;TZID=UTC:20220521T133000
DTSTAMP:20260425T182256
CREATED:20220504T081250Z
LAST-MODIFIED:20220504T081250Z
UID:39785-1653130800-1653139800@www.mancomunidadlavega.es
SUMMARY:Sabados en familia. Gymkana. Algorfa
DESCRIPTION:Participa en los SÁBADOS EN FAMILIA. \n\n\n\n\n\nPlaza de España\, a las 11:00h para disfrutar allí de la #Gynkana y demás actividades que nos han preparado desde el #EEIIA\n\n\n¡Actividad gratuita!\nInscríbete: 658757043(Sofía) 658796280 (Tamara)
URL:https://www.mancomunidadlavega.es/event/sabados-en-familia-gymkana-algorfa/
LOCATION:Servicios Sociales Redovan
CATEGORIES:Algorfa,Infancia y Familia
END:VEVENT
BEGIN:VEVENT
DTSTART;TZID=UTC:20220521T110000
DTEND;TZID=UTC:20220521T133000
DTSTAMP:20260425T182256
CREATED:20220504T075044Z
LAST-MODIFIED:20220516T070654Z
UID:39778-1653130800-1653139800@www.mancomunidadlavega.es
SUMMARY:Sabados en familia. Gymkana. Jacarilla
DESCRIPTION:Participa en los SÁBADOS EN FAMILIA. \n\n\n\n\n\nParque de la Pinada en Jacarilla\, a las 11:00h para disfrutar allí de la #Gynkana y demás actividades que nos han preparado desde el #EEIIA\n\n\n¡Actividad gratuita!\nInscríbete: 658757043(Sofía) 658796280 (Tamara)
URL:https://www.mancomunidadlavega.es/event/sabados-en-familia-gymkana-jacarilla/
LOCATION:Salón de actos del Centro Social Jacarilla
CATEGORIES:Infancia y Familia,Jacarilla
END:VEVENT
BEGIN:VEVENT
DTSTART;TZID=UTC:20220520T090000
DTEND;TZID=UTC:20220520T133000
DTSTAMP:20260425T182256
CREATED:20220303T082917Z
LAST-MODIFIED:20220303T082941Z
UID:37734-1653037200-1653053400@www.mancomunidadlavega.es
SUMMARY:Educando en valores. Redován
DESCRIPTION:CEIP: Sagrados Corazones \nHorario escolar de marzo a mayo. \nVer todas las actividades del 8 de marzo: Actividades 8 de marzo \n+Info.: Educando en Valores \n 
URL:https://www.mancomunidadlavega.es/event/educando-en-valores-redovan-3-3-2-2-2-2-2-2/
LOCATION:Jacarilla
CATEGORIES:Infancia y Familia,Redován
GEO:38.1142082;-0.9076136
END:VEVENT
BEGIN:VEVENT
DTSTART;TZID=UTC:20220519T120000
DTEND;TZID=UTC:20220519T140000
DTSTAMP:20260425T182256
CREATED:20220303T121934Z
LAST-MODIFIED:20220303T121934Z
UID:38099-1652961600-1652968800@www.mancomunidadlavega.es
SUMMARY:Taller Educando en Valores. Jacarilla
DESCRIPTION:Taller Educando en Valores.\n \nCEIP VIRGEN DE BELÉN \nHorario escolar de marzo a mayo. \nVer todas las actividades del 8 de marzo: Actividades 8 de marzo \n+Info.: Educando en Valores \n 
URL:https://www.mancomunidadlavega.es/event/taller-educando-en-valores-jacarilla-3-2-2-2-2-2-2/
LOCATION:CEIP Virgen de Belén. Jacarilla\, Alicante\, 03310\, España
CATEGORIES:Infancia y Familia,Jacarilla
GEO:38.0442598;-0.8436885
END:VEVENT
BEGIN:VEVENT
DTSTART;TZID=UTC:20220518T160000
DTEND;TZID=UTC:20220518T173000
DTSTAMP:20260425T182256
CREATED:20220512T101916Z
LAST-MODIFIED:20220512T102012Z
UID:39849-1652889600-1652895000@www.mancomunidadlavega.es
SUMMARY:Taller online para familias. UNAF
DESCRIPTION:  \n  \n👉 Taller online para familias ¡Prevención de comportamientos violentos en el ámbito familiar! En él\, aprenderás estrategias prácticas que facilitan la convivencia y mejoran la relación con los hijos e hijas adolescentes. \n🤔 ¿Tienes dificultades para comunicarte con tus hijos/as? ¿Sientes que a veces la situación te supera? \n👫 Muchas madres y muchos padres tienen dudas sobre cómo abordar las principales cuestiones que surgen durante esta etapa. \nImpartido por la UNAF – Unión de Asociaciones Familiares\, e incluido en su programa para la prevención de conductas de riesgo en niños\, niñas y adolescentes. \n🗓️ El próximo 18 de mayo\, a las 16:00h vía Zoom. \n➡️ Inscríbete en: https://forms.gle/BEPVnYHLsgdVwJMFA \n👩‍💻+ Info. en: www.mancomunidadlavega.es \n  \n 
URL:https://www.mancomunidadlavega.es/event/taller-online-para-familias-unaf/
CATEGORIES:Algorfa,Infancia y Familia,Jacarilla,Redován,San Miguel de Salinas
END:VEVENT
BEGIN:VEVENT
DTSTART;TZID=UTC:20220518T090000
DTEND;TZID=UTC:20220518T110000
DTSTAMP:20260425T182256
CREATED:20220413T080533Z
LAST-MODIFIED:20220516T105507Z
UID:39647-1652864400-1652871600@www.mancomunidadlavega.es
SUMMARY:Punto de salud preventiva. Algorfa
DESCRIPTION:
URL:https://www.mancomunidadlavega.es/event/punto-de-salud-preventiva-algorfa/
CATEGORIES:Algorfa,Diversidad Funcional,Infancia y Familia,Mayores,Mujer,Otros Colectivos
END:VEVENT
BEGIN:VEVENT
DTSTART;TZID=UTC:20220518T090000
DTEND;TZID=UTC:20220518T110000
DTSTAMP:20260425T182256
CREATED:20220301T113824Z
LAST-MODIFIED:20220301T113824Z
UID:37612-1652864400-1652871600@www.mancomunidadlavega.es
SUMMARY:Educando en valores. San Miguel
DESCRIPTION:CEIP: Miguel de Cervantes. \nHorario escolar de marzo a mayo. \nVer todas las actividades del 8 de marzo: Actividades 8 de marzo \n+Info.: Educando en Valores \n 
URL:https://www.mancomunidadlavega.es/event/educando-en-valores-san-miguel-2-2-2-2-2-2-2-2-2-2-2-2-2/
LOCATION:CEIP GLORIA FUERTES. San Miguel de Salinas\, Calle Miguel García Galant\, 5\, San Miguel de Salinas\, Alicante\, 03193\, España
CATEGORIES:Infancia y Familia,San Miguel de Salinas
GEO:37.9799854;-0.791675
X-APPLE-STRUCTURED-LOCATION;VALUE=URI;X-ADDRESS=CEIP GLORIA FUERTES. San Miguel de Salinas Calle Miguel García Galant 5 San Miguel de Salinas Alicante 03193 España;X-APPLE-RADIUS=500;X-TITLE=Calle Miguel García Galant\, 5:geo:-0.791675,37.9799854
END:VEVENT
BEGIN:VEVENT
DTSTART;TZID=UTC:20220517T090000
DTEND;TZID=UTC:20220517T133000
DTSTAMP:20260425T182256
CREATED:20220301T131714Z
LAST-MODIFIED:20220301T131714Z
UID:37620-1652778000-1652794200@www.mancomunidadlavega.es
SUMMARY:Educando en valores. Redován
DESCRIPTION:CEIP: Sagrados Corazones \nHorario escolar de marzo a mayo. \nVer todas las actividades del 8 de marzo: Actividades 8 de marzo \n+Info.: Educando en Valores \n 
URL:https://www.mancomunidadlavega.es/event/educando-en-valores-redovan/
LOCATION:Jacarilla
CATEGORIES:Infancia y Familia,Redován
GEO:38.1142082;-0.9076136
END:VEVENT
BEGIN:VEVENT
DTSTART;TZID=UTC:20220517T090000
DTEND;TZID=UTC:20220517T113000
DTSTAMP:20260425T182256
CREATED:20220301T113800Z
LAST-MODIFIED:20220301T113800Z
UID:37610-1652778000-1652787000@www.mancomunidadlavega.es
SUMMARY:Educando en valores. San Miguel
DESCRIPTION:CEIP: Miguel de Cervantes. \nHorario escolar de marzo a mayo. \nVer todas las actividades del 8 de marzo: Actividades 8 de marzo \n+Info.: Educando en Valores \n 
URL:https://www.mancomunidadlavega.es/event/educando-en-valores-san-miguel-2-2-2-2-2-2-2-2-2-2-2-2/
LOCATION:CEIP GLORIA FUERTES. San Miguel de Salinas\, Calle Miguel García Galant\, 5\, San Miguel de Salinas\, Alicante\, 03193\, España
CATEGORIES:Infancia y Familia,San Miguel de Salinas
GEO:37.9799854;-0.791675
X-APPLE-STRUCTURED-LOCATION;VALUE=URI;X-ADDRESS=CEIP GLORIA FUERTES. San Miguel de Salinas Calle Miguel García Galant 5 San Miguel de Salinas Alicante 03193 España;X-APPLE-RADIUS=500;X-TITLE=Calle Miguel García Galant\, 5:geo:-0.791675,37.9799854
END:VEVENT
BEGIN:VEVENT
DTSTART;TZID=UTC:20220516T090000
DTEND;TZID=UTC:20220516T133000
DTSTAMP:20260425T182256
CREATED:20220302T141902Z
LAST-MODIFIED:20220302T141902Z
UID:37730-1652691600-1652707800@www.mancomunidadlavega.es
SUMMARY:Educando en valores. Redován
DESCRIPTION:CEIP: Sagrados Corazones \nHorario escolar de marzo a mayo. \nVer todas las actividades del 8 de marzo: Actividades 8 de marzo \n+Info.: Educando en Valores \n 
URL:https://www.mancomunidadlavega.es/event/educando-en-valores-redovan-3-3-2-2-2-2-2/
LOCATION:Jacarilla
CATEGORIES:Infancia y Familia,Redován
GEO:38.1142082;-0.9076136
END:VEVENT
BEGIN:VEVENT
DTSTART;VALUE=DATE:20220515
DTEND;VALUE=DATE:20220516
DTSTAMP:20260425T182256
CREATED:20220516T071420Z
LAST-MODIFIED:20220516T071420Z
UID:39882-1652572800-1652659199@www.mancomunidadlavega.es
SUMMARY:15 de mayo. Día de la familia
DESCRIPTION:Hoy 15 de mayo\, celebramos el #DíadelaFamilia compartiendo los principios de la #ParentalidadPositiva y el #BuenTrato\, desde los que se llevan a cabo las intervenciones familiares por los equipos profesionales de la Mancomunidad la Vega\n\n\n«El ejercicio de la parentalidad positiva se refiere al comportamiento de los padres y madres fundamentado en el interés superior del niño y/o la niña que cuida\, desarrolla sus capacidades\, no es violento y ofrece reconocimiento y orientación que incluyen el establecimiento de límites que permitan su pleno desarrollo”. Recomendación Rec (2006) 19 del Comité de Ministros del Council of Europe.
URL:https://www.mancomunidadlavega.es/event/15-de-mayo-dia-de-la-familia-2/
CATEGORIES:Algorfa,Infancia y Familia,Jacarilla,Redován,San Miguel de Salinas
END:VEVENT
BEGIN:VEVENT
DTSTART;TZID=UTC:20220512T160000
DTEND;TZID=UTC:20220512T180000
DTSTAMP:20260425T182256
CREATED:20220506T115818Z
LAST-MODIFIED:20220506T120237Z
UID:39821-1652371200-1652378400@www.mancomunidadlavega.es
SUMMARY:Espacios para familias. Algorfa
DESCRIPTION:Participa en los ESPACIOS PARA FAMILIAS. Algorfa\n \n\n\n\n\n\nAlgorfa. 12 de mayo a las 16:00h en Servicios Sociales.\nActividad preparada desde el #EEIIA\n\n\n¡Actividad gratuita!\nInscríbete: 658757043(Sofía) 658796280 (Tamara)
URL:https://www.mancomunidadlavega.es/event/espacios-para-familias-algorfa/
LOCATION:Servicios Sociales Redovan
CATEGORIES:Algorfa,Infancia y Familia
END:VEVENT
BEGIN:VEVENT
DTSTART;TZID=UTC:20220511T160000
DTEND;TZID=UTC:20220511T180000
DTSTAMP:20260425T182256
CREATED:20220506T120404Z
LAST-MODIFIED:20230406T064821Z
UID:39827-1652284800-1652292000@www.mancomunidadlavega.es
SUMMARY:Espacios para familias. San Miguel
DESCRIPTION:Participa en los ESPACIOS PARA FAMILIAS. San Miguel\n \n\n\n\n\n\nSan Miguel. 11 de mayo a las 16:00h en Servicios Sociales.\n\n\n¡Actividad gratuita!\nInscríbete: 658757043(Sofía) 658796280 (Tamara)
URL:https://www.mancomunidadlavega.es/event/espacios-para-familias-san-miguel/
LOCATION:San Miguel de Salinas\, San Miguel de Salinas\, Alicante\, 03370\, España
CATEGORIES:Infancia y Familia,San Miguel de Salinas
GEO:38.3671062;-0.4796285
END:VEVENT
END:VCALENDAR