BEGIN:VCALENDAR
VERSION:2.0
PRODID:-//Mancomunidad la vega - ECPv6.11.2//NONSGML v1.0//EN
CALSCALE:GREGORIAN
METHOD:PUBLISH
X-WR-CALNAME:Mancomunidad la vega
X-ORIGINAL-URL:https://www.mancomunidadlavega.es
X-WR-CALDESC:Eventos para Mancomunidad la vega
REFRESH-INTERVAL;VALUE=DURATION:PT1H
X-Robots-Tag:noindex
X-PUBLISHED-TTL:PT1H
BEGIN:VTIMEZONE
TZID:UTC
BEGIN:STANDARD
TZOFFSETFROM:+0000
TZOFFSETTO:+0000
TZNAME:UTC
DTSTART:20230101T000000
END:STANDARD
END:VTIMEZONE
BEGIN:VEVENT
DTSTART;VALUE=DATE:20230304
DTEND;VALUE=DATE:20230305
DTSTAMP:20260419T182314
CREATED:20230220T095322Z
LAST-MODIFIED:20230220T100057Z
UID:47635-1677888000-1677974399@www.mancomunidadlavega.es
SUMMARY:Excursión Pista de patinaje de Elche. Jacarilla
DESCRIPTION:Excursión gratuita a la Pista de patinaje de Elche. SALIDA: 10H AYUNTAMIENTO / LLEGADA: 14H AYUNTAMIENTO. Jacarilla. Incluye autobús y entrada a la pista de patinaje. Almuerzo no incluido. Acompañan monitores. OBLIGATORIO LLEVAR GUANTES Y 2 PARES DE CALCETINES. \n(INSCRIPCIONES EN EL AYUNTAMIENTO DEL 20 – 28 DE FEBRERO O COMPLETAR PLAZAS. DE 10 A 16 AÑOS) \n+Info : https://bit.ly/3I1F0n \n 
URL:https://www.mancomunidadlavega.es/event/excursion-pista-de-patinaje-de-elche-jacarilla/
LOCATION:Ayuntamiento de Jacarilla
CATEGORIES:Infancia y Familia,Jacarilla
END:VEVENT
BEGIN:VEVENT
DTSTART;VALUE=DATE:20230304
DTEND;VALUE=DATE:20230305
DTSTAMP:20260419T182314
CREATED:20230220T100727Z
LAST-MODIFIED:20230220T100910Z
UID:47640-1677888000-1677974399@www.mancomunidadlavega.es
SUMMARY:Excursión Pista de patinaje de Elche. Redován
DESCRIPTION:  \nExcursión gratuita a la Pista de patinaje de Elche. SALIDA: 10H DETRÁS DEL IES / LLEGADA: 14H DETRÁS DEL IES. Redován. Incluye autobús y entrada a la pista de patinaje. Almuerzo no incluido. Acompañan monitores. OBLIGATORIO LLEVAR GUANTES Y 2 PARES DE CALCETINES. \n(INSCRIPCIONES EN EL AYUNTAMIENTO DEL 20 – 28 DE FEBRERO O COMPLETAR PLAZAS. DE 10 A 16 AÑOS) \n+Info : https://bit.ly/3I1F0n \n 
URL:https://www.mancomunidadlavega.es/event/excursion-pista-de-patinaje-de-elche-redovan/
LOCATION:Redován\, Alicante\, España
CATEGORIES:Infancia y Familia,Redován
END:VEVENT
BEGIN:VEVENT
DTSTART;TZID=UTC:20230304T120000
DTEND;TZID=UTC:20230304T140000
DTSTAMP:20260419T182314
CREATED:20230221T095441Z
LAST-MODIFIED:20230303T104942Z
UID:47664-1677931200-1677938400@www.mancomunidadlavega.es
SUMMARY:Partido fútbol femenino. San Miguel
DESCRIPTION:  \nPartido femenino amistoso entre el Atlético San Miguel C.F. y Bigastro C.F. \nSábado 4 de marzo a las 12h en el campo de fútbol Montesico Blanco. \nAl término del evento paella gigante gratuita.  \nColabora Centro deportivo Team EDD. \nActividad englobada dentro del programa de actividades del 8M Día Internacional de la Mujer. \n+Info. Campaña #DESMÁRCATEDELESTEREOTIPO \n  \n  \n  \n  \n 
URL:https://www.mancomunidadlavega.es/event/partido-futbol-femenino-san-miguel/
LOCATION:San Miguel de Salinas\, San Miguel de Salinas\, Alicante\, 03370\, España
CATEGORIES:Infancia y Familia,Jóvenes,Mayores,San Miguel de Salinas
GEO:38.3671062;-0.4796285
END:VEVENT
END:VCALENDAR