BEGIN:VCALENDAR
VERSION:2.0
PRODID:-//Mancomunidad la vega - ECPv6.11.2//NONSGML v1.0//EN
CALSCALE:GREGORIAN
METHOD:PUBLISH
X-WR-CALNAME:Mancomunidad la vega
X-ORIGINAL-URL:https://www.mancomunidadlavega.es
X-WR-CALDESC:Eventos para Mancomunidad la vega
REFRESH-INTERVAL;VALUE=DURATION:PT1H
X-Robots-Tag:noindex
X-PUBLISHED-TTL:PT1H
BEGIN:VTIMEZONE
TZID:UTC
BEGIN:STANDARD
TZOFFSETFROM:+0000
TZOFFSETTO:+0000
TZNAME:UTC
DTSTART:20220101T000000
END:STANDARD
END:VTIMEZONE
BEGIN:VEVENT
DTSTART;TZID=UTC:20221128T153000
DTEND;TZID=UTC:20221128T170000
DTSTAMP:20260420T064926
CREATED:20221117T103638Z
LAST-MODIFIED:20230207T110056Z
UID:43684-1669649400-1669654800@www.mancomunidadlavega.es
SUMMARY:Taller de apoyo escolar. Redován CEIP Sagrados Corazones
DESCRIPTION: TALLERES DE APOYO ESCOLAR \nComenzamos talleres de refuerzo escolar para los cursos 1º a 6º de Primaria en el CEIP Sagrados Corazones de Redován. \nTambién se harán Juegos del Mundo y en fechas señaladas se realizarán talleres de manualidades. \nLas plazas son limitadas. \nHorario: \nDesde el 28 de noviembre al 31 de mayo de 2023 \nTodos los días\, de lunes a viernes de 15.30h a 17\,00h. \n-Los criterios de selección han sido: \n\nSer usuario/a de Servicios Sociales\nEducación compensatoria\nDerivación por parte del tutor\n\n 
URL:https://www.mancomunidadlavega.es/event/taller-de-apoyo-escolar-redovan-ceip-sagrados-corazones/2022-11-28/
LOCATION:Redován\, Alicante\, España
CATEGORIES:Infancia y Familia,Redován
END:VEVENT
BEGIN:VEVENT
DTSTART;TZID=UTC:20221128T160000
DTEND;TZID=UTC:20221128T160000
DTSTAMP:20260420T064926
CREATED:20221125T041311Z
LAST-MODIFIED:20221125T041311Z
UID:43916-1669651200-1669651200@www.mancomunidadlavega.es
SUMMARY:Navidades con Sentido. Jacarilla
DESCRIPTION:En el Taller «Navidades con Sentido”. vamos a realizar actividades que fomenten la creatividad de los más pequeños como dibujar calendarios de Adviento\, escribir las cartas a Papá Noel\, Reyes… \n\n\n\n\nLos objetivos del taller son:\n\n-Dotar a las personas participantes de recursos lúdicos y educativos que favorezcan el uso saludable de pantallas y la construcción de un ocio saludable integral.\n-Sensibilizar sobre la importancia de crear espacios y rutinas de comunicación y conexión familiar como parte de los hábitos de ocio y tiempo libre.\n-Orientar sobre cómo realizar regalos tecnológicos según la edad\, para prevenir y reducir riesgos.\n\n\n\nPor último\, conoceremos la Guía Control@ con sentido para la prevención de tecnoadicciones y fomento de ciberseguridad y otros recursos de apoyo familiar #UPCCA\n\n\n\nDirigido a padres\, madres\, abuelos\, abuelas\, otros familiares y personas educadoras de niños y niñas de todas las edades.\n\nHorario y ubicación:\n\n\nJacarilla\, 28 de noviembre – Casa de Cultura a las 17:30h.\nSan Miguel\, 29 de noviembre – CEIP Gloria Fuertes a las 15:30h.\nRedován\, 30 de noviembre – Centro Social de la Tercera Edad a las 16:00h.\nAlgorfa\, 1 de diciembre – Centro cultural San Vicente Ferrer a las 16:00h.\n\n\nINSCRIPCIONES : Raquel 645 920 626
URL:https://www.mancomunidadlavega.es/event/navidades-con-sentido-jacarilla/
LOCATION:Casa de Cultura. Jacarilla\, Jacarilla\, Alicante\, España
CATEGORIES:Infancia y Familia,Jacarilla,Mujer
GEO:37.9784386;-0.7889244
END:VEVENT
END:VCALENDAR