BEGIN:VCALENDAR
VERSION:2.0
PRODID:-//Mancomunidad la vega - ECPv6.11.2//NONSGML v1.0//EN
CALSCALE:GREGORIAN
METHOD:PUBLISH
X-ORIGINAL-URL:https://www.mancomunidadlavega.es
X-WR-CALDESC:Eventos para Mancomunidad la vega
REFRESH-INTERVAL;VALUE=DURATION:PT1H
X-Robots-Tag:noindex
X-PUBLISHED-TTL:PT1H
BEGIN:VTIMEZONE
TZID:UTC
BEGIN:STANDARD
TZOFFSETFROM:+0000
TZOFFSETTO:+0000
TZNAME:UTC
DTSTART:20210101T000000
END:STANDARD
END:VTIMEZONE
BEGIN:VEVENT
DTSTART;TZID=UTC:20210604T080000
DTEND;TZID=UTC:20210604T170000
DTSTAMP:20260423T095918
CREATED:20210604T073842Z
LAST-MODIFIED:20210604T073842Z
UID:34510-1622793600-1622826000@www.mancomunidadlavega.es
SUMMARY:Taller ON-LINE: Hij@s\,Internet y tecnologías.
DESCRIPTION:Taller ON-LINE: Hij@s\,Internet y tecnologías.\n superar el reto de supervisar\, guiar y acompañar el uso de TICs en familia.\n para padres\, madres y educador@s. ¡No te lo pierdas!\n Jueves\, 27 de mayo a las 18:00\, via zoom\n Inscribete en el siguiente enlace: https://cutt.ly/3bFmlAt\n\n\n\n#mancomunidadlavega #upcca #familia Ayuntamiento de Algorfa Ayuntamiento de Redován Ayuntamiento de San Miguel de Salinas (Alicante) Jacarilla Ayuntamiento
URL:https://www.mancomunidadlavega.es/event/taller-on-line-hijsinternet-y-tecnologias/
CATEGORIES:Algorfa,Infancia y Familia,Jacarilla,Redován,San Miguel de Salinas
END:VEVENT
END:VCALENDAR