BEGIN:VCALENDAR
VERSION:2.0
PRODID:-//Mancomunidad la vega - ECPv6.11.2//NONSGML v1.0//EN
CALSCALE:GREGORIAN
METHOD:PUBLISH
X-WR-CALNAME:Mancomunidad la vega
X-ORIGINAL-URL:https://www.mancomunidadlavega.es
X-WR-CALDESC:Eventos para Mancomunidad la vega
REFRESH-INTERVAL;VALUE=DURATION:PT1H
X-Robots-Tag:noindex
X-PUBLISHED-TTL:PT1H
BEGIN:VTIMEZONE
TZID:UTC
BEGIN:STANDARD
TZOFFSETFROM:+0000
TZOFFSETTO:+0000
TZNAME:UTC
DTSTART:20230101T000000
END:STANDARD
END:VTIMEZONE
BEGIN:VEVENT
DTSTART;TZID=UTC:20230206T153000
DTEND;TZID=UTC:20230206T173000
DTSTAMP:20260419T180126
CREATED:20230120T140046Z
LAST-MODIFIED:20230124T091509Z
UID:45393-1675697400-1675704600@www.mancomunidadlavega.es
SUMMARY:Taller de Educación Sexual para familias. Redován
DESCRIPTION:Ser padre\, madre\, tix\, primx\, abuelx… no significa saber hacer de todo.\n\n\nPreguntas como ¿de dónde vienen los bebés? o ¿qué es el sexo? no suelen ser fáciles de contestar\, por miedo\, vergüenza o porque desconocemos la mejor forma de responder.\n\n\n\nEn este taller aprenderás la mejor forma de hacer educación sexual desde la familia\, trabajando la importancia de ofrecer educación sexual en casa\, aclarando los conceptos más importantes y compartiendo diferentes herramientas para poder hacerlo en un ambiente de confianza.\n\n\nMira horario y ubicación en tu municipio:\n\nAlgorfa – 25 de enero – 17.00h. CEIP Sagrados Corazones.\nSan Miguel – 8 de febrero – 18.00h. Servicios Sociales.\nJacarilla – 30 de enero – 19.00. Centro Cultural.\nRedován – 6 de febrero – 15.30h. CEIP Sagrados Corazones.
URL:https://www.mancomunidadlavega.es/event/taller-de-educacion-sexual-para-familias-redovan/
LOCATION:Redován\, Alicante\, España
CATEGORIES:Infancia y Familia,Redován
END:VEVENT
BEGIN:VEVENT
DTSTART;TZID=UTC:20230207T160000
DTEND;TZID=UTC:20230207T173000
DTSTAMP:20260419T180126
CREATED:20230201T133309Z
LAST-MODIFIED:20230202T131606Z
UID:47003-1675785600-1675791000@www.mancomunidadlavega.es
SUMMARY:Familias Imperfectas. Jacarilla
DESCRIPTION:  \nÚNETE AL CLUB DE LAS FAMILIAS IMPERFECTAS. Ponemos en marcha un grupo de encuentro para madres/padres de niños/as de entre 6 y 11 años. Guiados por una psicóloga podréis reflexionar\, intercambiar experiencias y aprender estrategias para sentiros más seguros en su crianza. Además\, en este espacio\, los niños y niñas\, acompañados de una educadora\, potenciarán sus habilidades emocionales\, relacionales y creativas\, a través del juego y otras actividades de ocio educativo. \nImpartido por la Psicóloga y las Educadoras del Servicio de Prevención e Intervención con las Familias (SPIF). \nFECHAS Y UBICACIÓN \n\nJacarilla. Casa de la Cultura\n7 febrero de 16h a 17\,30h: Enfrentando nuestros miedos.\n7 marzo de 16h a 17\,30h: Potenciando nuestra autoestima.\n4 abril de 16h a 17\,30h: Gestionando los enfados.\n2 mayo de 16h a 17\,30h: Disfrutando del ocio en familia.\n\nMÁS INFO E INSCRIPCIONES: https://cutt.ly/y9F5hw8
URL:https://www.mancomunidadlavega.es/event/familias-imperfectas-jacarilla/
LOCATION:Casa de Cultura. Jacarilla\, Jacarilla\, Alicante\, España
CATEGORIES:Infancia y Familia,Jacarilla
GEO:37.9784386;-0.7889244
END:VEVENT
BEGIN:VEVENT
DTSTART;TZID=UTC:20230207T180000
DTEND;TZID=UTC:20230207T193000
DTSTAMP:20260419T180126
CREATED:20230202T121649Z
LAST-MODIFIED:20230202T135503Z
UID:47023-1675792800-1675798200@www.mancomunidadlavega.es
SUMMARY:Familias Imperfectas. Redován
DESCRIPTION:  \nÚNETE AL CLUB DE LAS FAMILIAS IMPERFECTAS. \nGrupo de encuentro para madres/padres de niños/as de entre 6 y 11 años.  Guiados por una psicóloga podréis reflexionar\, intercambiar experiencias y aprender estrategias para sentiros más seguros en su crianza. Además\, en este espacio\, los niños y niñas\, acompañados de una educadora\, potenciarán sus habilidades emocionales\, relacionales y creativas\, a través del juego y otras actividades de ocio educativo. \nImpartido por la Psicóloga y las Educadoras del Servicio de Prevención e Intervención con las Familias (SPIF). \nFECHAS Y UBICACIÓN \n\nRedován.Centro de la Tercera Edad\n7 febrero de 18\,00h a 19\,30h: Enfrentando nuestros miedos.\n7 marzo de 18\,00h a 19\,30h: Potenciando nuestra autoestima.\n4 abril de 18\,00h a 19\,30h: Gestionando los enfados.\n2 mayo de 18\,00h a 19\,30h: Disfrutando del ocio en familia.\n\nMÁS INFO E INSCRIPCIONES: https://cutt.ly/y9F5hw8
URL:https://www.mancomunidadlavega.es/event/familias-imperfectas-redovan/
LOCATION:Centro Social de la Tercera Edad. Redován\, C/ Juan XXIII\, s/n\, Redován\, Alicante\, 03370\, España
CATEGORIES:Infancia y Familia,Redován
GEO:38.1142082;-0.9076136
X-APPLE-STRUCTURED-LOCATION;VALUE=URI;X-ADDRESS=Centro Social de la Tercera Edad. Redován C/ Juan XXIII s/n Redován Alicante 03370 España;X-APPLE-RADIUS=500;X-TITLE=C/ Juan XXIII\, s/n:geo:-0.9076136,38.1142082
END:VEVENT
BEGIN:VEVENT
DTSTART;TZID=UTC:20230208T180000
DTEND;TZID=UTC:20230208T190000
DTSTAMP:20260419T180126
CREATED:20230120T140505Z
LAST-MODIFIED:20230124T091117Z
UID:45398-1675879200-1675882800@www.mancomunidadlavega.es
SUMMARY:Taller de Educación Sexual para familias. San Miguel
DESCRIPTION:Ser padre\, madre\, tix\, primx\, abuelx… no significa saber hacer de todo.\n\n\nPreguntas como ¿de dónde vienen los bebés? o ¿qué es el sexo? no suelen ser fáciles de contestar\, por miedo\, vergüenza o porque desconocemos la mejor forma de responder.\n\n\n\nEn este taller aprenderás la mejor forma de hacer educación sexual desde la familia\, trabajando la importancia de ofrecer educación sexual en casa\, aclarando los conceptos más importantes y compartiendo diferentes herramientas para poder hacerlo en un ambiente de confianza.\n\n\nMira horario y ubicación en tu municipio:\n\nAlgorfa – 25 de enero – 17.00h. CEIP Sagrados Corazones.\nSan Miguel – 8 de febrero – 18.00h. Servicios Sociales.\nJacarilla – 30 de enero – 19.00. Centro Cultural.\nRedován – 6 de febrero – 15.30h. CEIP Sagrados Corazones.
URL:https://www.mancomunidadlavega.es/event/taller-de-educacion-sexual-para-familias-san-miguel/
LOCATION:Servicios Sociales San Miguel
CATEGORIES:Infancia y Familia,San Miguel de Salinas
END:VEVENT
BEGIN:VEVENT
DTSTART;VALUE=DATE:20230210
DTEND;VALUE=DATE:20230211
DTSTAMP:20260419T180126
CREATED:20230222T110123Z
LAST-MODIFIED:20230223T071938Z
UID:47939-1675987200-1676073599@www.mancomunidadlavega.es
SUMMARY:Premis ParticipAcció 2022. Consejos de Infancia
DESCRIPTION:  \nPremis ParticipAcció  \n\n\n\nMuy emocionados con la entrega del premio Participa-Accion de GVA Participació al proyecto de los Consejos de Infancia en la Mancomunidad la Vega. A través de esta iniciativa queremos dar voz a los niños y niñas de nuestros municipios para que hagan propuestas de mejora en su comunidad\, generando espacios de participación y aprendizaje compartido.\n\n\nGracias por la acogida a la Directora General de Participaciòn Mariaje Pérez Galant\, a la Consellera de Participación Rosa Pérez Garijo y a la secretaria Autonómica de Atención Primaria y Servicios Sociales de GVA Igualtat i Polítiques Inclusives Irene Gavidia Mir.\n\n\n¡Enhorabuena a todas las demás entidades premiadas! Asociación Parque Lidón con Jo a Ma Casa\, Interpreta Natura\, Psicólogas y Psicólogos sin Fronteras\, Jovesolides España y Asociación QUERA y sobretodo a los niños y niñas de nuestros Consejos de Infancia.\n\n\n\n\nMás info: Premios y Reconocimientos
URL:https://www.mancomunidadlavega.es/event/premis-participaccio-2022-consejos-de-infancia/
LOCATION:Sede Mancomunidad\, Plaza del Ayuntamiento 4\, Redován\, Alicante\, 03370\, España
CATEGORIES:Algorfa,Infancia y Familia,Jacarilla,Jóvenes,Redován,San Miguel de Salinas
GEO:38.1137441;-0.9052296
X-APPLE-STRUCTURED-LOCATION;VALUE=URI;X-ADDRESS=Sede Mancomunidad Plaza del Ayuntamiento 4 Redován Alicante 03370 España;X-APPLE-RADIUS=500;X-TITLE=Plaza del Ayuntamiento 4:geo:-0.9052296,38.1137441
END:VEVENT
BEGIN:VEVENT
DTSTART;VALUE=DATE:20230213
DTEND;VALUE=DATE:20230214
DTSTAMP:20260419T180126
CREATED:20230209T134624Z
LAST-MODIFIED:20230209T134721Z
UID:47406-1676246400-1676332799@www.mancomunidadlavega.es
SUMMARY:CLIA. Consejos de infancia y adolescencia MLV. Redován
DESCRIPTION:Es un órgano de consulta y participación creado para que niñas\, niños y adolescentes de nuestros pueblos ejerzan su derecho a ser escuchados y escuchadas de forma colectiva\, en todos los temas que les importan y les afectan. Se impulsa la educación en valores que promueve la Mancomunidad la Vega:\n-Espíritu democrático.\n-Promoción de la igualdad de género.\n-Respeto a la diversidad.\n-Tolerancia a los diferentes colectivos que forman la sociedad\nAdemás\, se promueve la difusión\, conocimiento de la aplicación de los Derechos de la Infancia y la adolescencia y participar en la elaboración y seguimiento del Plan de Infancia para que las necesidades de los niños\, niñas y adolescentes sean reflejadas en él\, con los CLIA de los 4 pueblos. Dos días al mes nos reuniremos con los y las participantes de los CLIA para analizar propuestas y sugerencias sobre las actividades que se quieren realizar y qué cambios queremos proponer al Ayuntamiento para mejorar el bienestar de los niños\, niñas y adolescentes. Formamos parte del CIAM la Vega\, que es el órgano de participación infantil y adolescente de Mancomunidad la Vega\, hacemos actividades y excursiones con los CLIA de los 4 pueblos.\nCLIA Redován: Lunes 17:00h a 18:30h Centro Tercera Edad  /  CLIA San Miguel: Jueves 16:00h a 17:30h Centro Social  /  CLIA Jacarilla: Martes 16:00h a 17:30h Casa de cultura  /  CLIA Algorfa: Miércoles 16:00h a 17:30h Casa de la Juventud
URL:https://www.mancomunidadlavega.es/event/clia-consejos-de-infancia-y-adolescencia-mlv-redovan/
LOCATION:Redován\, Alicante\, España
CATEGORIES:Infancia y Familia,Redován
END:VEVENT
BEGIN:VEVENT
DTSTART;VALUE=DATE:20230214
DTEND;VALUE=DATE:20230215
DTSTAMP:20260419T180126
CREATED:20230209T135105Z
LAST-MODIFIED:20230209T135114Z
UID:47409-1676332800-1676419199@www.mancomunidadlavega.es
SUMMARY:CLIA. Consejos de infancia y adolescencia MLV. Jacarilla
DESCRIPTION:Es un órgano de consulta y participación creado para que niñas\, niños y adolescentes de nuestros pueblos ejerzan su derecho a ser escuchados y escuchadas de forma colectiva\, en todos los temas que les importan y les afectan. Se impulsa la educación en valores que promueve la Mancomunidad la Vega:\n-Espíritu democrático.\n-Promoción de la igualdad de género.\n-Respeto a la diversidad.\n-Tolerancia a los diferentes colectivos que forman la sociedad\nAdemás\, se promueve la difusión\, conocimiento de la aplicación de los Derechos de la Infancia y la adolescencia y participar en la elaboración y seguimiento del Plan de Infancia para que las necesidades de los niños\, niñas y adolescentes sean reflejadas en él\, con los CLIA de los 4 pueblos. Dos días al mes nos reuniremos con los y las participantes de los CLIA para analizar propuestas y sugerencias sobre las actividades que se quieren realizar y qué cambios queremos proponer al Ayuntamiento para mejorar el bienestar de los niños\, niñas y adolescentes. Formamos parte del CIAM la Vega\, que es el órgano de participación infantil y adolescente de Mancomunidad la Vega\, hacemos actividades y excursiones con los CLIA de los 4 pueblos.\nCLIA Redován: Lunes 17:00h a 18:30h Centro Tercera Edad  /  CLIA San Miguel: Jueves 16:00h a 17:30h Centro Social /  CLIA Jacarilla: Martes 16:00h a 17:30h Casa de cultura  /  CLIA Algorfa: Miércoles 16:00h a 17:30h Casa de la Juventud
URL:https://www.mancomunidadlavega.es/event/clia-consejos-de-infancia-y-adolescencia-mlv-jacarilla/
LOCATION:Casa de Cultura. Jacarilla\, Jacarilla\, Alicante\, España
CATEGORIES:Infancia y Familia,Jacarilla
GEO:37.9784386;-0.7889244
END:VEVENT
BEGIN:VEVENT
DTSTART;VALUE=DATE:20230214
DTEND;VALUE=DATE:20230215
DTSTAMP:20260419T180126
CREATED:20230215T105712Z
LAST-MODIFIED:20230216T083130Z
UID:47446-1676332800-1676419199@www.mancomunidadlavega.es
SUMMARY:Día Europeo Salud Sexual. Presentación Juego Brain of sex.
DESCRIPTION:Este 14 de febrero\, con motivo del Día Europeo de la Salud Sexual\, presentamos BRAIN OF SEX el juego de educación sexual donde poner a prueba el conocimiento acerca de los cuerpos\, las mentes y la realidad social de diferentes temas. \n\nBrain of sex presenta un gran universo sexual por conocer y conquistar\, una nueva concepción del mundo que nos rodea\, para que apartemos esos mitos románticos que dan tanta pereza y consigamos hacer explotar todo lo que sabemos de sexualidad.\n\n\nDiversidad\, amor\, salud\, erótica y cultura. ¿Despegamos? Aquí empieza nuestra particular odisea en el espacio de la educación sexual y la prevención de las violencias machistas ¡Al lío!\n\n\nhttps://brainofsex.es/\n\n\nDentro del juego encontrarás todas las instrucciones para jugar de forma online o física y aprender sobre sexualidad de la forma más divertida\, auténtica y segura.\n+info www.mancomunidadlavega.es\n\n\n\n\n 
URL:https://www.mancomunidadlavega.es/event/dia-europeo-salud-sexual-presentacion-juego-brain-of-sex/
LOCATION:Sede Mancomunidad\, Plaza del Ayuntamiento 4\, Redován\, Alicante\, 03370\, España
CATEGORIES:Algorfa,Infancia y Familia,Jacarilla,Jóvenes,Mujer,Otros Colectivos,Redován,San Miguel de Salinas
GEO:38.1137441;-0.9052296
X-APPLE-STRUCTURED-LOCATION;VALUE=URI;X-ADDRESS=Sede Mancomunidad Plaza del Ayuntamiento 4 Redován Alicante 03370 España;X-APPLE-RADIUS=500;X-TITLE=Plaza del Ayuntamiento 4:geo:-0.9052296,38.1137441
END:VEVENT
BEGIN:VEVENT
DTSTART;VALUE=DATE:20230215
DTEND;VALUE=DATE:20230216
DTSTAMP:20260419T180126
CREATED:20230209T135443Z
LAST-MODIFIED:20230209T135455Z
UID:47411-1676419200-1676505599@www.mancomunidadlavega.es
SUMMARY:CLIA. Consejos de infancia y adolescencia MLV. Algorfa
DESCRIPTION:Es un órgano de consulta y participación creado para que niñas\, niños y adolescentes de nuestros pueblos ejerzan su derecho a ser escuchados y escuchadas de forma colectiva\, en todos los temas que les importan y les afectan. Se impulsa la educación en valores que promueve la Mancomunidad la Vega:\n-Espíritu democrático.\n-Promoción de la igualdad de género.\n-Respeto a la diversidad.\n-Tolerancia a los diferentes colectivos que forman la sociedad\nAdemás\, se promueve la difusión\, conocimiento de la aplicación de los Derechos de la Infancia y la adolescencia y participar en la elaboración y seguimiento del Plan de Infancia para que las necesidades de los niños\, niñas y adolescentes sean reflejadas en él\, con los CLIA de los 4 pueblos. Dos días al mes nos reuniremos con los y las participantes de los CLIA para analizar propuestas y sugerencias sobre las actividades que se quieren realizar y qué cambios queremos proponer al Ayuntamiento para mejorar el bienestar de los niños\, niñas y adolescentes. Formamos parte del CIAM la Vega\, que es el órgano de participación infantil y adolescente de Mancomunidad la Vega\, hacemos actividades y excursiones con los CLIA de los 4 pueblos.\nCLIA Redován: Lunes 17:00h a 18:30h Centro Tercera Edad  /  CLIA San Miguel: Jueves 16:00h a 17:30h Centro Social /  CLIA Jacarilla: Martes 16:00h a 17:30h Casa de cultura  /  CLIA Algorfa: Miércoles 16:00h a 17:30h Casa de la Juventud
URL:https://www.mancomunidadlavega.es/event/clia-consejos-de-infancia-y-adolescencia-mlv-algorfa/
LOCATION:Algorfa
CATEGORIES:Algorfa,Infancia y Familia
END:VEVENT
BEGIN:VEVENT
DTSTART;TZID=UTC:20230215T160000
DTEND;TZID=UTC:20230215T173000
DTSTAMP:20260419T180126
CREATED:20230209T111214Z
LAST-MODIFIED:20230209T133255Z
UID:47398-1676476800-1676482200@www.mancomunidadlavega.es
SUMMARY:Taller UNAF Abordaje de la sexualidad con niños\, niñas y adolescentes en el ámbito familiar - On line
DESCRIPTION: \n\n\n\nNuevo Taller on line gratuito para familias de UNAF – Unión de Asociaciones Familiares. «Abordaje de la sexualidad con niños\, niñas y adolescentes en el ámbito familiar». Dirigido a madres y padres con hijos e hijas adolescentes y preadolescentes.\n\n\n \n\n\nEn este taller trataremos estas cuestiones:\n\n\n\nAdolescencia y preadolescencia.\nConductas de riesgo en el ámbito de la sexualidad.\nEducación afectivo-sexual en la pre y adolescencia. Características y pautas familiares.\nMitos  y realidades de los progenitores en torno a la sexualidad.\nCompetencias familiares para un desarrollo afectivo – sexual.\nInscripciones: https://bit.ly/3x80c6a\n\n\n\nPlazas limitadas!! Próximo 15 de febrero de 16:00h a 17:30h. + Info. en: www.mancomunidadlavega.es
URL:https://www.mancomunidadlavega.es/event/taller-unaf-abordaje-de-la-sexualidad-con-ninos-ninas-y-adolescentes-en-el-ambito-familiar-on-line/
LOCATION:on line\, Plaza del Syuntamiento\, 4\, Redován\, Alicante\, 03370\, España
CATEGORIES:Algorfa,Infancia y Familia,Jacarilla,Redován,San Miguel de Salinas
END:VEVENT
BEGIN:VEVENT
DTSTART;VALUE=DATE:20230216
DTEND;VALUE=DATE:20230217
DTSTAMP:20260419T180126
CREATED:20230209T135754Z
LAST-MODIFIED:20230209T135930Z
UID:47415-1676505600-1676591999@www.mancomunidadlavega.es
SUMMARY:CLIA. Consejos de infancia y adolescencia MLV. San Miguel
DESCRIPTION:Es un órgano de consulta y participación creado para que niñas\, niños y adolescentes de nuestros pueblos ejerzan su derecho a ser escuchados y escuchadas de forma colectiva\, en todos los temas que les importan y les afectan. Se impulsa la educación en valores que promueve la Mancomunidad la Vega:\n-Espíritu democrático.\n-Promoción de la igualdad de género.\n-Respeto a la diversidad.\n-Tolerancia a los diferentes colectivos que forman la sociedad\nAdemás\, se promueve la difusión\, conocimiento de la aplicación de los Derechos de la Infancia y la adolescencia y participar en la elaboración y seguimiento del Plan de Infancia para que las necesidades de los niños\, niñas y adolescentes sean reflejadas en él\, con los CLIA de los 4 pueblos. Dos días al mes nos reuniremos con los y las participantes de los CLIA para analizar propuestas y sugerencias sobre las actividades que se quieren realizar y qué cambios queremos proponer al Ayuntamiento para mejorar el bienestar de los niños\, niñas y adolescentes. Formamos parte del CIAM la Vega\, que es el órgano de participación infantil y adolescente de Mancomunidad la Vega\, hacemos actividades y excursiones con los CLIA de los 4 pueblos.\nCLIA Redován: Lunes 17:00h a 18:30h Centro Tercera Edad  /  CLIA San Miguel: Jueves 16:00h a 17:30h Centro Social /  CLIA Jacarilla: Martes 16:00h a 17:30h Casa de cultura  /  CLIA Algorfa: Miércoles 16:00h a 17:30h Casa de la Juventud
URL:https://www.mancomunidadlavega.es/event/clia-consejos-de-infancia-y-adolescencia-mlv-san-miguel-2/
LOCATION:Centro Social. 1ªPlanta. San Miguel de Salinas\, C/ Vicente Blasco Ibáñez\, 1\, San Miguel de Salinas\, Alicante\, 03193\, España
CATEGORIES:Infancia y Familia,San Miguel de Salinas
GEO:37.9784386;-0.7889244
X-APPLE-STRUCTURED-LOCATION;VALUE=URI;X-ADDRESS=Centro Social. 1ªPlanta. San Miguel de Salinas C/ Vicente Blasco Ibáñez 1 San Miguel de Salinas Alicante 03193 España;X-APPLE-RADIUS=500;X-TITLE=C/ Vicente Blasco Ibáñez\, 1:geo:-0.7889244,37.9784386
END:VEVENT
BEGIN:VEVENT
DTSTART;TZID=UTC:20230223T160000
DTEND;TZID=UTC:20230223T173000
DTSTAMP:20260419T180126
CREATED:20230201T131858Z
LAST-MODIFIED:20230205T173131Z
UID:46993-1677168000-1677173400@www.mancomunidadlavega.es
SUMMARY:Familias Imperfectas. Algorfa
DESCRIPTION:  \nÚNETE AL CLUB DE LAS FAMILIAS IMPERFECTAS. \nPonemos en marcha un grupo de encuentro para madres/padres de niños/as de entre 6 y 11 años.  Guiados por una psicóloga podréis reflexionar\, intercambiar experiencias y aprender estrategias para sentiros más seguros en su crianza. Además\, en este espacio\, los niños y niñas\, acompañados de una educadora\, potenciarán sus habilidades emocionales\, relacionales y creativas\, a través del juego y otras actividades de ocio educativo. \nImpartido por la Psicóloga y las Educadoras del Servicio de Prevención e Intervención con las Familias (SPIF). \nFECHAS Y UBICACIÓN \n\nAlgorfa. Centro Cultural Vicente Ferrer\n23 febrero de 16h a 17\,30h: Enfrentando nuestros miedos.\n23 marzo de 16h a 17\,30h: Potenciando nuestra autoestima.\n20 abril de 16h a 17\,30h: Gestionando los enfados.\n18 mayo de 16h a 17\,30h: Disfrutando del ocio en familia.\n\nMÁS INFO E INSCRIPCIONES: https://cutt.ly/y9F5hw8
URL:https://www.mancomunidadlavega.es/event/familias-imperfectas-algorfa/
LOCATION:Centro Cultural San Vicente Ferrer. Algorfa\, Av. Constitución\, 35\, Algorfa\, Alicante\, 03169\, España
CATEGORIES:Algorfa,Infancia y Familia
GEO:38.0868832;-0.7958869
X-APPLE-STRUCTURED-LOCATION;VALUE=URI;X-ADDRESS=Centro Cultural San Vicente Ferrer. Algorfa Av. Constitución 35 Algorfa Alicante 03169 España;X-APPLE-RADIUS=500;X-TITLE=Av. Constitución\, 35:geo:-0.7958869,38.0868832
END:VEVENT
BEGIN:VEVENT
DTSTART;TZID=UTC:20230223T180000
DTEND;TZID=UTC:20230223T193000
DTSTAMP:20260419T180126
CREATED:20230202T134344Z
LAST-MODIFIED:20230202T134344Z
UID:47031-1677175200-1677180600@www.mancomunidadlavega.es
SUMMARY:Familias Imperfectas. San Miguel
DESCRIPTION:  \nÚNETE AL CLUB DE LAS FAMILIAS IMPERFECTAS. \nGrupo de encuentro para madres/padres de niños/as de entre 6 y 11 años.  Guiados por una psicóloga podréis reflexionar\, intercambiar experiencias y aprender estrategias para sentiros más seguros en su crianza. Además\, en este espacio\, los niños y niñas\, acompañados de una educadora\, potenciarán sus habilidades emocionales\, relacionales y creativas\, a través del juego y otras actividades de ocio educativo. \nImpartido por la Psicóloga y las Educadoras del Servicio de Prevención e Intervención con las Familias (SPIF). \nFECHAS Y UBICACIÓN \n\nSan Miguel. Centro social de la Tercera edad\n23 febrero de 18h a 19\,30h: Enfrentando nuestros miedos.\n23 marzo de 18h a 19\,30h: Potenciando nuestra autoestima.\n20 abril de 18h a 19\,30h: Gestionando los enfados.\n18 mayo de 18h a 19\,30h: Disfrutando del ocio en familia.\n\nMÁS INFO E INSCRIPCIONES: https://cutt.ly/y9F5hw8
URL:https://www.mancomunidadlavega.es/event/familias-imperfectas-san-miguel/
LOCATION:San Miguel de Salinas\, San Miguel de Salinas\, Alicante\, 03370\, España
CATEGORIES:Infancia y Familia,San Miguel de Salinas
GEO:38.3671062;-0.4796285
END:VEVENT
BEGIN:VEVENT
DTSTART;VALUE=DATE:20230225
DTEND;VALUE=DATE:20230226
DTSTAMP:20260419T180126
CREATED:20230215T120659Z
LAST-MODIFIED:20230220T100431Z
UID:47464-1677283200-1677369599@www.mancomunidadlavega.es
SUMMARY:Excursión Pista de patinaje de Elche. Algorfa
DESCRIPTION:  \nExcursión gratuita a la Pista de patinaje de Elche. SALIDA: 10H CAFETERÍA BOMBAY / LLEGADA: 14H CAFETERÍA BOMBAY. Algorfa. Incluye autobús y entrada a la pista de patinaje. Almuerzo no incluido. Acompañan monitores. OBLIGATORIO LLEVAR GUANTES Y 2 PARES DE CALCETINES. \n(INSCRIPCIONES EN EL AYUNTAMIENTO DEL 15 – 22 DE FEBRERO O COMPLETAR PLAZAS. DE 10 A 16 AÑOS) \n+Info : https://bit.ly/3I1F0n \n 
URL:https://www.mancomunidadlavega.es/event/clia-excursion-pista-de-patinaje-de-elche-algorfa/
LOCATION:Algorfa
CATEGORIES:Algorfa,Infancia y Familia
END:VEVENT
BEGIN:VEVENT
DTSTART;VALUE=DATE:20230227
DTEND;VALUE=DATE:20230228
DTSTAMP:20260419T180126
CREATED:20230209T140126Z
LAST-MODIFIED:20230209T140126Z
UID:47419-1677456000-1677542399@www.mancomunidadlavega.es
SUMMARY:CLIA. Consejos de infancia y adolescencia MLV. Redován
DESCRIPTION:Es un órgano de consulta y participación creado para que niñas\, niños y adolescentes de nuestros pueblos ejerzan su derecho a ser escuchados y escuchadas de forma colectiva\, en todos los temas que les importan y les afectan. Se impulsa la educación en valores que promueve la Mancomunidad la Vega:\n-Espíritu democrático.\n-Promoción de la igualdad de género.\n-Respeto a la diversidad.\n-Tolerancia a los diferentes colectivos que forman la sociedad\nAdemás\, se promueve la difusión\, conocimiento de la aplicación de los Derechos de la Infancia y la adolescencia y participar en la elaboración y seguimiento del Plan de Infancia para que las necesidades de los niños\, niñas y adolescentes sean reflejadas en él\, con los CLIA de los 4 pueblos. Dos días al mes nos reuniremos con los y las participantes de los CLIA para analizar propuestas y sugerencias sobre las actividades que se quieren realizar y qué cambios queremos proponer al Ayuntamiento para mejorar el bienestar de los niños\, niñas y adolescentes. Formamos parte del CIAM la Vega\, que es el órgano de participación infantil y adolescente de Mancomunidad la Vega\, hacemos actividades y excursiones con los CLIA de los 4 pueblos.\nCLIA Redován: Lunes 17:00h a 18:30h Centro Tercera Edad  /  CLIA San Miguel: Jueves 16:00h a 17:30h Centro Social  /  CLIA Jacarilla: Martes 16:00h a 17:30h Casa de cultura  /  CLIA Algorfa: Miércoles 16:00h a 17:30h Casa de la Juventud
URL:https://www.mancomunidadlavega.es/event/clia-consejos-de-infancia-y-adolescencia-mlv-redovan-2/
LOCATION:Redován\, Alicante\, España
CATEGORIES:Infancia y Familia,Redován
END:VEVENT
BEGIN:VEVENT
DTSTART;VALUE=DATE:20230228
DTEND;VALUE=DATE:20230301
DTSTAMP:20260419T180126
CREATED:20230209T140313Z
LAST-MODIFIED:20230209T140313Z
UID:47421-1677542400-1677628799@www.mancomunidadlavega.es
SUMMARY:CLIA. Consejos de infancia y adolescencia MLV. Jacarilla
DESCRIPTION:Es un órgano de consulta y participación creado para que niñas\, niños y adolescentes de nuestros pueblos ejerzan su derecho a ser escuchados y escuchadas de forma colectiva\, en todos los temas que les importan y les afectan. Se impulsa la educación en valores que promueve la Mancomunidad la Vega:\n-Espíritu democrático.\n-Promoción de la igualdad de género.\n-Respeto a la diversidad.\n-Tolerancia a los diferentes colectivos que forman la sociedad\nAdemás\, se promueve la difusión\, conocimiento de la aplicación de los Derechos de la Infancia y la adolescencia y participar en la elaboración y seguimiento del Plan de Infancia para que las necesidades de los niños\, niñas y adolescentes sean reflejadas en él\, con los CLIA de los 4 pueblos. Dos días al mes nos reuniremos con los y las participantes de los CLIA para analizar propuestas y sugerencias sobre las actividades que se quieren realizar y qué cambios queremos proponer al Ayuntamiento para mejorar el bienestar de los niños\, niñas y adolescentes. Formamos parte del CIAM la Vega\, que es el órgano de participación infantil y adolescente de Mancomunidad la Vega\, hacemos actividades y excursiones con los CLIA de los 4 pueblos.\nCLIA Redován: Lunes 17:00h a 18:30h Centro Tercera Edad  /  CLIA San Miguel: Jueves 16:00h a 17:30h Centro Social /  CLIA Jacarilla: Martes 16:00h a 17:30h Casa de cultura  /  CLIA Algorfa: Miércoles 16:00h a 17:30h Casa de la Juventud
URL:https://www.mancomunidadlavega.es/event/clia-consejos-de-infancia-y-adolescencia-mlv-jacarilla-2/
LOCATION:Casa de Cultura. Jacarilla\, Jacarilla\, Alicante\, España
CATEGORIES:Infancia y Familia,Jacarilla
GEO:37.9784386;-0.7889244
END:VEVENT
BEGIN:VEVENT
DTSTART;TZID=UTC:20230228T160000
DTEND;TZID=UTC:20230228T180000
DTSTAMP:20260419T180126
CREATED:20230217T124047Z
LAST-MODIFIED:20230406T064708Z
UID:47615-1677600000-1677607200@www.mancomunidadlavega.es
SUMMARY:Espacios para familias. San Miguel
DESCRIPTION:Participa en los ESPACIOS PARA FAMILIAS. San Miguel\n \n\n\n\n\n\nSan Miguel. 28 de Febrero a las 16:00h en el Centro Social de la Tercera Edad.\n\n\n¡Actividad gratuita!\nInscríbete: 658757043(Sofía) 658796280 (Tamara)
URL:https://www.mancomunidadlavega.es/event/espacios-para-familias-san-miguel-2/
LOCATION:Servicios Sociales. San Miguel De Salinas
CATEGORIES:Infancia y Familia,San Miguel de Salinas
END:VEVENT
END:VCALENDAR