BEGIN:VCALENDAR
VERSION:2.0
PRODID:-//Mancomunidad la vega - ECPv6.11.2//NONSGML v1.0//EN
CALSCALE:GREGORIAN
METHOD:PUBLISH
X-WR-CALNAME:Mancomunidad la vega
X-ORIGINAL-URL:https://www.mancomunidadlavega.es
X-WR-CALDESC:Eventos para Mancomunidad la vega
REFRESH-INTERVAL;VALUE=DURATION:PT1H
X-Robots-Tag:noindex
X-PUBLISHED-TTL:PT1H
BEGIN:VTIMEZONE
TZID:UTC
BEGIN:STANDARD
TZOFFSETFROM:+0000
TZOFFSETTO:+0000
TZNAME:UTC
DTSTART:20160101T000000
END:STANDARD
END:VTIMEZONE
BEGIN:VEVENT
DTSTART;TZID=UTC:20161130T090000
DTEND;TZID=UTC:20161130T090000
DTSTAMP:20260419T214027
CREATED:20161130T223555Z
LAST-MODIFIED:20161130T223555Z
UID:8341-1480496400-1480496400@www.mancomunidadlavega.es
SUMMARY:Taller Búsqueda Activa Empleo Algorfa
DESCRIPTION:Servicio de Prevención e Inclusión Social
URL:https://www.mancomunidadlavega.es/event/taller-busqueda-activa-empleo-algorfa/
LOCATION:Centro Cultural San Vicente Ferrer Jacarilla\, Algorfa
CATEGORIES:Algorfa,Extranjeros,Infancia y Familia,Jóvenes,Mujer
GEO:38.0849165;-0.7966752
END:VEVENT
BEGIN:VEVENT
DTSTART;TZID=UTC:20161202T093000
DTEND;TZID=UTC:20161202T113000
DTSTAMP:20260419T214027
CREATED:20161130T225933Z
LAST-MODIFIED:20161130T225956Z
UID:8361-1480671000-1480678200@www.mancomunidadlavega.es
SUMMARY:Taller Búsqueda Activa Empleo San Miguel
DESCRIPTION:Servicio de Prevención e Inclusión Social
URL:https://www.mancomunidadlavega.es/event/taller-busqueda-activa-empleo-san-miguel/
LOCATION:Servicios Sociales. San Miguel De Salinas
CATEGORIES:Extranjeros,Infancia y Familia,Jóvenes,Mujer,San Miguel de Salinas
END:VEVENT
END:VCALENDAR