BEGIN:VCALENDAR
VERSION:2.0
PRODID:-//Mancomunidad la vega - ECPv6.11.2//NONSGML v1.0//EN
CALSCALE:GREGORIAN
METHOD:PUBLISH
X-WR-CALNAME:Mancomunidad la vega
X-ORIGINAL-URL:https://www.mancomunidadlavega.es
X-WR-CALDESC:Eventos para Mancomunidad la vega
REFRESH-INTERVAL;VALUE=DURATION:PT1H
X-Robots-Tag:noindex
X-PUBLISHED-TTL:PT1H
BEGIN:VTIMEZONE
TZID:UTC
BEGIN:STANDARD
TZOFFSETFROM:+0000
TZOFFSETTO:+0000
TZNAME:UTC
DTSTART:20230101T000000
END:STANDARD
END:VTIMEZONE
BEGIN:VEVENT
DTSTART;TZID=UTC:20230605T170000
DTEND;TZID=UTC:20230605T180000
DTSTAMP:20260421T021341
CREATED:20230511T120155Z
LAST-MODIFIED:20230517T101928Z
UID:51960-1685984400-1685988000@www.mancomunidadlavega.es
SUMMARY:Taller Decoración Tote bags LGTBIQ. Algorfa
DESCRIPTION:  \n  \nEn este taller crearemos nuestro cartel para mostrarlo el Día del Orgullo. Este año conmemoramos el ORGULLO LGTBIQ+ para visibilizar la diversidad sexual y hacer\, por qué no\, el mundo un poco más justo y libre\, donde cada persona sea quien y como quiera ser. \nInscríbete a las actividades aquí https://forms.gle/nJngeRJc5CF1YU6W7 o a través del código QR del cartel. \n¿Te apuntas a cambiar el mundo? \nFECHAS Y UBICACIÓN \n\nAlgorfa: Lunes 5 de junio – 17:00h – Servicios Sociales 3ª planta.\n\nOtros municipios: \n\nJacarilla: Martes 13 de junio – 17:00h – Casa de la Cultura.\nRedován: Lunes 19 de junio – 19:00h – Centro 3ª edad.\nSan Miguel: Lunes 5 de junio – 19:00h – Centro Social.\n\n#adisex #lavegajoven \n 
URL:https://www.mancomunidadlavega.es/event/taller-decoracion-tote-bags-lgtbiq-algorfa/
LOCATION:Servicios Sociales Algorfa\, Alicante\, España
CATEGORIES:Algorfa,Extranjeros,Jóvenes,Otros Colectivos,Redován
END:VEVENT
BEGIN:VEVENT
DTSTART;TZID=UTC:20230605T190000
DTEND;TZID=UTC:20230605T200000
DTSTAMP:20260421T021341
CREATED:20230511T120528Z
LAST-MODIFIED:20230517T101822Z
UID:51962-1685991600-1685995200@www.mancomunidadlavega.es
SUMMARY:Taller Decoración Tote Bags LGTBIQ+. San Miguel
DESCRIPTION:En este taller crearemos nuestro cartel para mostrarlo el Día del Orgullo. Este año conmemoramos el ORGULLO LGTBIQ+ para visibilizar la diversidad sexual y hacer\, por qué no\, el mundo un poco más justo y libre\, donde cada persona sea quien y como quiera ser. \nInscríbete a las actividades aquí https://forms.gle/nJngeRJc5CF1YU6W7 o a través del código QR del cartel. \n¿Te apuntas a cambiar el mundo? \nFECHAS Y UBICACIÓN \n\nSan Miguel: Lunes 5 de junio – 19:00h – Centro Social.\n\nOtros municipios: \n\nAlgorfa: Lunes 5 de junio – 17:00h – Servicios Sociales 3ª planta.\nJacarilla: Martes 13 de junio – 17:00h – Casa de la Cultura.\nRedován: Lunes 19 de junio – 19:00h – Centro 3ª edad.\n\n#adisex #lavegajoven \n 
URL:https://www.mancomunidadlavega.es/event/taller-decoracion-tote-bags-lgtbiq-san-miguel/
LOCATION:San Miguel de Salinas\, San Miguel de Salinas\, Alicante\, 03370\, España
CATEGORIES:Extranjeros,Jóvenes,Otros Colectivos,San Miguel de Salinas
GEO:38.3671062;-0.4796285
END:VEVENT
BEGIN:VEVENT
DTSTART;TZID=UTC:20230613T170000
DTEND;TZID=UTC:20230613T180000
DTSTAMP:20260421T021341
CREATED:20230511T122109Z
LAST-MODIFIED:20230517T101749Z
UID:51968-1686675600-1686679200@www.mancomunidadlavega.es
SUMMARY:Taller Decoración Tote Bags LGTBIQ+. Jacarilla
DESCRIPTION:  \nEn este taller crearemos nuestro cartel para mostrarlo el Día del Orgullo. Este año conmemoramos el ORGULLO LGTBIQ+ para visibilizar la diversidad sexual y hacer\, por qué no\, el mundo un poco más justo y libre\, donde cada persona sea quien y como quiera ser. \nInscríbete a las actividades aquí https://forms.gle/nJngeRJc5CF1YU6W7 o a través del código QR del cartel ¿Te apuntas a cambiar el mundo? \nFECHAS Y UBICACIÓN \n\nJacarilla: Martes 13 de junio – 17:00h – Casa de la Cultura.\n\nOtros municipios: \n\nAlgorfa: Lunes 5 de junio – 17:00h – Servicios Sociales 3ª planta.\nRedován: Lunes 19 de junio – 19:00h – Centro 3ª edad.\nSan Miguel: Lunes 5 de junio – 19:00h – Centro Social.\n\n#adisex #lavegajoven \n 
URL:https://www.mancomunidadlavega.es/event/taller-decoracion-tote-bags-lgtbiq-jacarilla/
LOCATION:Casa de Cultura. Jacarilla\, Jacarilla\, Alicante\, España
CATEGORIES:Extranjeros,Jacarilla,Jóvenes,Otros Colectivos
GEO:37.9784386;-0.7889244
END:VEVENT
BEGIN:VEVENT
DTSTART;TZID=UTC:20230613T190000
DTEND;TZID=UTC:20230613T200000
DTSTAMP:20260421T021341
CREATED:20230511T111738Z
LAST-MODIFIED:20230517T102049Z
UID:51935-1686682800-1686686400@www.mancomunidadlavega.es
SUMMARY:Diseño Cartel Día Internacional Orgullo 2023. Redován
DESCRIPTION:En este taller crearemos nuestro cartel para mostrarlo el Día del Orgullo. Este año conmemoramos el ORGULLO LGTBIQ+ para visibilizar la diversidad sexual y hacer\, por qué no\, el mundo un poco más justo y libre\, donde cada persona sea quien y como quiera ser. \nInscríbete a las actividades aquí https://forms.gle/nJngeRJc5CF1YU6W7 o a través del código QR del cartel. \n¿Te apuntas a cambiar el mundo? \nFECHAS Y UBICACIÓN \n\nRedován: Martes 13 de junio – 19:00h – Centro 3ª edad.\n\nOtros municipios: \n\nAlgorfa: Lunes 29 de mayo – 17:00h – Servicios Sociales 3ª planta.\nJacarilla: Lunes 19 de junio – 17:00h – Casa de la Cultura.\nSan Miguel: Lunes 29 de mayo – 19:00h – Centro Social.\n\n#adisex #lavegajoven \n 
URL:https://www.mancomunidadlavega.es/event/diseno-cartel-dia-internacional-orgullo-2023-redovan/
LOCATION:Redován\, Alicante\, España
CATEGORIES:Extranjeros,Jóvenes,Otros Colectivos,Redován
END:VEVENT
BEGIN:VEVENT
DTSTART;TZID=UTC:20230619T170000
DTEND;TZID=UTC:20230619T180000
DTSTAMP:20260421T021341
CREATED:20230511T110548Z
LAST-MODIFIED:20230517T102025Z
UID:51925-1687194000-1687197600@www.mancomunidadlavega.es
SUMMARY:Diseño Cartel Día Internacional Orgullo 2023. Jacarilla
DESCRIPTION:  \nEn este taller crearemos nuestro cartel para mostrarlo el Día del Orgullo. Este año conmemoramos el ORGULLO LGTBIQ+ para visibilizar la diversidad sexual y hacer\, por qué no\, el mundo un poco más justo y libre\, donde cada persona sea quien y como quiera ser. \nInscríbete a las actividades aquí https://forms.gle/nJngeRJc5CF1YU6W7 o a través del código QR del cartel ¿Te apuntas a cambiar el mundo? \nFECHAS Y UBICACIÓN \n\nJacarilla: Lunes 19 de junio – 17:00h – Casa de la Cultura.\n\nOtros municipios: \n\nAlgorfa: Lunes 29 de mayo – 17:00h – Servicios Sociales 3ª planta.\nRedován: Martes 13 de junio – 19:00h – Centro 3ª edad.\nSan Miguel: Lunes 29 de mayo – 19:00h – Centro Social.\n\n#adisex #lavegajoven \n 
URL:https://www.mancomunidadlavega.es/event/diseno-cartel-dia-internacional-orgullo-2023-jacarilla/
LOCATION:Casa de Cultura. Jacarilla\, Jacarilla\, Alicante\, España
CATEGORIES:Extranjeros,Jacarilla,Jóvenes,Otros Colectivos
GEO:37.9784386;-0.7889244
END:VEVENT
BEGIN:VEVENT
DTSTART;TZID=UTC:20230619T190000
DTEND;TZID=UTC:20230619T200000
DTSTAMP:20260421T021341
CREATED:20230511T120852Z
LAST-MODIFIED:20230517T101715Z
UID:51964-1687201200-1687204800@www.mancomunidadlavega.es
SUMMARY:Taller Decoración Tote Bags LGTBIQ+. Redován
DESCRIPTION:En este taller crearemos nuestro cartel para mostrarlo el Día del Orgullo. Este año conmemoramos el ORGULLO LGTBIQ+ para visibilizar la diversidad sexual y hacer\, por qué no\, el mundo un poco más justo y libre\, donde cada persona sea quien y como quiera ser. \nInscríbete a las actividades aquí https://forms.gle/nJngeRJc5CF1YU6W7 o a través del código QR del cartel. \n¿Te apuntas a cambiar el mundo? \nFECHAS Y UBICACIÓN \n\nRedován: Lunes 19 de junio – 19:00h – Centro 3ª edad.\n\nOtros municipios: \n\nAlgorfa: Lunes 5 de junio – 17:00h – Servicios Sociales 3ª planta.\nJacarilla: Martes 13 de junio – 17:00h – Casa de la Cultura.\nSan Miguel: Lunes 5 de junio – 19:00h – Centro Social.\n\n#adisex #lavegajoven \n 
URL:https://www.mancomunidadlavega.es/event/taller-decoracion-tote-bags-lgtbiq-redovan/
LOCATION:Redován\, Alicante\, España
CATEGORIES:Extranjeros,Jóvenes,Otros Colectivos,Redován
END:VEVENT
END:VCALENDAR