BEGIN:VCALENDAR
VERSION:2.0
PRODID:-//Mancomunidad la vega - ECPv6.11.2//NONSGML v1.0//EN
CALSCALE:GREGORIAN
METHOD:PUBLISH
X-WR-CALNAME:Mancomunidad la vega
X-ORIGINAL-URL:https://www.mancomunidadlavega.es
X-WR-CALDESC:Eventos para Mancomunidad la vega
REFRESH-INTERVAL;VALUE=DURATION:PT1H
X-Robots-Tag:noindex
X-PUBLISHED-TTL:PT1H
BEGIN:VTIMEZONE
TZID:UTC
BEGIN:STANDARD
TZOFFSETFROM:+0000
TZOFFSETTO:+0000
TZNAME:UTC
DTSTART:20220101T000000
END:STANDARD
END:VTIMEZONE
BEGIN:VEVENT
DTSTART;TZID=UTC:20221103T200000
DTEND;TZID=UTC:20221103T213000
DTSTAMP:20260423T045726
CREATED:20221027T132446Z
LAST-MODIFIED:20221028T075720Z
UID:42863-1667505600-1667511000@www.mancomunidadlavega.es
SUMMARY:Conferencia. Prevención y Factores de Riesgo del Cáncer de Mama. Redován
DESCRIPTION:Conferencia \nPREVENCIÓN Y FACTORES DE RIESGO DEL CÁNCER DE MAMA. \nPONENTE: María Ballester Espinosa. Doctora en Oncología Médica. \nJueves\, 3 de Noviembre\, a las 20h. en el Centro Social \n  \n  \n\n\n\n\n\n\n\n\n\n\n\n\n\n\n\n\n\n\n\n  \n 
URL:https://www.mancomunidadlavega.es/event/conferencia-prevencion-y-factores-de-riesgo-del-cancer-de-mama/
LOCATION:Alicante
CATEGORIES:Extranjeros,Mayores,Mujer,Redován
END:VEVENT
BEGIN:VEVENT
DTSTART;TZID=UTC:20221116T180000
DTEND;TZID=UTC:20221116T193000
DTSTAMP:20260423T045726
CREATED:20221104T121217Z
LAST-MODIFIED:20221109T125803Z
UID:43070-1668621600-1668627000@www.mancomunidadlavega.es
SUMMARY:Taller Ciberviolencia de Género  Jacarilla
DESCRIPTION:Taller de Ciberviolencia de Género. \nLa violencia contra las mujeres también es un problema en  las redes sociales y a través de las nuevas tecnologías. \nEste nuevo entorno permite mayor facilidad para dañar y se acompaña de la impunidad del agresor y la dificultad de mantener la privacidad. \nEste taller tiene el objetivo de explicar las diferentes formas que adquiere la ciberviolencia de género y aprender a: DETECTAR\, PREVENIR Y AYUDAR. \n¡Apúntate! \nUbicación y horarios: \nJacarilla:  Salón de Actos. Miércoles 16 a las 18:00h. \nOtros municipios \nSan Miguel: Servicios Sociales. Miércoles 16 a las 19.30h. \nAlgorfa:  Salón de Actos. Miércoles 23 a las 18:00h. \nRedován: Centro de Tercera Edad. Miércoles 23 a las 19.30h. \nInscripciones: https://forms.gle/37U5Aea2jQVv88q57
URL:https://www.mancomunidadlavega.es/event/taller-ciberviolencia-de-genero-jacarilla/
LOCATION:Salón de actos del Centro Social Jacarilla
CATEGORIES:Extranjeros,Infancia y Familia,Jacarilla,Jóvenes,Mujer,San Miguel de Salinas
END:VEVENT
BEGIN:VEVENT
DTSTART;TZID=UTC:20221116T193000
DTEND;TZID=UTC:20221116T203000
DTSTAMP:20260423T045726
CREATED:20221104T114835Z
LAST-MODIFIED:20221110T121909Z
UID:43068-1668627000-1668630600@www.mancomunidadlavega.es
SUMMARY:Taller Ciberviolencia de Género. San Miguel de Salinas
DESCRIPTION:  \nTaller de Ciberviolencia de Género. \nLa violencia contra las mujeres también es un problema en  las redes sociales y a través de las nuevas tecnologías. \nEste nuevo entorno permite mayor facilidad para dañar y se acompaña de la impunidad del agresor y la dificultad de mantener la privacidad. \nEste taller tiene el objetivo de explicar las diferentes formas que adquiere la ciberviolencia de género y aprender a: DETECTAR\, PREVENIR Y AYUDAR. \n¡Apúntate! \nUbicación y horarios. \nSan Miguel: Servicios Sociales. Miércoles 16 a las 19.30h. \nOtros municipios: \nJacarilla:  Salón de actos del Centro Social. Miércoles 16 a las 18:00h. \nAlgorfa:  Servicios Sociales. Miércoles 23 a las 18:00h. \nRedován: Centro de Tercera Edad. Miércoles 23 a las 19.30h. \nInscripciones: https://forms.gle/37U5Aea2jQVv88q57 \n 
URL:https://www.mancomunidadlavega.es/event/taller-ciberviolencia-de-genero-san-miguel-de-salinas/
LOCATION:Servicios Sociales. San Miguel De Salinas
CATEGORIES:Extranjeros,Infancia y Familia,Jóvenes,Mujer,San Miguel de Salinas
END:VEVENT
BEGIN:VEVENT
DTSTART;TZID=UTC:20221121T093000
DTEND;TZID=UTC:20221121T110000
DTSTAMP:20260423T045726
CREATED:20221027T124540Z
LAST-MODIFIED:20221118T093550Z
UID:42861-1669023000-1669028400@www.mancomunidadlavega.es
SUMMARY:Taller de habilidades para la entrevista de trabajo. San Miguel
DESCRIPTION:Este taller de «Habilidades para la entrevista de trabajo»  te aportará seguridad a la hora de enfrentarte a una entrevista laboral. \nAprenderás a: \n\nAfrontar un proceso de búsqueda de empleo con herramientas y recursos actualizados.\nReforzar tus habilidades sociales y la comunicación asertiva.\nControlar el estrés antes preguntas inesperadas.\n\nSan Miguel de Salinas\, 21 de Noviembre \nAlgorfa\, Martes\, 22 de Noviembre \nJacarilla\, Miércoles\, 23 de Noviembre \nRedován\, Jueves 24 de Noviembre. \nINICIO A LAS 9\,30h.  Más información en el 651317242. \n¡Actualízate y sorprende a tu entrevistador/a! \n  \n 
URL:https://www.mancomunidadlavega.es/event/taller-de-habilidades-para-la-entrevista-de-trabajo-san-miguel/
LOCATION:San Miguel de Salinas\, San Miguel de Salinas\, Alicante\, 03370\, España
CATEGORIES:Extranjeros,Jóvenes,Mujer,San Miguel de Salinas
GEO:38.3671062;-0.4796285
END:VEVENT
BEGIN:VEVENT
DTSTART;TZID=UTC:20221122T093000
DTEND;TZID=UTC:20221122T110000
DTSTAMP:20260423T045726
CREATED:20221027T122724Z
LAST-MODIFIED:20221118T093515Z
UID:42856-1669109400-1669114800@www.mancomunidadlavega.es
SUMMARY:Taller de habilidades para la entrevista de trabajo. Algorfa
DESCRIPTION:Este taller de «Habilidades para la entrevista de trabajo»  te aportará seguridad a la hora de enfrentarte a una entrevista laboral. \nAprenderás a: \n\nAfrontar un proceso de búsqueda de empleo con herramientas y recursos actualizados.\nReforzar tus habilidades sociales y la comunicación asertiva.\nControlar el estrés antes preguntas inesperadas.\n\nSan Miguel de Salinas\, 21 de Noviembre \nAlgorfa\, Martes\, 22 de Noviembre \nJacarilla\, Miércoles\, 23 de Noviembre \nRedován\, Jueves 24 de Noviembre. \nINICIO A LAS 9\,30h.  Más información en el 651317242. \n¡Actualízate y sorprende a tu entrevistador/a! \n 
URL:https://www.mancomunidadlavega.es/event/taller-de-habilidades-para-la-entrevista-de-trabajo-algorfa/
LOCATION:Servicios Sociales Redovan
CATEGORIES:Algorfa,Extranjeros,Jóvenes,Mujer
END:VEVENT
BEGIN:VEVENT
DTSTART;TZID=UTC:20221123T093000
DTEND;TZID=UTC:20221123T110000
DTSTAMP:20260423T045726
CREATED:20221027T120445Z
LAST-MODIFIED:20221118T093404Z
UID:42847-1669195800-1669201200@www.mancomunidadlavega.es
SUMMARY:Taller de habilidades para la entrevista de trabajo. Jacarilla
DESCRIPTION:Este taller de «Habilidades para la entrevista de trabajo»  te aportará seguridad a la hora de enfrentarte a una entrevista laboral. \nAprenderás a: \n\nAfrontar un proceso de búsqueda de empleo con herramientas y recursos actualizados.\nReforzar tus habilidades sociales y la comunicación asertiva.\nControlar el estrés antes preguntas inesperadas.\n\nSan Miguel de Salinas\, 21 de Noviembre \nAlgorfa\, Martes\, 22 de Noviembre \nJacarilla\, Miércoles\, 23 de Noviembre \nRedován\, Jueves 24 de Noviembre. \nINICIO A LAS 9\,30h.  Más información en el 651317242. \n¡Actualízate y sorprende a tu entrevistador/a! \n 
URL:https://www.mancomunidadlavega.es/event/taller-habilidades-para-busqueda-empleo-jacarilla-2-2-2/
LOCATION:Salón de actos del Centro Social Jacarilla
CATEGORIES:Extranjeros,Jacarilla,Jóvenes,Mujer
END:VEVENT
BEGIN:VEVENT
DTSTART;TZID=UTC:20221123T180000
DTEND;TZID=UTC:20221123T190000
DTSTAMP:20260423T045726
CREATED:20221104T132533Z
LAST-MODIFIED:20221110T121851Z
UID:43087-1669226400-1669230000@www.mancomunidadlavega.es
SUMMARY:Taller Ciberviolencia de género. Algorfa
DESCRIPTION:  \nTaller de Ciberviolencia de Género \nLa violencia contra las mujeres también es un problema en  las redes sociales y a través de las nuevas tecnologías. \nEste nuevo entorno permite mayor facilidad para dañar y se acompaña de la impunidad del agresor y la dificultad de mantener la privacidad. \nEste taller tiene el objetivo de explicar las diferentes formas que adquiere la ciberviolencia de género y aprender a: DETECTAR\, PREVENIR Y AYUDAR. \n¡Apúntate! \n  \nUbicación y horarios \nAlgorfa:  Servicios Sociales. Miércoles 23 a las 18:00h. \nRedován: Centro de la Tercera Edad. Miércoles 23 a las 19.30h. \nInscripciones: https://forms.gle/37U5Aea2jQVv88q57
URL:https://www.mancomunidadlavega.es/event/taller-ciberviolencia-de-genero-algorfa/
LOCATION:Servicios Sociales Algorfa\, Alicante\, España
CATEGORIES:Algorfa,Extranjeros,Infancia y Familia,Jóvenes,Mujer
END:VEVENT
BEGIN:VEVENT
DTSTART;TZID=UTC:20221123T193000
DTEND;TZID=UTC:20221123T203000
DTSTAMP:20260423T045726
CREATED:20221104T133133Z
LAST-MODIFIED:20221110T121809Z
UID:43091-1669231800-1669235400@www.mancomunidadlavega.es
SUMMARY:Taller Ciberviolencia de Género. Redován
DESCRIPTION:  \nTaller de Ciberviolencia de Género \nLa violencia contra las mujeres también es un problema en  las redes sociales y a través de las nuevas tecnologías. \nEste nuevo entorno permite mayor facilidad para dañar y se acompaña de la impunidad del agresor y la dificultad de mantener la privacidad. \nEste taller tiene el objetivo de explicar las diferentes formas que adquiere la ciberviolencia de género y aprender a: DETECTAR\, PREVENIR Y AYUDAR. \n¡Apúntate! \n  \nUbicación y horarios: \nRedován: Centro de la tercera edad. Miércoles 23 a las 19.30h. \nAlgorfa:  Salón de actos. Miércoles 23 a las 18:00h. \nInscripciones: https://forms.gle/37U5Aea2jQVv88q57
URL:https://www.mancomunidadlavega.es/event/taller-ciberviolencia-de-genero-redovan/
LOCATION:Centro Social de la Tercera Edad. Redován\, C/ Juan XXIII\, s/n\, Redován\, Alicante\, 03370\, España
CATEGORIES:Extranjeros,Infancia y Familia,Jóvenes,Mujer,Redován
GEO:38.1142082;-0.9076136
X-APPLE-STRUCTURED-LOCATION;VALUE=URI;X-ADDRESS=Centro Social de la Tercera Edad. Redován C/ Juan XXIII s/n Redován Alicante 03370 España;X-APPLE-RADIUS=500;X-TITLE=C/ Juan XXIII\, s/n:geo:-0.9076136,38.1142082
END:VEVENT
BEGIN:VEVENT
DTSTART;TZID=UTC:20221124T093000
DTEND;TZID=UTC:20221124T110000
DTSTAMP:20260423T045726
CREATED:20221027T123752Z
LAST-MODIFIED:20221118T093435Z
UID:42859-1669282200-1669287600@www.mancomunidadlavega.es
SUMMARY:Taller de habilidades para la entrevista de trabajo. Redován
DESCRIPTION:Este taller de «Habilidades para la entrevista de trabajo»  te aportará seguridad a la hora de enfrentarte a una entrevista laboral. \nAprenderás a: \n\nAfrontar un proceso de búsqueda de empleo con herramientas y recursos actualizados.\nReforzar tus habilidades sociales y la comunicación asertiva.\nControlar el estrés antes preguntas inesperadas.\n\nSan Miguel de Salinas\, 21 de Noviembre \nAlgorfa\, Martes\, 22 de Noviembre \nJacarilla\, Miércoles\, 23 de Noviembre \nRedován\, Jueves 24 de Noviembre. \nINICIO A LAS 9\,30h.  Más información en el 651317242. \n¡Actualízate y sorprende a tu entrevistador/a! \n  \n 
URL:https://www.mancomunidadlavega.es/event/taller-de-habilidades-para-la-entrevista-de-trabajo-redovan/
LOCATION:Algorfa
CATEGORIES:Extranjeros,Jóvenes,Mujer,Redován
END:VEVENT
END:VCALENDAR