BEGIN:VCALENDAR
VERSION:2.0
PRODID:-//Mancomunidad la vega - ECPv6.11.2//NONSGML v1.0//EN
CALSCALE:GREGORIAN
METHOD:PUBLISH
X-ORIGINAL-URL:https://www.mancomunidadlavega.es
X-WR-CALDESC:Eventos para Mancomunidad la vega
REFRESH-INTERVAL;VALUE=DURATION:PT1H
X-Robots-Tag:noindex
X-PUBLISHED-TTL:PT1H
BEGIN:VTIMEZONE
TZID:UTC
BEGIN:STANDARD
TZOFFSETFROM:+0000
TZOFFSETTO:+0000
TZNAME:UTC
DTSTART:20160101T000000
END:STANDARD
END:VTIMEZONE
BEGIN:VEVENT
DTSTART;TZID=UTC:20161019T090000
DTEND;TZID=UTC:20161019T110000
DTSTAMP:20260419T230201
CREATED:20161130T215342Z
LAST-MODIFIED:20161130T225222Z
UID:8217-1476867600-1476874800@www.mancomunidadlavega.es
SUMMARY:Curso español básico San Miguel
DESCRIPTION:
URL:https://www.mancomunidadlavega.es/event/curso-espanol-basico-san-miguel/2016-10-19/
LOCATION:Centro Social. 1ªPlanta. San Miguel de Salinas\, C/ Vicente Blasco Ibáñez\, 1\, San Miguel de Salinas\, Alicante\, 03193\, España
CATEGORIES:Extranjeros,San Miguel de Salinas
GEO:37.9784386;-0.7889244
X-APPLE-STRUCTURED-LOCATION;VALUE=URI;X-ADDRESS=Centro Social. 1ªPlanta. San Miguel de Salinas C/ Vicente Blasco Ibáñez 1 San Miguel de Salinas Alicante 03193 España;X-APPLE-RADIUS=500;X-TITLE=C/ Vicente Blasco Ibáñez\, 1:geo:-0.7889244,37.9784386
END:VEVENT
BEGIN:VEVENT
DTSTART;TZID=UTC:20161019T110000
DTEND;TZID=UTC:20161019T130000
DTSTAMP:20260419T230201
CREATED:20161130T215923Z
LAST-MODIFIED:20161130T221729Z
UID:8264-1476874800-1476882000@www.mancomunidadlavega.es
SUMMARY:Curso español avanzado San Miguel
DESCRIPTION:
URL:https://www.mancomunidadlavega.es/event/curso-espanol-avanzado-san-miguel/2016-10-19/
LOCATION:Servicios Sociales. San Miguel De Salinas
CATEGORIES:Extranjeros,San Miguel de Salinas
END:VEVENT
BEGIN:VEVENT
DTSTART;TZID=UTC:20161027T000000
DTEND;TZID=UTC:20161027T140000
DTSTAMP:20260419T230201
CREATED:20161201T003510Z
LAST-MODIFIED:20161201T003510Z
UID:8717-1477526400-1477576800@www.mancomunidadlavega.es
SUMMARY:Dulces Tradicionales españoles. Grupo encuentro san miguel
DESCRIPTION:
URL:https://www.mancomunidadlavega.es/event/dulces-tradicionales-espanoles-grupo-encuentro-san-miguel/2016-10-27/
LOCATION:Servicios Sociales. San Miguel De Salinas
CATEGORIES:Extranjeros,Mujer,San Miguel de Salinas
END:VEVENT
END:VCALENDAR