BEGIN:VCALENDAR
VERSION:2.0
PRODID:-//Mancomunidad la vega - ECPv6.11.2//NONSGML v1.0//EN
CALSCALE:GREGORIAN
METHOD:PUBLISH
X-WR-CALNAME:Mancomunidad la vega
X-ORIGINAL-URL:https://www.mancomunidadlavega.es
X-WR-CALDESC:Eventos para Mancomunidad la vega
REFRESH-INTERVAL;VALUE=DURATION:PT1H
X-Robots-Tag:noindex
X-PUBLISHED-TTL:PT1H
BEGIN:VTIMEZONE
TZID:UTC
BEGIN:STANDARD
TZOFFSETFROM:+0000
TZOFFSETTO:+0000
TZNAME:UTC
DTSTART:20220101T000000
END:STANDARD
END:VTIMEZONE
BEGIN:VEVENT
DTSTART;TZID=UTC:20221115T100000
DTEND;TZID=UTC:20221115T130000
DTSTAMP:20260419T192137
CREATED:20221028T083503Z
LAST-MODIFIED:20221109T075126Z
UID:42883-1668506400-1668517200@www.mancomunidadlavega.es
SUMMARY:Freya. Brilla en tu búsqueda laboral. Algorfa
DESCRIPTION:FREYA\, BRILLA EN TU BUSQUEDA LABORAL es un taller dirigido a mejorar la empleabilidad de las mujeres.\n\n\n¿Necesitas mejorar tus habilidades para conseguir un empleo?\n\n\nTe Ayudaremos a:\n1- Preparar tu currículum vitae\, así como realizar entrevistas de trabajo.\n2-Las TIC como herramienta para la búsqueda de empleo.\n3-Aspectos psicosociales para la mejora de la empleabilidad.\n\nTambién trabajaremos contenidos de igualdad y prevención de la violencia.\n\n\n\nFechas: 8-9-10-11-15-16 de Noviembre de 2022.\n\nLugar: Centro cultural San Vicente Ferrer 10:00-13:00 horas.\n\n\n\nSi eres mujer y estás desempleada ¡APUNTATE!!\n Pangea: 658795708.  Inclusión: 651317242\n\n 
URL:https://www.mancomunidadlavega.es/event/freya-brilla-en-tu-busqueda-laboral-algorfa-3-3/
LOCATION:Centro Cultural San Vicente Ferrer. Algorfa\, Av. Constitución\, 35\, Algorfa\, Alicante\, 03169\, España
CATEGORIES:Algorfa,Mujer
GEO:38.0868832;-0.7958869
X-APPLE-STRUCTURED-LOCATION;VALUE=URI;X-ADDRESS=Centro Cultural San Vicente Ferrer. Algorfa Av. Constitución 35 Algorfa Alicante 03169 España;X-APPLE-RADIUS=500;X-TITLE=Av. Constitución\, 35:geo:-0.7958869,38.0868832
END:VEVENT
BEGIN:VEVENT
DTSTART;TZID=UTC:20221116T100000
DTEND;TZID=UTC:20221116T130000
DTSTAMP:20260419T192137
CREATED:20221028T083534Z
LAST-MODIFIED:20221109T074708Z
UID:42885-1668592800-1668603600@www.mancomunidadlavega.es
SUMMARY:Freya. Brilla en tu búsqueda laboral. Algorfa
DESCRIPTION:FREYA\, BRILLA EN TU BUSQUEDA LABORAL es un taller dirigido a mejorar la empleabilidad de mujeres.\n\n\n¿Necesitas mejorar tus habilidades para conseguir un empleo?\n\n\nTe Ayudaremos a:\n1- Preparar tu currículum vitae\, así como realizar entrevistas de trabajo.\n2-Las TIC como herramienta para la búsqueda de empleo.\n3-Aspectos psicosociales para la mejora de la empleabilidad.\nTambién trabajaremos contenidos de igualdad y prevención de la violencia.\n\n\n\nFechas: 8-9-10-11-15-16 de Noviembre de 2022.\n\nLugar: Centro cultural San Vicente Ferrer 10:00-13:00 horas.\n\n\n\nSi eres mujer y estás desempleada ¡APUNTATE!!\n Pangea: 658795708.  Inclusión: 651317242\n\n 
URL:https://www.mancomunidadlavega.es/event/freya-brilla-en-tu-busqueda-laboral-algorfa-3-2/
LOCATION:Centro Cultural San Vicente Ferrer Jacarilla\, Algorfa
CATEGORIES:Algorfa,Mujer
GEO:38.0849165;-0.7966752
END:VEVENT
BEGIN:VEVENT
DTSTART;TZID=UTC:20221116T160000
DTEND;TZID=UTC:20221116T173000
DTSTAMP:20260419T192137
CREATED:20221028T095139Z
LAST-MODIFIED:20221107T041754Z
UID:42914-1668614400-1668619800@www.mancomunidadlavega.es
SUMMARY:Bienestar Emocional Algorfa
DESCRIPTION:Bienestar emocional. \n\nAquí encontrarás un grupo de apoyo emocional para mujeres dónde poder compartir sentimientos\, métodos de autocontrol y fortalecimiento del estado emocional.\n\n\n\nEl grupo garantiza la privacidad y confidencialidad. \n\n\nCuenta con el acompañamiento de una psicóloga.\n\n\n \n\n\nLas sesiones son quincenales.\n\n\n16 noviembre\n\n\nAlgorfa – 16:00 Centro Cultural San Vicente Ferrer\n\n\nSan Miguel – 18:00 Servicios Sociales\n\n\nRedován – 20:00 Centro Social 3ª Edad\n\n\n \n\n\nInscripciones: Sofía 658 757 043\n\nMás información e inscripciones: Bienestar emocional \n 
URL:https://www.mancomunidadlavega.es/event/bienestar-emocional-algorfa-2-2-2/
LOCATION:Centro Cultural San Vicente Ferrer. Algorfa\, Av. Constitución\, 35\, Algorfa\, Alicante\, 03169\, España
CATEGORIES:Algorfa,Mujer
GEO:38.0868832;-0.7958869
X-APPLE-STRUCTURED-LOCATION;VALUE=URI;X-ADDRESS=Centro Cultural San Vicente Ferrer. Algorfa Av. Constitución 35 Algorfa Alicante 03169 España;X-APPLE-RADIUS=500;X-TITLE=Av. Constitución\, 35:geo:-0.7958869,38.0868832
END:VEVENT
BEGIN:VEVENT
DTSTART;TZID=UTC:20221116T170000
DTEND;TZID=UTC:20221116T183000
DTSTAMP:20260419T192137
CREATED:20221104T125417Z
LAST-MODIFIED:20221114T082320Z
UID:43073-1668618000-1668623400@www.mancomunidadlavega.es
SUMMARY:Taller Defensa Personal femenina. Algorfa
DESCRIPTION:Taller de Defensa personal \nAprenderás técnicas para bloquear al contrario en puntos vulnerables\, estrategias psicológicas o a reaccionar a los diferentes tipos de agresión. \nCon la instructora Arantxa Ferre Leza. Experta en autodefensa. \n  \nUbicación y horarios \nAlgorfa:  Centro Cultural San Vicente Ferrer. Miércoles 16\, 23 y 30 noviembre a las 17\,00. \nConsultar otros municipios. \nInscripciones: https://forms.gle/37U5Aea2jQVv88q57
URL:https://www.mancomunidadlavega.es/event/taller-defensa-personal-femenina-algorfa/
LOCATION:Centro Cultural San Vicente Ferrer. Algorfa\, Av. Constitución\, 35\, Algorfa\, Alicante\, 03169\, España
CATEGORIES:Algorfa,Infancia y Familia,Jóvenes,Mayores,Mujer
GEO:38.0868832;-0.7958869
X-APPLE-STRUCTURED-LOCATION;VALUE=URI;X-ADDRESS=Centro Cultural San Vicente Ferrer. Algorfa Av. Constitución 35 Algorfa Alicante 03169 España;X-APPLE-RADIUS=500;X-TITLE=Av. Constitución\, 35:geo:-0.7958869,38.0868832
END:VEVENT
BEGIN:VEVENT
DTSTART;VALUE=DATE:20221117
DTEND;VALUE=DATE:20221118
DTSTAMP:20260419T192137
CREATED:20221117T113229Z
LAST-MODIFIED:20221118T092921Z
UID:43721-1668643200-1668729599@www.mancomunidadlavega.es
SUMMARY:X Encuentro de familias acogedoras MLV
DESCRIPTION:Es un espacio de reflexión y relación de las familias que en la mancomunidad han decidido incorporar a sus hogares a niños y niñas que requieren de un entorno de seguridad y afecto.\n\n\nEl equipo del EEIIA de la mancomunidad (equipo de atención específica a infancia y adolescencia) les proporciona apoyo y supervisión en esta complicada tarea.\n\n\n\nTrataremos temas como:\n\n\n\nLa historia de vida de los niños\, niñas y adolescentes.\nLa relación entre familias de acogida y familias biológicas.\nLas visitas entre los menores y sus padres y madres.\n\nLas familias aportarán sus vivencias y experiencias en compañía de una psicóloga\, una educadora y un trabajadora social.\n\n\nHorario y ubicación: 17 de noviembre a las 18:00h en el Centro Cultural San Vicente Ferrer. \n 
URL:https://www.mancomunidadlavega.es/event/x-encuentro-de-familias-acogedoras-mlv/
LOCATION:Centro Cultural San Vicente Ferrer. Algorfa\, Av. Constitución\, 35\, Algorfa\, Alicante\, 03169\, España
CATEGORIES:Algorfa,Infancia y Familia
GEO:38.0868832;-0.7958869
X-APPLE-STRUCTURED-LOCATION;VALUE=URI;X-ADDRESS=Centro Cultural San Vicente Ferrer. Algorfa Av. Constitución 35 Algorfa Alicante 03169 España;X-APPLE-RADIUS=500;X-TITLE=Av. Constitución\, 35:geo:-0.7958869,38.0868832
END:VEVENT
BEGIN:VEVENT
DTSTART;TZID=UTC:20221117T190000
DTEND;TZID=UTC:20221117T190000
DTSTAMP:20260419T192137
CREATED:20221107T103700Z
LAST-MODIFIED:20230222T134129Z
UID:43303-1668711600-1668711600@www.mancomunidadlavega.es
SUMMARY:Hablemos de Alcohol en familia. Algorfa
DESCRIPTION:“HABLAR DE ALCOHOL en familia”\, conversar con éxito sobre el alcohol y sus riesgos.\nEste taller pretende\, de forma práctica\, ayudar a padres\, madres y educadores/as a iniciar conversaciones útiles sobre el alcohol con sus hijos e hijas. Porque sabemos que la mejor manera de prevenir problemas por el uso de alcohol es hablando abierta y sinceramente sobre este tema con los hijos e hijas.\nContenido:\nHablar de alcohol y que te entiendan: uso de ejemplos e historias para explicar ¿qué es?\, cuáles son sus efectos y ¿por qué se consume?.\nCuándo hacerlo: crear momentos y aprovechar oportunidades: películas\, series…¿a partir de qué edad hacerlo?\nEnseñar a esperar: cómo podemos retrasar la edad de inicio en su consumo.\nHabilidades para escuchar\, detectar y gestionar riesgos.\nClaves para actuar ante los primeros consumos de riesgo.\nEl taller será impartido por la psicóloga de la Unidad de Prevención Comunitaria en Conductas Adictivas (UPCCA) de Mancomunidad La Vega.\nUbicación y horario:   Jueves 17 de noviembre  – Algorfa 19:00. Centro Cultural San Vicente Ferrer \nWhatsapp. 645 920 626. 
URL:https://www.mancomunidadlavega.es/event/hablemos-de-alcohol-en-familia-algorfa/
LOCATION:Centro Cultural San Vicente Ferrer. Algorfa\, Av. Constitución\, 35\, Algorfa\, Alicante\, 03169\, España
CATEGORIES:Algorfa,Infancia y Familia
GEO:38.0868832;-0.7958869
X-APPLE-STRUCTURED-LOCATION;VALUE=URI;X-ADDRESS=Centro Cultural San Vicente Ferrer. Algorfa Av. Constitución 35 Algorfa Alicante 03169 España;X-APPLE-RADIUS=500;X-TITLE=Av. Constitución\, 35:geo:-0.7958869,38.0868832
END:VEVENT
BEGIN:VEVENT
DTSTART;VALUE=DATE:20221118
DTEND;VALUE=DATE:20221119
DTSTAMP:20260419T192137
CREATED:20221115T124632Z
LAST-MODIFIED:20221118T131241Z
UID:43629-1668729600-1668815999@www.mancomunidadlavega.es
SUMMARY:Radio Ser Jacarilla. Día Derechos de la Infancia
DESCRIPTION:  \nRadio Ser Jacarilla. Día Derechos de la Infancia\nEl Día Universal de la Infancia se celebra cada 20 de noviembre. \nEs un día destinado a valorar a la Infancia\, sus derechos y deberes\, y a concienciar sobre la necesidad de ser responsables ante las  necesidades de los más débiles\, respetando el derecho de niños y niñas de poder vivir y crecer en un estado de bienestar físico y emocional. \nEn este programa\, la Técnica de Juventud de la Mancomunidad la Vega\, Elena Huete nos va a hablar sobre los Consejos Locales de Infancia y Adolescencia (CLIA) que son los órganos de participación y representación de los niños\, niñas y adolescentes (NNA) en cada municipio. En el caso de Mancomunidad la Vega\, los 4 municipios que la conforman: Algorfa\, Jacarilla\, Redován y San Miguel de Salinas.
URL:https://www.mancomunidadlavega.es/event/radio-ser-jacarilla-dia-derechos-de-la-infancia-2/
CATEGORIES:Algorfa,Infancia y Familia,Jacarilla,Jóvenes,Mujer,Redován,San Miguel de Salinas
END:VEVENT
BEGIN:VEVENT
DTSTART;VALUE=DATE:20221119
DTEND;VALUE=DATE:20221120
DTSTAMP:20260419T192137
CREATED:20221115T122035Z
LAST-MODIFIED:20221118T130405Z
UID:43627-1668816000-1668902399@www.mancomunidadlavega.es
SUMMARY:Día Internacional Abuso Sexual Infantil.
DESCRIPTION:El abuso y maltrato infantil es un problema que afecta a todos los países del mundo. El 19 de noviembre se celebra el «Día Mundial para la prevención del abuso infantil»\, iniciativa de la Fundación de la Cumbre Mundial de la Mujer (FCMM).\n\nTodos debemos sumarnos a la protección y y prevención de esta lacra a través de acciones de concienciación. \nDesde CIAM Mancomunidad la Vega\, nos sumamos a este día y también deseamos conmemorar el día 20 de Noviembre\, «Día de los derechos de la infancia» realizando una excursión con nuestros pequeños al Street Jump de Elche. \nPara más INFO sobre esta actividad llama al 966755639  www.mancomunidadlavega.es
URL:https://www.mancomunidadlavega.es/event/dia-internacional-abuso-sexual-infantil/
LOCATION:Sede Mancomunidad\, Plaza del Ayuntamiento 4\, Redován\, Alicante\, 03370\, España
CATEGORIES:Algorfa,Infancia y Familia,Jacarilla,Jóvenes,Redován,San Miguel de Salinas
GEO:38.1137441;-0.9052296
X-APPLE-STRUCTURED-LOCATION;VALUE=URI;X-ADDRESS=Sede Mancomunidad Plaza del Ayuntamiento 4 Redován Alicante 03370 España;X-APPLE-RADIUS=500;X-TITLE=Plaza del Ayuntamiento 4:geo:-0.9052296,38.1137441
END:VEVENT
BEGIN:VEVENT
DTSTART;VALUE=DATE:20221120
DTEND;VALUE=DATE:20221121
DTSTAMP:20260419T192137
CREATED:20221116T081521Z
LAST-MODIFIED:20221120T073852Z
UID:43650-1668902400-1668988799@www.mancomunidadlavega.es
SUMMARY:Día Derechos de la Infancia.
DESCRIPTION:  \nEn este día\, 20 de noviembre\, se conmemora La Declaración de los Derechos del Niño de 1959 y  la Convención sobre los Derechos del Niño de 1989. \nEn ellos se contemplan los 10 derechos fundamentales de niños \, niñas y adolescentes. Estos son: \n\nDerecho a la igualdad.\nDerecho a una protección especial.\nDerecho a un nombre y una nacionalidad.\nDerecho a alimentación\, vivienda y atención médica.\nDerecho a una educación y atención especial.\nDerecho a comprensión y amor.\nDerecho a actividades de ocio y educación gratuita.\nDerecho a recibir atención y ayuda preferente.\nDerecho a la protección.\nDerecho a una crianza basada en valores.\n\nDesde #MancomunidadlaVega apoyamos esta  fecha  especial\, por todos los avances conseguidos\, y para que prevalezcan las necesidades de la Infancia\, sus derechos y deberes\, y nos concienciemos sobre la  responsabilidad que tiene la sociedad en el bienestar infantil.
URL:https://www.mancomunidadlavega.es/event/radio-ser-jacarilla-dia-derechos-de-la-infancia-2-2/
CATEGORIES:Algorfa,Infancia y Familia,Jacarilla,Jóvenes,Mujer,Redován,San Miguel de Salinas
END:VEVENT
END:VCALENDAR