BEGIN:VCALENDAR
VERSION:2.0
PRODID:-//Mancomunidad la vega - ECPv6.11.2//NONSGML v1.0//EN
CALSCALE:GREGORIAN
METHOD:PUBLISH
X-ORIGINAL-URL:https://www.mancomunidadlavega.es
X-WR-CALDESC:Eventos para Mancomunidad la vega
REFRESH-INTERVAL;VALUE=DURATION:PT1H
X-Robots-Tag:noindex
X-PUBLISHED-TTL:PT1H
BEGIN:VTIMEZONE
TZID:UTC
BEGIN:STANDARD
TZOFFSETFROM:+0000
TZOFFSETTO:+0000
TZNAME:UTC
DTSTART:20220101T000000
END:STANDARD
END:VTIMEZONE
BEGIN:VEVENT
DTSTART;TZID=UTC:20221107T113000
DTEND;TZID=UTC:20221107T123000
DTSTAMP:20260420T002809
CREATED:20221102T122544Z
LAST-MODIFIED:20221102T122544Z
UID:42975-1667820600-1667824200@www.mancomunidadlavega.es
SUMMARY:Taller: Economía doméstica. Algorfa
DESCRIPTION:Este mes se imparten los talleres de Economía doméstica.\nSi estás interesado/a te esperamos  directamente en el taller. \nHorarios y ubicación: \nAlgorfa: Día 7\, a las 11.30\, en Centro cultural Vicente Ferrer. \nRedován: Día 8\, a las 11.30\, en el Centro social de la 3ª edad. \nSan Miguel: Día 9\, a las 11.30\, en Servicios Sociales. \nJacarilla: Día 10\, a las 11.30\, en la Casa de la cultura. \n  \n  \n 
URL:https://www.mancomunidadlavega.es/event/taller-economia-domestica-algorfa-2/
CATEGORIES:Algorfa,Infancia y Familia,Mujer
END:VEVENT
BEGIN:VEVENT
DTSTART;TZID=UTC:20221108T100000
DTEND;TZID=UTC:20221108T130000
DTSTAMP:20260420T002809
CREATED:20220905T104229Z
LAST-MODIFIED:20221109T075556Z
UID:40735-1667901600-1667912400@www.mancomunidadlavega.es
SUMMARY:Freya. Brilla en tu búsqueda laboral. Algorfa
DESCRIPTION:FREYA\, BRILLA EN TU BUSQUEDA LABORAL es un taller dirigido a mejorar la empleabilidad de mujeres.\n\n\nTe Ayudaremos a:\n1- Preparar tu currículum vitae\, así como realizar entrevistas de trabajo.\n2-Las TIC como herramienta para la búsqueda de empleo.\n3-Aspectos psicosociales para la mejora de la empleabilidad.\nTambién trabajaremos contenidos de igualdad y prevención de la violencia.\n\n\n\nFechas: 8-9-10-11-15-16 de Noviembre de 2022.\n\nLugar: Centro cultural San Vicente Ferrer 10:00-13:00 horas.\n\n\nSi eres mujer y estás desempleada ¡APUNTATE!!\n Pangea: 658795708.  Inclusión: 651317242\n\n 
URL:https://www.mancomunidadlavega.es/event/freya-brilla-en-tu-busqueda-laboral-algorfa/
LOCATION:Centro Cultural San Vicente Ferrer. Algorfa\, Av. Constitución\, 35\, Algorfa\, Alicante\, 03169\, España
CATEGORIES:Algorfa,Mujer
GEO:38.0868832;-0.7958869
X-APPLE-STRUCTURED-LOCATION;VALUE=URI;X-ADDRESS=Centro Cultural San Vicente Ferrer. Algorfa Av. Constitución 35 Algorfa Alicante 03169 España;X-APPLE-RADIUS=500;X-TITLE=Av. Constitución\, 35:geo:-0.7958869,38.0868832
END:VEVENT
BEGIN:VEVENT
DTSTART;TZID=UTC:20221109T100000
DTEND;TZID=UTC:20221109T130000
DTSTAMP:20260420T002809
CREATED:20221028T082816Z
LAST-MODIFIED:20221109T075513Z
UID:42875-1667988000-1667998800@www.mancomunidadlavega.es
SUMMARY:Freya. Brilla en tu búsqueda laboral. Algorfa
DESCRIPTION:FREYA\, BRILLA EN TU BUSQUEDA LABORAL es un taller dirigido a mejorar la empleabilidad de mujeres que se va a realizar en Algorfa\n\n\n¿Necesitas mejorar tus habilidades para conseguir un empleo?\n\n\nTe Ayudaremos a:\n1- Preparar tu currículum vitae\, así como realizar entrevistas de trabajo.\n2-Las TIC como herramienta para la búsqueda de empleo.\n3-Aspectos psicosociales para la mejora de la empleabilidad.\nTambién trabajaremos contenidos de igualdad y prevención de la violencia.\n\n\n\nFechas: 8-9-10-11-15-16 de Noviembre de 2022.\n\nLugar: Centro cultural San Vicente Ferrer 10:00-13:00 horas.\n\n\nSi eres mujer y estás desempleada ¡APUNTATE!!\n Pangea: 658795708.  Inclusión: 651317242\n\n 
URL:https://www.mancomunidadlavega.es/event/freya-brilla-en-tu-busqueda-laboral-algorfa-2/
LOCATION:Centro Cultural San Vicente Ferrer. Algorfa\, Av. Constitución\, 35\, Algorfa\, Alicante\, 03169\, España
CATEGORIES:Algorfa,Mujer
GEO:38.0868832;-0.7958869
X-APPLE-STRUCTURED-LOCATION;VALUE=URI;X-ADDRESS=Centro Cultural San Vicente Ferrer. Algorfa Av. Constitución 35 Algorfa Alicante 03169 España;X-APPLE-RADIUS=500;X-TITLE=Av. Constitución\, 35:geo:-0.7958869,38.0868832
END:VEVENT
BEGIN:VEVENT
DTSTART;TZID=UTC:20221110T100000
DTEND;TZID=UTC:20221110T130000
DTSTAMP:20260420T002809
CREATED:20221028T082850Z
LAST-MODIFIED:20221109T075400Z
UID:42877-1668074400-1668085200@www.mancomunidadlavega.es
SUMMARY:Freya. Brilla en tu búsqueda laboral. Algorfa
DESCRIPTION:FREYA\, BRILLA EN TU BUSQUEDA LABORAL es un taller dirigido a mejorar la empleabilidad de mujeres.\n\n\n¿Necesitas mejorar tus habilidades para conseguir un empleo?\n\n\nTe Ayudaremos a:\n1- Preparar tu currículum vitae\, así como realizar entrevistas de trabajo.\n2-Las TIC como herramienta para la búsqueda de empleo.\n3-Aspectos psicosociales para la mejora de la empleabilidad.\nTambién trabajaremos contenidos de igualdad y prevención de la violencia.\n\n\n\nFechas: 8-9-10-11-15-16 de Noviembre de 2022.\n\nLugar: Centro cultural San Vicente Ferrer 10:00-13:00 horas.\n\n\nSi eres mujer y estás desempleada ¡APUNTATE!!\n Pangea: 658795708.  Inclusión: 651317242\n\n 
URL:https://www.mancomunidadlavega.es/event/freya-brilla-en-tu-busqueda-laboral-algorfa-2-2/
LOCATION:Centro Cultural San Vicente Ferrer. Algorfa\, Av. Constitución\, 35\, Algorfa\, Alicante\, 03169\, España
CATEGORIES:Algorfa,Mujer
GEO:38.0868832;-0.7958869
X-APPLE-STRUCTURED-LOCATION;VALUE=URI;X-ADDRESS=Centro Cultural San Vicente Ferrer. Algorfa Av. Constitución 35 Algorfa Alicante 03169 España;X-APPLE-RADIUS=500;X-TITLE=Av. Constitución\, 35:geo:-0.7958869,38.0868832
END:VEVENT
BEGIN:VEVENT
DTSTART;TZID=UTC:20221111T100000
DTEND;TZID=UTC:20221111T130000
DTSTAMP:20260420T002809
CREATED:20221028T082917Z
LAST-MODIFIED:20221109T075301Z
UID:42879-1668160800-1668171600@www.mancomunidadlavega.es
SUMMARY:Freya. Brilla en tu búsqueda laboral. Algorfa
DESCRIPTION:FREYA\, BRILLA EN TU BUSQUEDA LABORAL es un taller dirigido a mejorar la empleabilidad de mujeres.\n\n\n¿Necesitas mejorar tus habilidades para conseguir un empleo?\n\n\nTe Ayudaremos a:\n1- Preparar tu currículum vitae\, así como realizar entrevistas de trabajo.\n2-Las TIC como herramienta para la búsqueda de empleo.\n3-Aspectos psicosociales para la mejora de la empleabilidad.\nTambién trabajaremos contenidos de igualdad y prevención de la violencia.\n\n\n\nFechas: 8-9-10-11-15-16 de Noviembre de 2022.\n\nLugar: Centro cultural San Vicente Ferrer 10:00-13:00 horas.\n\n\nSi eres mujer y estás desempleada ¡APUNTATE!!\n Pangea: 658795708.  Inclusión: 651317242\n\n 
URL:https://www.mancomunidadlavega.es/event/freya-brilla-en-tu-busqueda-laboral-algorfa-2-2-2/
LOCATION:Centro Cultural San Vicente Ferrer Jacarilla\, Algorfa
CATEGORIES:Algorfa,Mujer
GEO:38.0849165;-0.7966752
END:VEVENT
END:VCALENDAR