BEGIN:VCALENDAR
VERSION:2.0
PRODID:-//Mancomunidad la vega - ECPv6.11.2//NONSGML v1.0//EN
CALSCALE:GREGORIAN
METHOD:PUBLISH
X-ORIGINAL-URL:https://www.mancomunidadlavega.es
X-WR-CALDESC:Eventos para Mancomunidad la vega
REFRESH-INTERVAL;VALUE=DURATION:PT1H
X-Robots-Tag:noindex
X-PUBLISHED-TTL:PT1H
BEGIN:VTIMEZONE
TZID:UTC
BEGIN:STANDARD
TZOFFSETFROM:+0000
TZOFFSETTO:+0000
TZNAME:UTC
DTSTART:20220101T000000
END:STANDARD
END:VTIMEZONE
BEGIN:VEVENT
DTSTART;TZID=UTC:20221014T100000
DTEND;TZID=UTC:20221014T110000
DTSTAMP:20260419T154932
CREATED:20221005T102455Z
LAST-MODIFIED:20221005T102455Z
UID:40992-1665741600-1665745200@www.mancomunidadlavega.es
SUMMARY:Taller Mi móvil y yo. Algorfa
DESCRIPTION:Taller práctico en el que acercamos las nuevas tecnologías a las personas mayores. \nContenido: \n¿Cómo utilizar el Smartphone? \n\nBeneficios y utilidad.\nManejo Básico: Encender apagar\, batería tarjetas y carga.\nMultimedia: Fotos\, vídeos…\nAcceso a Internet y configuración del correo.\nInstalación y uso del WhatsApp y Zoom (mensajería y videollamada).\n\n \n\nALGORFA: 14 de 0ctubre 2022\n \n\nLugar: Centro Cultural San Vicente Ferrer\nHora: a partir de las 10:00h\n\n\n\nPrecio: Gratuito\n\n+ Info. e inscripciones: https://www.mancomunidadlavega.es/tramites/mimovilyyo/
URL:https://www.mancomunidadlavega.es/event/tecnologiasalgorfa-2/
LOCATION:Centro Social Algorfa\, Centro Social. Plaza de España\, sn\, Algorfa\, Alicante\, 03169\, España
CATEGORIES:Algorfa,Mayores
GEO:38.0659364;-0.7789426
X-APPLE-STRUCTURED-LOCATION;VALUE=URI;X-ADDRESS=Centro Social Algorfa Centro Social. Plaza de España sn Algorfa Alicante 03169 España;X-APPLE-RADIUS=500;X-TITLE=Centro Social. Plaza de España\, sn:geo:-0.7789426,38.0659364
END:VEVENT
BEGIN:VEVENT
DTSTART;TZID=UTC:20221016T100000
DTEND;TZID=UTC:20221016T123000
DTSTAMP:20260419T154932
CREATED:20221010T095117Z
LAST-MODIFIED:20230726T120532Z
UID:41300-1665914400-1665923400@www.mancomunidadlavega.es
SUMMARY:Findes en familia. Algorfa
DESCRIPTION:  \n¿Sueñas con unos momentos de diversión en plena Naturaleza? \n¿Hart@ de que l@s peques pasen demasiadas horas con el móvil? \n¿Tienes necesidad de respirar aire puro y disfrutar con tu familia? \n\nAHORA ES EL MOMENTO.\n\n\nEL sábado día 16 de Octubre comenzaremos en la Plaza del Ayuntamiento\, desde allí haremos la ruta hacia el Hoyo del Serrano para disfrutar de las actividades que nos han preparado desde el EEIIA de la Mancomunidad.\nLa actividad es gratuita.\nHay que inscribirse por teléfono 658757043(Sofia)/658796280 (Tamara)\n\n\n Calendario\n\nDomingo 09 de Octubre de 10h. – 13h. en San Miguel.\nSábado 15 de Octubre de 10h. – 13h. en Redován.\nDomingo 16 de Octubre de 10h. – 12:30h. en Algorfa.\nSábado 29 de Octubre de 10h. – 13h. en Jacarilla.\nFINDES EN FAMILIA   Caminando Junt@s.
URL:https://www.mancomunidadlavega.es/event/algorfa-2/
LOCATION:Servicios Sociales Redovan
CATEGORIES:Algorfa,Infancia y Familia
END:VEVENT
END:VCALENDAR