BEGIN:VCALENDAR
VERSION:2.0
PRODID:-//Mancomunidad la vega - ECPv6.11.2//NONSGML v1.0//EN
CALSCALE:GREGORIAN
METHOD:PUBLISH
X-ORIGINAL-URL:https://www.mancomunidadlavega.es
X-WR-CALDESC:Eventos para Mancomunidad la vega
REFRESH-INTERVAL;VALUE=DURATION:PT1H
X-Robots-Tag:noindex
X-PUBLISHED-TTL:PT1H
BEGIN:VTIMEZONE
TZID:UTC
BEGIN:STANDARD
TZOFFSETFROM:+0000
TZOFFSETTO:+0000
TZNAME:UTC
DTSTART:20220101T000000
END:STANDARD
END:VTIMEZONE
BEGIN:VEVENT
DTSTART;TZID=UTC:20220919T120000
DTEND;TZID=UTC:20220919T140000
DTSTAMP:20260419T192221
CREATED:20220905T105845Z
LAST-MODIFIED:20220905T105845Z
UID:40744-1663588800-1663596000@www.mancomunidadlavega.es
SUMMARY:Taller Renta Valenciana de Inclusión. Algorfa
DESCRIPTION:Taller informativo Renta Valenciana de Inclusión. \n\n¿Qué es?\n¿A qué tipo puedo acceder?\n¿Qué documentación necesito?\n\n19  de septiembre a las 9:30h. en el Centro Social de Algorfa.
URL:https://www.mancomunidadlavega.es/event/taller-renta-valenciana-de-inclusion-algorfa-2/
LOCATION:Centro Cultural San Vicente Ferrer Jacarilla\, Algorfa
CATEGORIES:Algorfa,Diversidad Funcional,Infancia y Familia,Jóvenes,Mayores,Mujer,Otros Colectivos
GEO:38.0849165;-0.7966752
END:VEVENT
BEGIN:VEVENT
DTSTART;TZID=UTC:20220920T160000
DTEND;TZID=UTC:20220920T173000
DTSTAMP:20260419T192221
CREATED:20220912T085414Z
LAST-MODIFIED:20220912T091027Z
UID:40781-1663689600-1663695000@www.mancomunidadlavega.es
SUMMARY:Taller online familias UNAF: Prevención fracaso escolar
DESCRIPTION:  \n\n\n\n\n\nDALE LA VUELTA AL FRACASO ESCOLAR.\n\nTaller online para familias: «Prevención del fracaso escolar en el ámbito familiar de UNAF – Unión de Asociaciones Familiares».\nCon el nuevo curso\, nuestros hijos e hijas vuelven de nuevo a las aulas y con ello\, las preocupaciones de cómo les va a ir y de cómo podemos ayudarles para que superen con éxito el curso. En este taller te daremos las claves.\nAprenderás estrategias prácticas para la prevención del fracaso escolar de tus hijos e hijas adolescentes\, las características que definen la preadolescencia\, cuáles son las conductas de riesgo y qué factores influyen\, así como pautas familiares y hábitos de estudio.\n\n\n\nEl taller será Impartido por la UNAF – Unión de Asociaciones Familiares e incluido en su programa para la prevención de conductas de riesgo en niños\, niñas y adolescentes.\n\n\n\n El próximo miércoles 20 de septiembre 2022\, a las 16:00h vía Zoom.\n\n Inscríbete en: https://forms.gle/VS4q1eF6y49QWgT7A\n\n\n+ Info. en: www.mancomunidadlavega.es\n\n\n\n\n\n\n\n\n 
URL:https://www.mancomunidadlavega.es/event/taller-online-familias-unaf-prevencion-fracaso-escolar/
CATEGORIES:Algorfa,Infancia y Familia,Jacarilla,Redován,San Miguel de Salinas
ATTACH;FMTTYPE=image/jpeg:https://www.mancomunidadlavega.es/wp-content/uploads/2022/09/cartel-taller-fracaso-escolar.jpg
END:VEVENT
BEGIN:VEVENT
DTSTART;TZID=UTC:20220922T180000
DTEND;TZID=UTC:20220922T200000
DTSTAMP:20260419T192221
CREATED:20220912T122255Z
LAST-MODIFIED:20220919T095032Z
UID:40779-1663869600-1663876800@www.mancomunidadlavega.es
SUMMARY:Al cole de Mayores. Algorfa
DESCRIPTION:Taller para madres y padres en el que se van a tratar los aspectos más importantes que afectan a nuestras hijas e hijos que empiezan la Educación Primaria. \nContenidos: \n\n¿Cuáles son los cambios a los que se enfrentan los niños y niñas que empiezan la Educación Primaria?\n¿Cómo vivimos madres y padres estos cambios?\n¿Cómo acompañarles en esta nueva etapa?\n¿Qué estrategias prácticas podemos seguir?\n¿Cómo es el día a día de nuestra familia al inicio del curso?: rutinas\, hábitos de estudio (deberes\, exámenes\, juego\, etc).\n¿Qué es la parentalidad positiva?\n¿Cómo se educa en positivo?\n\n  \n  \n  \n\nEpoca de cambios al inicio del curso\, nuestros hijos e hijas se van haciendo mayores. ¿Como afrontarán el paso de infantil a primaria? ¿que debemos tener en cuenta? ¿Como podemos acompañarles?\n\n\nEn el taller NOS VAMOS AL COLE DE LOS MAYORES queremos darte respuestas a todas tus dudas o preocupaciones.\n\n\nSi todavia no lo has hecho\, inscribete a través del whatsapp en 658 795 854. Consulta las fechas de tu municipio:\n\n\n\nSAN MIGUEL DE SALINAS: Miércoles 21 de septiembre a las 16 horas en Servicios Sociales 1ª planta.\nJACARILLA: Miércoles 21 de septiembre a las 18 horas en la Casa de Cultura.\nREDOVAN: Jueves 22 de septiembre a las 16 horas en el Centro Social Tercera Edad 1ª planta\nALGORFA: Jueves 22 de septiembre a las 18 horas en el Centro Social (Casa dela Juventud)\n\nTe esperamos \n  \n  \n 
URL:https://www.mancomunidadlavega.es/event/al-cole-de-mayores-algorfa-2/
LOCATION:Centro Social Algorfa\, Centro Social. Plaza de España\, sn\, Algorfa\, Alicante\, 03169\, España
CATEGORIES:Algorfa,Infancia y Familia
GEO:38.0659364;-0.7789426
X-APPLE-STRUCTURED-LOCATION;VALUE=URI;X-ADDRESS=Centro Social Algorfa Centro Social. Plaza de España sn Algorfa Alicante 03169 España;X-APPLE-RADIUS=500;X-TITLE=Centro Social. Plaza de España\, sn:geo:-0.7789426,38.0659364
END:VEVENT
END:VCALENDAR