BEGIN:VCALENDAR
VERSION:2.0
PRODID:-//Mancomunidad la vega - ECPv6.11.2//NONSGML v1.0//EN
CALSCALE:GREGORIAN
METHOD:PUBLISH
X-WR-CALNAME:Mancomunidad la vega
X-ORIGINAL-URL:https://www.mancomunidadlavega.es
X-WR-CALDESC:Eventos para Mancomunidad la vega
REFRESH-INTERVAL;VALUE=DURATION:PT1H
X-Robots-Tag:noindex
X-PUBLISHED-TTL:PT1H
BEGIN:VTIMEZONE
TZID:UTC
BEGIN:STANDARD
TZOFFSETFROM:+0000
TZOFFSETTO:+0000
TZNAME:UTC
DTSTART:20220101T000000
END:STANDARD
END:VTIMEZONE
BEGIN:VEVENT
DTSTART;TZID=UTC:20220523T090000
DTEND;TZID=UTC:20220523T103000
DTSTAMP:20260421T052920
CREATED:20220303T124704Z
LAST-MODIFIED:20220303T124704Z
UID:38115-1653296400-1653301800@www.mancomunidadlavega.es
SUMMARY:Taller Educando en Valores. Algorfa
DESCRIPTION:Taller Educando en Valores. \nHorario escolar de marzo a mayo. \nVer todas las actividades del 8 de marzo: Actividades 8 de marzo \n+Info.: Educando en Valores \n 
URL:https://www.mancomunidadlavega.es/event/taller-educando-en-valores-algorfa-3-3-2-2-2/
LOCATION:CEIP MIGUEL DE CERVANTES. ALGORFA\, C/ MIGUEL HERNÁNDEZ\, 1\, Algorfa\, Alicante\, 03169\, España
CATEGORIES:Algorfa,Infancia y Familia
GEO:38.0849165;-0.7966752
X-APPLE-STRUCTURED-LOCATION;VALUE=URI;X-ADDRESS=CEIP MIGUEL DE CERVANTES. ALGORFA C/ MIGUEL HERNÁNDEZ 1 Algorfa Alicante 03169 España;X-APPLE-RADIUS=500;X-TITLE=C/ MIGUEL HERNÁNDEZ\, 1:geo:-0.7966752,38.0849165
END:VEVENT
BEGIN:VEVENT
DTSTART;TZID=UTC:20220523T090000
DTEND;TZID=UTC:20220523T113000
DTSTAMP:20260421T052920
CREATED:20220303T124642Z
LAST-MODIFIED:20220303T124642Z
UID:38113-1653296400-1653305400@www.mancomunidadlavega.es
SUMMARY:Taller Educando en Valores. Algorfa
DESCRIPTION:Taller Educando en Valores. \nHorario escolar de marzo a mayo. \nVer todas las actividades del 8 de marzo: Actividades 8 de marzo \n+Info.: Educando en Valores \n 
URL:https://www.mancomunidadlavega.es/event/taller-educando-en-valores-algorfa-3-3-2-2/
LOCATION:CEIP MIGUEL DE CERVANTES. ALGORFA\, C/ MIGUEL HERNÁNDEZ\, 1\, Algorfa\, Alicante\, 03169\, España
CATEGORIES:Algorfa,Infancia y Familia
GEO:38.0849165;-0.7966752
X-APPLE-STRUCTURED-LOCATION;VALUE=URI;X-ADDRESS=CEIP MIGUEL DE CERVANTES. ALGORFA C/ MIGUEL HERNÁNDEZ 1 Algorfa Alicante 03169 España;X-APPLE-RADIUS=500;X-TITLE=C/ MIGUEL HERNÁNDEZ\, 1:geo:-0.7966752,38.0849165
END:VEVENT
BEGIN:VEVENT
DTSTART;TZID=UTC:20220526T163000
DTEND;TZID=UTC:20220526T203000
DTSTAMP:20260421T052920
CREATED:20220516T070220Z
LAST-MODIFIED:20220516T070220Z
UID:39873-1653582600-1653597000@www.mancomunidadlavega.es
SUMMARY:Formación online. Violencia de género digital
DESCRIPTION:¿Sabías que más del 25% de las chicas reconoce haber sufrido algún tipo de control o violencia desde el móvil? Esto también es violencia de género. \n\nPor ello\, Mancomunidad La Vega ha organizado una formación en modalidad online para prevenir la violencia de género en entornos digitales.\n\n\nEste curso\, de 24 horas de formación\, tiene como objetivos:\n\nReconocer las situaciones y causas que provocan la violencia de género digital\nAnalizar medidas y recursos para la detección de ciberacosadores y evidencias\nEstablecer líneas de actuación con víctimas de violencia digital\n\n\n\nLa formación se llevará a cabo los días 12\, 19 y 26 de mayo y 2 y 7 de junio en horario de 16:30h a 20:30h.\n\n\nEl curso se realizará a través de un campus virtual con acceso a clases por videoconferencia. Una vez finalizada la formación\, se entregará un certificado de realización homologado por el IVAP.\n\n\nLas inscripciones se realizarán en https://forms.gle/v2TJu64F4FrGCVbc9\n\n\nEste curso está financiado por los fondos del Pacto de Estado en materia de Violencia de Género.\n\n\n#AgenciadeIgualdad #YoIgualaTú #MancomunidadLaVega #ServiciosSociales #ViolenciadeGéneroDigital #PrevencióndeViolenciadeGénero\n\n 
URL:https://www.mancomunidadlavega.es/event/formacion-online-violencia-de-genero-digital-3/
CATEGORIES:Algorfa,Jacarilla,Jóvenes,Mujer,Redován,San Miguel de Salinas
END:VEVENT
END:VCALENDAR