BEGIN:VCALENDAR
VERSION:2.0
PRODID:-//Mancomunidad la vega - ECPv6.11.2//NONSGML v1.0//EN
CALSCALE:GREGORIAN
METHOD:PUBLISH
X-WR-CALNAME:Mancomunidad la vega
X-ORIGINAL-URL:https://www.mancomunidadlavega.es
X-WR-CALDESC:Eventos para Mancomunidad la vega
REFRESH-INTERVAL;VALUE=DURATION:PT1H
X-Robots-Tag:noindex
X-PUBLISHED-TTL:PT1H
BEGIN:VTIMEZONE
TZID:UTC
BEGIN:STANDARD
TZOFFSETFROM:+0000
TZOFFSETTO:+0000
TZNAME:UTC
DTSTART:20200101T000000
END:STANDARD
END:VTIMEZONE
BEGIN:VEVENT
DTSTART;TZID=UTC:20201123T160000
DTEND;TZID=UTC:20201123T170000
DTSTAMP:20260426T021938
CREATED:20201117T125116Z
LAST-MODIFIED:20201117T131611Z
UID:31480-1606147200-1606150800@www.mancomunidadlavega.es
SUMMARY:Algorfa. Taller práctico\, mejorar habilidades de crianza.
DESCRIPTION:¿Cómo educar y no morir en el intento? \nTaller práctico para mejorar las habilidades de crianza. \nLunes 23 de Noviembre a las 16:00h\, Centro Social. \n\n Aforo limitado por protocolo COVID.\n\n\n\n\n  \n\n\n 
URL:https://www.mancomunidadlavega.es/event/algorfa-taller-practico-mejorar-habilidades-de-crianza/
LOCATION:Servicios Sociales Redovan
CATEGORIES:Algorfa,Infancia y Familia
END:VEVENT
BEGIN:VEVENT
DTSTART;TZID=UTC:20201125T170000
DTEND;TZID=UTC:20201125T180000
DTSTAMP:20260426T021938
CREATED:20201117T140153Z
LAST-MODIFIED:20201117T140311Z
UID:31500-1606323600-1606327200@www.mancomunidadlavega.es
SUMMARY:Charla digital-Online. Prácticas de autocuidado.
DESCRIPTION:👉 Con motivo del Día Internacional para la eliminación de la Violencia contra la Mujer\, Afammer Alicante\ny la Agencia de Igualdad de la #MancomunidadlaVega\, os invitamos a la Charla on line “Practicas de Autocuidado para mujeres en tiempos de la COVID 19”\n📅⏰ Próximo 25 de noviembre a las 17:00h.\n👉 Inscripciones en: https://docs.google.com/…/1f7vF20wxetc40qGQH…/edit\n✅ Financiada por el Ministerio de Sanidad Consumo y Bienestar Social\,\n🚻 Os esperamos 🚻\n#mancomunidadlavega Ayuntamiento de San Miguel de Salinas (Alicante)\nAyuntamiento de Algorfa\nAyuntamiento de Redován\nJacarilla Ayuntamiento\n#igualdad #25N
URL:https://www.mancomunidadlavega.es/event/charla-digital-online-practicas-de-autocuidado/
CATEGORIES:Algorfa,Jacarilla,Mujer,Redován,San Miguel de Salinas
END:VEVENT
END:VCALENDAR