BEGIN:VCALENDAR
VERSION:2.0
PRODID:-//Mancomunidad la vega - ECPv6.11.2//NONSGML v1.0//EN
CALSCALE:GREGORIAN
METHOD:PUBLISH
X-ORIGINAL-URL:https://www.mancomunidadlavega.es
X-WR-CALDESC:Eventos para Mancomunidad la vega
REFRESH-INTERVAL;VALUE=DURATION:PT1H
X-Robots-Tag:noindex
X-PUBLISHED-TTL:PT1H
BEGIN:VTIMEZONE
TZID:UTC
BEGIN:STANDARD
TZOFFSETFROM:+0000
TZOFFSETTO:+0000
TZNAME:UTC
DTSTART:20220101T000000
END:STANDARD
END:VTIMEZONE
BEGIN:VEVENT
DTSTART;TZID=UTC:20221116T100000
DTEND;TZID=UTC:20221116T130000
DTSTAMP:20260419T135707
CREATED:20221028T083534Z
LAST-MODIFIED:20221109T074708Z
UID:42885-1668592800-1668603600@www.mancomunidadlavega.es
SUMMARY:Freya. Brilla en tu búsqueda laboral. Algorfa
DESCRIPTION:FREYA\, BRILLA EN TU BUSQUEDA LABORAL es un taller dirigido a mejorar la empleabilidad de mujeres.\n\n\n¿Necesitas mejorar tus habilidades para conseguir un empleo?\n\n\nTe Ayudaremos a:\n1- Preparar tu currículum vitae\, así como realizar entrevistas de trabajo.\n2-Las TIC como herramienta para la búsqueda de empleo.\n3-Aspectos psicosociales para la mejora de la empleabilidad.\nTambién trabajaremos contenidos de igualdad y prevención de la violencia.\n\n\n\nFechas: 8-9-10-11-15-16 de Noviembre de 2022.\n\nLugar: Centro cultural San Vicente Ferrer 10:00-13:00 horas.\n\n\n\nSi eres mujer y estás desempleada ¡APUNTATE!!\n Pangea: 658795708.  Inclusión: 651317242\n\n 
URL:https://www.mancomunidadlavega.es/event/freya-brilla-en-tu-busqueda-laboral-algorfa-3-2/
LOCATION:Centro Cultural San Vicente Ferrer Jacarilla\, Algorfa
CATEGORIES:Algorfa,Mujer
GEO:38.0849165;-0.7966752
END:VEVENT
BEGIN:VEVENT
DTSTART;TZID=UTC:20221116T160000
DTEND;TZID=UTC:20221116T173000
DTSTAMP:20260419T135707
CREATED:20221028T095139Z
LAST-MODIFIED:20221107T041754Z
UID:42914-1668614400-1668619800@www.mancomunidadlavega.es
SUMMARY:Bienestar Emocional Algorfa
DESCRIPTION:Bienestar emocional. \n\nAquí encontrarás un grupo de apoyo emocional para mujeres dónde poder compartir sentimientos\, métodos de autocontrol y fortalecimiento del estado emocional.\n\n\n\nEl grupo garantiza la privacidad y confidencialidad. \n\n\nCuenta con el acompañamiento de una psicóloga.\n\n\n \n\n\nLas sesiones son quincenales.\n\n\n16 noviembre\n\n\nAlgorfa – 16:00 Centro Cultural San Vicente Ferrer\n\n\nSan Miguel – 18:00 Servicios Sociales\n\n\nRedován – 20:00 Centro Social 3ª Edad\n\n\n \n\n\nInscripciones: Sofía 658 757 043\n\nMás información e inscripciones: Bienestar emocional \n 
URL:https://www.mancomunidadlavega.es/event/bienestar-emocional-algorfa-2-2-2/
LOCATION:Centro Cultural San Vicente Ferrer. Algorfa\, Av. Constitución\, 35\, Algorfa\, Alicante\, 03169\, España
CATEGORIES:Algorfa,Mujer
GEO:38.0868832;-0.7958869
X-APPLE-STRUCTURED-LOCATION;VALUE=URI;X-ADDRESS=Centro Cultural San Vicente Ferrer. Algorfa Av. Constitución 35 Algorfa Alicante 03169 España;X-APPLE-RADIUS=500;X-TITLE=Av. Constitución\, 35:geo:-0.7958869,38.0868832
END:VEVENT
BEGIN:VEVENT
DTSTART;TZID=UTC:20221116T170000
DTEND;TZID=UTC:20221116T183000
DTSTAMP:20260419T135707
CREATED:20221104T125417Z
LAST-MODIFIED:20221114T082320Z
UID:43073-1668618000-1668623400@www.mancomunidadlavega.es
SUMMARY:Taller Defensa Personal femenina. Algorfa
DESCRIPTION:Taller de Defensa personal \nAprenderás técnicas para bloquear al contrario en puntos vulnerables\, estrategias psicológicas o a reaccionar a los diferentes tipos de agresión. \nCon la instructora Arantxa Ferre Leza. Experta en autodefensa. \n  \nUbicación y horarios \nAlgorfa:  Centro Cultural San Vicente Ferrer. Miércoles 16\, 23 y 30 noviembre a las 17\,00. \nConsultar otros municipios. \nInscripciones: https://forms.gle/37U5Aea2jQVv88q57
URL:https://www.mancomunidadlavega.es/event/taller-defensa-personal-femenina-algorfa/
LOCATION:Centro Cultural San Vicente Ferrer. Algorfa\, Av. Constitución\, 35\, Algorfa\, Alicante\, 03169\, España
CATEGORIES:Algorfa,Infancia y Familia,Jóvenes,Mayores,Mujer
GEO:38.0868832;-0.7958869
X-APPLE-STRUCTURED-LOCATION;VALUE=URI;X-ADDRESS=Centro Cultural San Vicente Ferrer. Algorfa Av. Constitución 35 Algorfa Alicante 03169 España;X-APPLE-RADIUS=500;X-TITLE=Av. Constitución\, 35:geo:-0.7958869,38.0868832
END:VEVENT
END:VCALENDAR