BEGIN:VCALENDAR
VERSION:2.0
PRODID:-//Mancomunidad la vega - ECPv6.11.2//NONSGML v1.0//EN
CALSCALE:GREGORIAN
METHOD:PUBLISH
X-WR-CALNAME:Mancomunidad la vega
X-ORIGINAL-URL:https://www.mancomunidadlavega.es
X-WR-CALDESC:Eventos para Mancomunidad la vega
REFRESH-INTERVAL;VALUE=DURATION:PT1H
X-Robots-Tag:noindex
X-PUBLISHED-TTL:PT1H
BEGIN:VTIMEZONE
TZID:UTC
BEGIN:STANDARD
TZOFFSETFROM:+0000
TZOFFSETTO:+0000
TZNAME:UTC
DTSTART:20220101T000000
END:STANDARD
END:VTIMEZONE
BEGIN:VEVENT
DTSTART;TZID=UTC:20220602T163000
DTEND;TZID=UTC:20220602T203000
DTSTAMP:20260420T055433
CREATED:20220516T070244Z
LAST-MODIFIED:20220516T070244Z
UID:39875-1654187400-1654201800@www.mancomunidadlavega.es
SUMMARY:Formación online. Violencia de género digital
DESCRIPTION:¿Sabías que más del 25% de las chicas reconoce haber sufrido algún tipo de control o violencia desde el móvil? Esto también es violencia de género. \n\nPor ello\, Mancomunidad La Vega ha organizado una formación en modalidad online para prevenir la violencia de género en entornos digitales.\n\n\nEste curso\, de 24 horas de formación\, tiene como objetivos:\n\nReconocer las situaciones y causas que provocan la violencia de género digital\nAnalizar medidas y recursos para la detección de ciberacosadores y evidencias\nEstablecer líneas de actuación con víctimas de violencia digital\n\n\n\nLa formación se llevará a cabo los días 12\, 19 y 26 de mayo y 2 y 7 de junio en horario de 16:30h a 20:30h.\n\n\nEl curso se realizará a través de un campus virtual con acceso a clases por videoconferencia. Una vez finalizada la formación\, se entregará un certificado de realización homologado por el IVAP.\n\n\nLas inscripciones se realizarán en https://forms.gle/v2TJu64F4FrGCVbc9\n\n\nEste curso está financiado por los fondos del Pacto de Estado en materia de Violencia de Género.\n\n\n#AgenciadeIgualdad #YoIgualaTú #MancomunidadLaVega #ServiciosSociales #ViolenciadeGéneroDigital #PrevencióndeViolenciadeGénero\n\n 
URL:https://www.mancomunidadlavega.es/event/formacion-online-violencia-de-genero-digital-3-2/
CATEGORIES:Algorfa,Jacarilla,Jóvenes,Mujer,Redován,San Miguel de Salinas
END:VEVENT
BEGIN:VEVENT
DTSTART;TZID=UTC:20220604T100000
DTEND;TZID=UTC:20220604T170000
DTSTAMP:20260420T055433
CREATED:20220516T074350Z
LAST-MODIFIED:20220516T083801Z
UID:39895-1654336800-1654362000@www.mancomunidadlavega.es
SUMMARY:Actividades Sal de casa-Algorfa
DESCRIPTION:Oferta de actividades para jóvenes en Algorfa con el apoyo de la La Vega Joven\, servicio de juventud de la mancomunidad. \n \nSal de casa un programa dirigido a los más jóvenes\, la franja de edad de 9 a 18 años de la localidad de Algorfa.\nLos niños y niñas necesitan relacionarse con el medio para poder crecer y desarrollarse de forma integral y se ha de favorecer todas las actividades orientadas a dicho fin\, siendo las excursiones un buen recurso para facilitar esa relación.\nLa actividad no se plantea como una actividad de excursión libre si no que se realizará como una actividad planificada de cohesión de grupo y mejora de las relaciones de los participantes que irá en beneficio de futuras acciones.\nObjetivos\n• Completar su formación escolar con otras actividades lúdicas\, es decir\, con la excursión se pretende que los participantes interaccionen\, conozcan\, valoren y disfruten otras actividades distintas a las habituales. \n• Propiciar actitudes de participación y colaboración.\n• Aprender por descubrimiento como recurso didáctico. \nTodas las salidas en grupos de 50 participantes irán acompañadas de tres monitores/as guardando las medidas sanitarias vigentes en el momento de la realización de la excursión. \n  \nMÁS INFORMACIÓN: LA VEGA JOVEN \nINSCRIPCIONES: En el Ayuntamiento de Algorfa. \nPlazas limitadas.
URL:https://www.mancomunidadlavega.es/event/actividades-sal-de-casa-algorfa/
CATEGORIES:Algorfa,Jóvenes
END:VEVENT
BEGIN:VEVENT
DTSTART;TZID=UTC:20220607T160000
DTEND;TZID=UTC:20220607T180000
DTSTAMP:20260420T055433
CREATED:20220601T072301Z
LAST-MODIFIED:20220601T072301Z
UID:40149-1654617600-1654624800@www.mancomunidadlavega.es
SUMMARY:Taller salud emocional. Algorfa
DESCRIPTION:Taller salud emocional.  \n\n¿Quieres comprender qué son las emociones y qué función cumplen en tu salud?\n\n\nY\, aún más\, ¿quieres saber cómo integrarlas\, con equilibrio\, en el cuadro que es tu vida?\n\n\nSentirte bien afrontando los retos que supone vivir\, es posible.\n\n\nMantener el equilibrio\, la motivación y un estado de ánimo óptimo frente al estrés.\n\n\nRelacionarte mejor y aumentar tu calidad de vida requieren de gestión emocional.\n\n\nHablemos de esto\, y aprendamos juntos/as en:\n\n\n San Miguel de Salinas\, el  7 de abril a las 18:00. 1ª Planta .Centro Social.\n Jacarilla\, el 9 de junio a las 18:00. Aula de informática. Centro Social.\n Redován\, el 9 de junio a las 20:00. 1ª Planta Centro Social 3ª Edad.\n Algorfa\, 7 de junio 18:00. 1ª Planta Centro Social.\n\n\nINSCRIPCIONES: upcca[arroba]mancomunidadlavega.es\, 642 920 626.\n\n 
URL:https://www.mancomunidadlavega.es/event/taller-salud-emocional-algorfa/
LOCATION:Centro Social Algorfa\, Centro Social. Plaza de España\, sn\, Algorfa\, Alicante\, 03169\, España
CATEGORIES:Algorfa,Jóvenes,Mujer
GEO:38.0659364;-0.7789426
X-APPLE-STRUCTURED-LOCATION;VALUE=URI;X-ADDRESS=Centro Social Algorfa Centro Social. Plaza de España sn Algorfa Alicante 03169 España;X-APPLE-RADIUS=500;X-TITLE=Centro Social. Plaza de España\, sn:geo:-0.7789426,38.0659364
END:VEVENT
BEGIN:VEVENT
DTSTART;TZID=UTC:20220607T163000
DTEND;TZID=UTC:20220607T203000
DTSTAMP:20260420T055433
CREATED:20220516T070301Z
LAST-MODIFIED:20220516T070301Z
UID:39877-1654619400-1654633800@www.mancomunidadlavega.es
SUMMARY:Formación online. Violencia de género digital
DESCRIPTION:¿Sabías que más del 25% de las chicas reconoce haber sufrido algún tipo de control o violencia desde el móvil? Esto también es violencia de género. \n\nPor ello\, Mancomunidad La Vega ha organizado una formación en modalidad online para prevenir la violencia de género en entornos digitales.\n\n\nEste curso\, de 24 horas de formación\, tiene como objetivos:\n\nReconocer las situaciones y causas que provocan la violencia de género digital\nAnalizar medidas y recursos para la detección de ciberacosadores y evidencias\nEstablecer líneas de actuación con víctimas de violencia digital\n\n\n\nLa formación se llevará a cabo los días 12\, 19 y 26 de mayo y 2 y 7 de junio en horario de 16:30h a 20:30h.\n\n\nEl curso se realizará a través de un campus virtual con acceso a clases por videoconferencia. Una vez finalizada la formación\, se entregará un certificado de realización homologado por el IVAP.\n\n\nLas inscripciones se realizarán en https://forms.gle/v2TJu64F4FrGCVbc9\n\n\nEste curso está financiado por los fondos del Pacto de Estado en materia de Violencia de Género.\n\n\n#AgenciadeIgualdad #YoIgualaTú #MancomunidadLaVega #ServiciosSociales #ViolenciadeGéneroDigital #PrevencióndeViolenciadeGénero\n\n 
URL:https://www.mancomunidadlavega.es/event/formacion-online-violencia-de-genero-digital-3-2-2/
CATEGORIES:Algorfa,Jacarilla,Jóvenes,Mujer,Redován,San Miguel de Salinas
END:VEVENT
BEGIN:VEVENT
DTSTART;TZID=UTC:20220613T100000
DTEND;TZID=UTC:20220613T110000
DTSTAMP:20260420T055433
CREATED:20220531T111856Z
LAST-MODIFIED:20220531T111856Z
UID:40128-1655114400-1655118000@www.mancomunidadlavega.es
SUMMARY:Taller Mi móvil y yo. Algorfa
DESCRIPTION:Taller práctico en el que acercamos las nuevas tecnologías a las personas mayores. \nContenido: \n¿Cómo utilizar el Smartphone? \n\nBeneficios y utilidad.\nManejo Básico: Encender apagar\, batería tarjetas y carga.\nMultimedia: Fotos\, vídeos…\nAcceso a Internet y configuración del correo.\nInstalación y uso del WhatsApp y Zoom (mensajería y videollamada).\n\n+ Info. e inscripciones: https://www.mancomunidadlavega.es/tramites/mimovilyyo/
URL:https://www.mancomunidadlavega.es/event/tecnologiasalgorfa/
LOCATION:Centro Social Algorfa\, Centro Social. Plaza de España\, sn\, Algorfa\, Alicante\, 03169\, España
CATEGORIES:Algorfa,Mayores
GEO:38.0659364;-0.7789426
X-APPLE-STRUCTURED-LOCATION;VALUE=URI;X-ADDRESS=Centro Social Algorfa Centro Social. Plaza de España sn Algorfa Alicante 03169 España;X-APPLE-RADIUS=500;X-TITLE=Centro Social. Plaza de España\, sn:geo:-0.7789426,38.0659364
END:VEVENT
BEGIN:VEVENT
DTSTART;TZID=UTC:20220614T170000
DTEND;TZID=UTC:20220614T180000
DTSTAMP:20260420T055433
CREATED:20220613T075259Z
LAST-MODIFIED:20220613T082209Z
UID:40301-1655226000-1655229600@www.mancomunidadlavega.es
SUMMARY:Verano con sentido. Algorfa
DESCRIPTION:Talleres #Verano con Sentido.\n\n\n¡VEN A DIVERTIRTE y LLENAR EL VERANO DE “SENTIDO”! CON ACTIVIDADES CREATIVAS PARA DISFRUTAR EN FAMILIA reduciendo el uso de pantallas.\n\n\nDisfruta de esta enriquecedora experiencia para conectar con el entorno\, vivir el ahora\, incorporar hábitos de higiene digital\, fomentar la creatividad y sobre todo divertirse en familia.\n\n\nRedován: lunes 13 de junio a las 17:00\, 1ª Planta Centro Social.\nAlgorfa: martes 14 de junio a las 17:00\, Casa de Juventud\, Centro Social.\nSan Miguel: miércoles 15 de junio a las 17:00. 1ª Planta del Centro Social.\nJacarilla: lunes 20 de junio a las 17:00. Parque La Pinada.\n\n\nPor un uso de tecnologías #ConSentido\n\n\n ¡Te esperamos!\n\n\n Inscripciones: 645 920 626 (UPCCA Mancomunidad la Vega)\n\n 
URL:https://www.mancomunidadlavega.es/event/verano-con-sentido-algorfa/
LOCATION:Servicios Sociales Redovan
CATEGORIES:Algorfa,Infancia y Familia,Jóvenes
END:VEVENT
BEGIN:VEVENT
DTSTART;TZID=UTC:20220614T170000
DTEND;TZID=UTC:20220614T183000
DTSTAMP:20260420T055433
CREATED:20220613T073412Z
LAST-MODIFIED:20241029T104741Z
UID:40294-1655226000-1655231400@www.mancomunidadlavega.es
SUMMARY:Charla separación o divorcio. Algorfa
DESCRIPTION:TALLER SOBRE SEPARACIÓN Y DIVORCIO \n\nConoce todos tus derechos y deberes sobre:\n– custodias\n– pensión de alimentos\,\n– uso de la vivienda familiar\,\n– régimen de visitas\,\n– gastos extraordinarios\,\n– incumplimientos de las obligaciones por algunos de los progenitores\,\nmodificaciones de medidas civiles y ..…\n\n\n¿DONDE?\n\n\n14 de junio: Algorfa a las 17:00 horas en Centro Social\n14 de junio: Redován a las 20:00 horas en Centro Social\n 16 de junio:San Miguel de Salinas a las 19:30 horas en Centro Social\n 23 de junio: Jacarilla a las 18:00 horas en la Casa de Cultura\n\n\n\n¿Y PARA ASISTIR?\n\n\nSólo tienes que llamar al  678814229 y confirmar tu asistencia (Silvia\, abogada servicio jurídico Mancomunidad la Vega\n\n\n+ Info: https://cutt.ly/lJKhOha
URL:https://www.mancomunidadlavega.es/event/charla-separacion-o-divorcio-san-miguel-2/
LOCATION:Servicios Sociales Redovan
CATEGORIES:Algorfa,Mujer
END:VEVENT
BEGIN:VEVENT
DTSTART;TZID=UTC:20220618T100000
DTEND;TZID=UTC:20220618T170000
DTSTAMP:20260420T055434
CREATED:20220516T083902Z
LAST-MODIFIED:20220516T083902Z
UID:39912-1655546400-1655571600@www.mancomunidadlavega.es
SUMMARY:Actividades Sal de casa-Algorfa
DESCRIPTION:Oferta de actividades para jóvenes en Algorfa con el apoyo de la La Vega Joven\, servicio de juventud de la mancomunidad. \n \nSal de casa un programa dirigido a los más jóvenes\, la franja de edad de 9 a 18 años de la localidad de Algorfa.\nLos niños y niñas necesitan relacionarse con el medio para poder crecer y desarrollarse de forma integral y se ha de favorecer todas las actividades orientadas a dicho fin\, siendo las excursiones un buen recurso para facilitar esa relación.\nLa actividad no se plantea como una actividad de excursión libre si no que se realizará como una actividad planificada de cohesión de grupo y mejora de las relaciones de los participantes que irá en beneficio de futuras acciones.\nObjetivos\n• Completar su formación escolar con otras actividades lúdicas\, es decir\, con la excursión se pretende que los participantes interaccionen\, conozcan\, valoren y disfruten otras actividades distintas a las habituales. \n• Propiciar actitudes de participación y colaboración.\n• Aprender por descubrimiento como recurso didáctico. \nTodas las salidas en grupos de 50 participantes irán acompañadas de tres monitores/as guardando las medidas sanitarias vigentes en el momento de la realización de la excursión. \n  \nMÁS INFORMACIÓN: LA VEGA JOVEN \nINSCRIPCIONES: En el Ayuntamiento de Algorfa. \nPlazas limitadas.
URL:https://www.mancomunidadlavega.es/event/actividades-sal-de-casa-algorfa-2-2/
CATEGORIES:Algorfa,Jóvenes
END:VEVENT
END:VCALENDAR