BEGIN:VCALENDAR
VERSION:2.0
PRODID:-//Mancomunidad la vega - ECPv6.11.2//NONSGML v1.0//EN
CALSCALE:GREGORIAN
METHOD:PUBLISH
X-ORIGINAL-URL:https://www.mancomunidadlavega.es
X-WR-CALDESC:Eventos para Mancomunidad la vega
REFRESH-INTERVAL;VALUE=DURATION:PT1H
X-Robots-Tag:noindex
X-PUBLISHED-TTL:PT1H
BEGIN:VTIMEZONE
TZID:UTC
BEGIN:STANDARD
TZOFFSETFROM:+0000
TZOFFSETTO:+0000
TZNAME:UTC
DTSTART:20210101T000000
END:STANDARD
END:VTIMEZONE
BEGIN:VEVENT
DTSTART;TZID=UTC:20211001T180000
DTEND;TZID=UTC:20211001T200000
DTSTAMP:20260422T124655
CREATED:20210915T071816Z
LAST-MODIFIED:20210915T071816Z
UID:35134-1633111200-1633118400@www.mancomunidadlavega.es
SUMMARY:Taller crea Joven. Algorfa
DESCRIPTION:Saca la/el artista que llevas dentro.\n\n\nEn el taller realizaremos murales gigantes con mensaje y arte rebuscado con materiales reutilizados.\n\n\nInscríbete enviando un WhatsApp al 658 796 154\n\n\nConsulta la fecha de tu pueblo ¡Plazas limitadas!\n\n\nToda la info. en: https://www.mancomunidadlavega.es/tramites/crea-joven/\n\n\nLa Vega Joven. Con el apoyo del GVA IVAJ\n\n 
URL:https://www.mancomunidadlavega.es/event/taller-crea-joven-algorfa-2-2/
CATEGORIES:Algorfa,Jóvenes
END:VEVENT
BEGIN:VEVENT
DTSTART;TZID=UTC:20211003T090000
DTEND;TZID=UTC:20211003T150000
DTSTAMP:20260422T124655
CREATED:20210915T072826Z
LAST-MODIFIED:20241016T105624Z
UID:35150-1633251600-1633273200@www.mancomunidadlavega.es
SUMMARY:Vía Ferrata. Redován K2 + Rapel
DESCRIPTION:  \n  \n  \n  \n  \n  \n  \n  \n  \n  \n  \n  \n \n\nVía Ferrata. Redován K2 + Rapel\n\n¿Qué tal una jornada de aventura y altura?\n\n\nDesde la Vega Joven proponemos iniciaros en la montaña con una de las experiencias más emocionantes que puedes hacer en nuestros pueblos\, la subida K2 a la vía ferrata de #Redován\n\n\n¡El grupo es limitado! Hasta el15 de septiembre para hacer la preinscripción.\n\n\nSolo tienes que enviar un WhatsApp al 658 796 154.\n\n\ncon el apoyo de GVA IVAJ\n\n\ntoda la en info. en https://www.mancomunidadlavega.es/tramites/via-ferrata/\n\n\n\n 
URL:https://www.mancomunidadlavega.es/event/via-ferrata-redovan-k2-rapel/
CATEGORIES:Algorfa,Jacarilla,Jóvenes,Redován,San Miguel de Salinas
END:VEVENT
BEGIN:VEVENT
DTSTART;TZID=UTC:20211004T110000
DTEND;TZID=UTC:20211004T123000
DTSTAMP:20260422T124655
CREATED:20210930T120402Z
LAST-MODIFIED:20210930T120402Z
UID:35375-1633345200-1633350600@www.mancomunidadlavega.es
SUMMARY:Escuela de mayores. Algorfa
DESCRIPTION:A través del Programa CALIDAD DE VIDA se ponen en marcha diversas actividades cuya finalidad es mantener activos tanto física como mentalmente a las personas mayores\, contribuyendo así a prevenir situaciones propias del proceso de envejecimiento como el aislamiento\, la perdida de autonomía personal y social\, el deterioro físico y cognitivo\,… \nEste programa se lleva a cabo con el apoyo del area de Bienestar Social de la Diputación Provincial. +Info. escuela-mayores
URL:https://www.mancomunidadlavega.es/event/escuela-de-mayores-jacarilla-3-2/2021-10-04/
LOCATION:Salón de actos del Centro Social Jacarilla
CATEGORIES:Algorfa,Mayores
END:VEVENT
BEGIN:VEVENT
DTSTART;TZID=UTC:20211008T193000
DTEND;TZID=UTC:20211008T203000
DTSTAMP:20260422T124655
CREATED:20211014T082511Z
LAST-MODIFIED:20211112T111047Z
UID:35516-1633721400-1633725000@www.mancomunidadlavega.es
SUMMARY:Foros jóvenes. Algorfa
DESCRIPTION:Llegan los primeros FOROS JÓVENES a Mancomunidad La Vega\, es un proceso participativo en el que l@s jóvenes tenéis la palabra.\n\n\n Si tienes entre 12 y 30 años este es tu espacio.\n\n\n Buscamos jóvenes que quieran decidir qué hacer en su pueblo.\n\n\n Al finalizar merendaremos tod@s junt@s.\n\n\nCon el apoyo del GVA IVAJ\n\n\n#LaVegaJoven #MancomunidadlaVega #ServiciosSociales #MLV #XarxaJove #IVAJ Ayuntamiento de Algorfa Ayuntamiento de Jacarilla Ayuntamiento de Redován
URL:https://www.mancomunidadlavega.es/event/foros-jovenes-algorfa/
CATEGORIES:Algorfa,Jóvenes
END:VEVENT
BEGIN:VEVENT
DTSTART;TZID=UTC:20211014T103000
DTEND;TZID=UTC:20211014T123000
DTSTAMP:20260422T124655
CREATED:20211001T122109Z
LAST-MODIFIED:20211001T122109Z
UID:35468-1634207400-1634214600@www.mancomunidadlavega.es
SUMMARY:Taller Mi móvil y yo. Algorfa
DESCRIPTION:Taller práctico en el que acercamos las nuevas tecnologías a las personas mayores. \nContenido: \n¿Cómo utilizar el Smartphone? \n\nBeneficios y utilidad.\nManejo Básico: Encender apagar\, batería tarjetas y carga.\nMultimedia: Fotos\, vídeos…\nAcceso a Internet y configuración del correo.\nInstalación y uso del WhatsApp y Zoom (mensajería y videollamada).\n\n+ Info. e inscripciones: https://www.mancomunidadlavega.es/tramites/mimovilyyo/
URL:https://www.mancomunidadlavega.es/event/taller-mi-movil-y-yo-algorfa/
LOCATION:Centro Social de la Tercera Edad. Redován\, C/ Juan XXIII\, s/n\, Redován\, Alicante\, 03370\, España
CATEGORIES:Algorfa,Mayores
GEO:38.1142082;-0.9076136
X-APPLE-STRUCTURED-LOCATION;VALUE=URI;X-ADDRESS=Centro Social de la Tercera Edad. Redován C/ Juan XXIII s/n Redován Alicante 03370 España;X-APPLE-RADIUS=500;X-TITLE=C/ Juan XXIII\, s/n:geo:-0.9076136,38.1142082
END:VEVENT
BEGIN:VEVENT
DTSTART;TZID=UTC:20211018T090000
DTEND;TZID=UTC:20211018T130000
DTSTAMP:20260422T124655
CREATED:20211001T115908Z
LAST-MODIFIED:20211001T115908Z
UID:35454-1634547600-1634562000@www.mancomunidadlavega.es
SUMMARY:La sexualidad no tiene edad. Algorfa
DESCRIPTION:  \nPONENTE Mª ÁNGELES HERNÁNDEZ ARNALDOS \nAGENTE DE IGUALDAD DE MANCOMUNIDAD LA VEGA \nRedován y Algorfa: Lunes 18 de octubre \nJacarilla y San Miguel: Lunes 25 de octubre \n 
URL:https://www.mancomunidadlavega.es/event/la-sexualidad-no-tiene-edad-algorfa/
CATEGORIES:Algorfa,Redován
END:VEVENT
BEGIN:VEVENT
DTSTART;TZID=UTC:20211018T090000
DTEND;TZID=UTC:20211018T130000
DTSTAMP:20260422T124655
CREATED:20211001T120352Z
LAST-MODIFIED:20211001T120407Z
UID:35456-1634547600-1634562000@www.mancomunidadlavega.es
SUMMARY:La sexualidad no tiene edad. Algorfa
DESCRIPTION:PONENTE Mª ÁNGELES HERNÁNDEZ ARNALDOS \nAGENTE DE IGUALDAD DE MANCOMUNIDAD LA VEGA \nRedován y Algorfa: Lunes 18 de octubre \nJacarilla y San Miguel: Lunes 25 de octubre \n 
URL:https://www.mancomunidadlavega.es/event/la-sexualidad-no-tiene-edad-algorfa-2/
CATEGORIES:Algorfa,Redován
END:VEVENT
END:VCALENDAR