BEGIN:VCALENDAR
VERSION:2.0
PRODID:-//Mancomunidad la vega - ECPv6.11.2//NONSGML v1.0//EN
CALSCALE:GREGORIAN
METHOD:PUBLISH
X-WR-CALNAME:Mancomunidad la vega
X-ORIGINAL-URL:https://www.mancomunidadlavega.es
X-WR-CALDESC:Eventos para Mancomunidad la vega
REFRESH-INTERVAL;VALUE=DURATION:PT1H
X-Robots-Tag:noindex
X-PUBLISHED-TTL:PT1H
BEGIN:VTIMEZONE
TZID:UTC
BEGIN:STANDARD
TZOFFSETFROM:+0000
TZOFFSETTO:+0000
TZNAME:UTC
DTSTART:20210101T000000
END:STANDARD
END:VTIMEZONE
BEGIN:VEVENT
DTSTART;TZID=UTC:20210912T093000
DTEND;TZID=UTC:20210912T143000
DTSTAMP:20260423T001900
CREATED:20210911T094948Z
LAST-MODIFIED:20210915T072510Z
UID:34846-1631439000-1631457000@www.mancomunidadlavega.es
SUMMARY:A la playa con la Vega Joven
DESCRIPTION:    \n  \n  \n  \n  \n  \n  \n  \n\nA la playa con la Vega Joven\nDespide el verano en LA PLAYA. Te pasamos a recoger en autobús por tu pueblo. Ven con tus amigos y amigas a disfrutar de una mañana playera con juegos deportivos\n\n\nToda la Info. en el trámite: A la playa con la Vega Joven\nInscríbete enviando un WhatsApp al 658 796 154 o en el enlace  Inscripción\n\n\n¡Plazas limitadas!\n\n\nLa Vega Joven con el apoyo del GVA IVAJ\n\n\n\n\n 
URL:https://www.mancomunidadlavega.es/event/a-la-playa-con-la-vega-joven/
CATEGORIES:Algorfa,Jacarilla,Jóvenes,Redován,San Miguel de Salinas
END:VEVENT
BEGIN:VEVENT
DTSTART;TZID=UTC:20210916T160000
DTEND;TZID=UTC:20210916T180000
DTSTAMP:20260423T001900
CREATED:20210909T113613Z
LAST-MODIFIED:20210909T113706Z
UID:35047-1631808000-1631815200@www.mancomunidadlavega.es
SUMMARY:Al cole de Mayores. Algorfa
DESCRIPTION:Taller para madres y padres en el que se van a tratar los aspectos más importantes que afectan a nuestras hijas e hijos que empiezan la Educación Primaria. \nContenidos: \n\n¿Cuáles son los cambios a los que se enfrentan los niños y niñas que empiezan la Educación Primaria?\n¿Cómo vivimos madres y padres estos cambios?\n¿Cómo acompañarles en esta nueva etapa?\n¿Qué estrategias prácticas podemos seguir?\n¿Cómo es el día a día de nuestra familia al inicio del curso?: rutinas\, hábitos de estudio (deberes\, exámenes\, juego\, etc).\n¿Qué es la parentalidad positiva?.\n¿Cómo se educa en positivo?
URL:https://www.mancomunidadlavega.es/event/al-cole-de-mayores-algorfa/
LOCATION:Centro Social Algorfa\, Centro Social. Plaza de España\, sn\, Algorfa\, Alicante\, 03169\, España
CATEGORIES:Algorfa,Infancia y Familia
GEO:38.0659364;-0.7789426
X-APPLE-STRUCTURED-LOCATION;VALUE=URI;X-ADDRESS=Centro Social Algorfa Centro Social. Plaza de España sn Algorfa Alicante 03169 España;X-APPLE-RADIUS=500;X-TITLE=Centro Social. Plaza de España\, sn:geo:-0.7789426,38.0659364
END:VEVENT
BEGIN:VEVENT
DTSTART;TZID=UTC:20210917T180000
DTEND;TZID=UTC:20210917T200000
DTSTAMP:20260423T001900
CREATED:20210915T071706Z
LAST-MODIFIED:20210915T071706Z
UID:35130-1631901600-1631908800@www.mancomunidadlavega.es
SUMMARY:Taller crea Joven. Algorfa
DESCRIPTION:Saca la/el artista que llevas dentro.\n\n\nEn el taller realizaremos murales gigantes con mensaje y arte rebuscado con materiales reutilizados.\n\n\nInscríbete enviando un WhatsApp al 658 796 154\n\n\nConsulta la fecha de tu pueblo ¡Plazas limitadas!\n\n\nToda la info. en: https://www.mancomunidadlavega.es/tramites/crea-joven/\n\n\nLa Vega Joven. Con el apoyo del GVA IVAJ\n\n 
URL:https://www.mancomunidadlavega.es/event/taller-crea-joven-algorfa/
CATEGORIES:Algorfa,Jóvenes
END:VEVENT
BEGIN:VEVENT
DTSTART;TZID=UTC:20210923T170000
DTEND;TZID=UTC:20210923T180000
DTSTAMP:20260423T001900
CREATED:20210913T100423Z
LAST-MODIFIED:20210913T104325Z
UID:35094-1632416400-1632420000@www.mancomunidadlavega.es
SUMMARY:Foro en Algorfa: La soledad no deseada
DESCRIPTION:Este septiembre se realiza el FORO – LA SOLEDAD NO DESEADA\, de mano de la Fundación Pilares para la autonomía personal y UA – Universitat d’Alacant / Universidad de Alicante en nuestros municipios.\n\n\n\nVen a participar en este espacio de encuentro\, comparte tus ideas sobre la situación de tu municipio y participa activamente en tu comunidad.\n\n\n\nHablaremos sobre nuevos modelos de cuidados\, relaciones intergeneracionales y cuestiones cotidianas que nos afectan a tod@s.\n\n\nConsulta la fecha de tu municipio.\n\n\n\n\n 
URL:https://www.mancomunidadlavega.es/event/foro-en-algorfa-la-soledad-no-deseada/
CATEGORIES:Algorfa,Mayores
END:VEVENT
BEGIN:VEVENT
DTSTART;TZID=UTC:20210924T180000
DTEND;TZID=UTC:20210924T200000
DTSTAMP:20260423T001900
CREATED:20210915T071743Z
LAST-MODIFIED:20210915T071743Z
UID:35132-1632506400-1632513600@www.mancomunidadlavega.es
SUMMARY:Taller crea Joven. Algorfa
DESCRIPTION:Saca la/el artista que llevas dentro.\n\n\nEn el taller realizaremos murales gigantes con mensaje y arte rebuscado con materiales reutilizados.\n\n\nInscríbete enviando un WhatsApp al 658 796 154\n\n\nConsulta la fecha de tu pueblo ¡Plazas limitadas!\n\n\nToda la info. en: https://www.mancomunidadlavega.es/tramites/crea-joven/\n\n\nLa Vega Joven. Con el apoyo del GVA IVAJ\n\n 
URL:https://www.mancomunidadlavega.es/event/taller-crea-joven-algorfa-2/
CATEGORIES:Algorfa,Jóvenes
END:VEVENT
END:VCALENDAR