BEGIN:VCALENDAR
VERSION:2.0
PRODID:-//Mancomunidad la vega - ECPv6.11.2//NONSGML v1.0//EN
CALSCALE:GREGORIAN
METHOD:PUBLISH
X-ORIGINAL-URL:https://www.mancomunidadlavega.es
X-WR-CALDESC:Eventos para Mancomunidad la vega
REFRESH-INTERVAL;VALUE=DURATION:PT1H
X-Robots-Tag:noindex
X-PUBLISHED-TTL:PT1H
BEGIN:VTIMEZONE
TZID:UTC
BEGIN:STANDARD
TZOFFSETFROM:+0000
TZOFFSETTO:+0000
TZNAME:UTC
DTSTART:20250101T000000
END:STANDARD
END:VTIMEZONE
BEGIN:VEVENT
DTSTART;TZID=UTC:20250930T183000
DTEND;TZID=UTC:20260930T200000
DTSTAMP:20260422T020422
CREATED:20251002T133231Z
LAST-MODIFIED:20260304T072421Z
UID:64331-1759257000-1790798400@www.mancomunidadlavega.es
SUMMARY:Circulo de cuidados. Algorfa
DESCRIPTION:Círculo de Cuidados de Mancomunidad la Vega. \n\nUn espacio dedicado a las personas que cuidan de familiares en situación de dependencia\, un lugar para compartir\, para apoyarse y para el autocuidado.\n\n\n¿Qué es?\nUn grupo de apoyo para personas cuidadoras\, guiado por profesionales\, donde podrás aprender nuevas habilidades y a cuidar de tu bienestar emocional.\n\n\nPróximas reuniones en cada municipio:\n\nJacarilla: lunes 29 de septiembre de 17 a 18\,30 horas en el Salón de Actos.\nAlgorfa: martes 30 de septiembre de 18\,30 a 20\,00 horas en Servicios Sociales.\nSan Miguel de Salinas: martes 14 de octubre de 16\,30 a 18\,00 horas en Servicios Sociales\nRedován: Miércoles 15 deoctubre de 16\,30 a 18 horas en el Centro Social.\n\ny muchos más… Consulta fechas y horarios en tu Servicios Sociales.\n\n\nUn espacio para diálogo\, para el intercambio de experiencias y para el bienestar mutuo. Porque para cuidar a otros necesitas cuidar de ti.\n\n\nPara más info o inscripciones\, llama a Alba 658757284 o pregunta en Servicios Sociales de tu municipio.
URL:https://www.mancomunidadlavega.es/event/circulo-de-cuidados-algorfa-3/
LOCATION:Algorfa
CATEGORIES:Algorfa,Mayores,San Miguel de Salinas
ATTACH;FMTTYPE=image/png:https://www.mancomunidadlavega.es/wp-content/uploads/2025/10/circulocuidados.png
END:VEVENT
BEGIN:VEVENT
DTSTART;TZID=UTC:20260306T100000
DTEND;TZID=UTC:20260306T140000
DTSTAMP:20260422T020422
CREATED:20260305T130842Z
LAST-MODIFIED:20260305T132227Z
UID:65578-1772791200-1772805600@www.mancomunidadlavega.es
SUMMARY:Mercados de la igualdad. Redován
DESCRIPTION:En los mercadillos semanales de nuestros municipios te espera el MERCADO DE LA IGUALDAD\, un espacio dinámico donde ponemos el foco en lo que significa el #8M: una fecha para reivindicar que todavía quedan muchas cuestiones pendientes para que la igualdad sea una realidad. \n\nMercadillos municipales de:\nALGORFA: miércoles 4 de marzo a partir de las 10 horas.\nREDOVAN: viernes 6 de marzo a partir de las 10 horas.\nSAN MIGUEL: miércoles 11 de marzo a partir de las 10 horas.\nJACARILLA: viernes 13 de marzo a partir de las 10 horas.\n\n\n#conmemoraconmemoria Porque hay razones que NO pueden caer en el olvido #8M Día de las Mujeres en Mancomunidad la Vega.\n\n 
URL:https://www.mancomunidadlavega.es/event/mercados-de-la-igualdad-redovan/
LOCATION:Redován\, Alicante\, España
CATEGORIES:Mujer,Redován
ATTACH;FMTTYPE=image/png:https://www.mancomunidadlavega.es/wp-content/uploads/2026/03/mercadosdelaigualdad.png
END:VEVENT
BEGIN:VEVENT
DTSTART;TZID=UTC:20260306T163000
DTEND;TZID=UTC:20260306T183000
DTSTAMP:20260422T020422
CREATED:20260225T130527Z
LAST-MODIFIED:20260225T130527Z
UID:65542-1772814600-1772821800@www.mancomunidadlavega.es
SUMMARY:Taller pintura. Redován
DESCRIPTION:¡Despierta tu artista interior en el mes de las mujeres en Redován! TALLER DE PINTURA: FRIDA KHALO para celebrar la fuerza y creatividad de las mujeres. \nViernes 6 de marzo\n16:30 h\nCentro 3ª Edad 1ª planta \n¡PLAZAS LIMITADAS! Inscripciones: 966755639 en Mancomunidad La Vega.\n¡Pinta\, crea y conmemora! No te lo pierdas. \nConcejalía de BienestarSocial e Igualdad con el apoyo de la agencia de Igualdad de Mancomunidad la Vega \n#conmemoraconmemoria Porque hay razones que NO pueden caer en el olvido #8M Día de las Mujeres en Redovan.
URL:https://www.mancomunidadlavega.es/event/taller-pintura-redovan/
LOCATION:Redován\, Alicante\, España
CATEGORIES:Mujer,Redován
ATTACH;FMTTYPE=image/png:https://www.mancomunidadlavega.es/wp-content/uploads/2026/02/taller-de-pintrura.png
END:VEVENT
END:VCALENDAR