BEGIN:VCALENDAR
VERSION:2.0
PRODID:-//Mancomunidad la vega - ECPv6.11.2//NONSGML v1.0//EN
CALSCALE:GREGORIAN
METHOD:PUBLISH
X-WR-CALNAME:Mancomunidad la vega
X-ORIGINAL-URL:https://www.mancomunidadlavega.es
X-WR-CALDESC:Eventos para Mancomunidad la vega
REFRESH-INTERVAL;VALUE=DURATION:PT1H
X-Robots-Tag:noindex
X-PUBLISHED-TTL:PT1H
BEGIN:VTIMEZONE
TZID:UTC
BEGIN:STANDARD
TZOFFSETFROM:+0000
TZOFFSETTO:+0000
TZNAME:UTC
DTSTART:20200101T000000
END:STANDARD
END:VTIMEZONE
BEGIN:VEVENT
DTSTART;TZID=UTC:20201001T160000
DTEND;TZID=UTC:20201001T173000
DTSTAMP:20260419T192502
CREATED:20200924T101009Z
LAST-MODIFIED:20200924T101009Z
UID:31125-1601568000-1601573400@www.mancomunidadlavega.es
SUMMARY:Grupo de apoyo de Bienestar Social Algorfa
DESCRIPTION:Inscripciones: por Tel o whatsApp: 658757043 \nComienzo 1 de Octubre
URL:https://www.mancomunidadlavega.es/event/grupo-de-apoyo-de-bienestar-social-algorfa/
LOCATION:Alicante
CATEGORIES:Algorfa,Mujer
ATTACH;FMTTYPE=image/jpeg:https://www.mancomunidadlavega.es/wp-content/uploads/2020/09/bienestra-algorfa.jpg
END:VEVENT
BEGIN:VEVENT
DTSTART;TZID=UTC:20201001T200000
DTEND;TZID=UTC:20201001T213000
DTSTAMP:20260419T192502
CREATED:20200924T100713Z
LAST-MODIFIED:20200924T100713Z
UID:31121-1601582400-1601587800@www.mancomunidadlavega.es
SUMMARY:Grupo de apoyo Bienestar Emocional Redován
DESCRIPTION:Inscripciones: por Tel o whatsApp: 658757043 \nComienzo 1 de Octubre
URL:https://www.mancomunidadlavega.es/event/grupo-de-apoyo-bienestar-emocional-redovan/
LOCATION:Alicante
CATEGORIES:Mujer,Redován
ATTACH;FMTTYPE=image/png:https://www.mancomunidadlavega.es/wp-content/uploads/2020/09/redes-cartel_emociones_redovan_2020.png
END:VEVENT
END:VCALENDAR