BEGIN:VCALENDAR
VERSION:2.0
PRODID:-//Mancomunidad la vega - ECPv6.11.2//NONSGML v1.0//EN
CALSCALE:GREGORIAN
METHOD:PUBLISH
X-ORIGINAL-URL:https://www.mancomunidadlavega.es
X-WR-CALDESC:Eventos para Mancomunidad la vega
REFRESH-INTERVAL;VALUE=DURATION:PT1H
X-Robots-Tag:noindex
X-PUBLISHED-TTL:PT1H
BEGIN:VTIMEZONE
TZID:UTC
BEGIN:STANDARD
TZOFFSETFROM:+0000
TZOFFSETTO:+0000
TZNAME:UTC
DTSTART:20200101T000000
END:STANDARD
END:VTIMEZONE
BEGIN:VEVENT
DTSTART;TZID=UTC:20200928T180000
DTEND;TZID=UTC:20200928T200000
DTSTAMP:20260419T141244
CREATED:20200925T114358Z
LAST-MODIFIED:20230223T104505Z
UID:31131-1601316000-1601323200@www.mancomunidadlavega.es
SUMMARY:TALLER DE RAP. San Miguel de Salinas
DESCRIPTION:TALLER DE RAP\, lunes 28 a las 18 horas en el centro social.\n\n\n Estás de suerte porque el Proyecto Control@ #ConTalento traen a San Miguel de Salinas a Yaike (rapera) y a Vicky Montañez (Clowndestino) para introducirte en el Rap y el uso seguro de internet y redes sociales.\n\n\n Actividad dirigida para jóvenes de 10 a 14 años.\n\n\n\n Inscripciones a través de la UPCCA de \nMancomunidad la Vega\n\, llamando al 645 920 626 \n\n\n\n¡No te lo pierdas! Plazas limitadas por protocolo COVID-19\n\n\n\nCon el apoyo de \nLa Dipu Social. Diputación de Alicante\n\n\n\n#mancomunidadlavega #UPCCA #ServiciosSociales
URL:https://www.mancomunidadlavega.es/event/taller-de-rap-san-miguel-de-salinas/
LOCATION:Centro Social. 1ªPlanta. San Miguel de Salinas\, C/ Vicente Blasco Ibáñez\, 1\, San Miguel de Salinas\, Alicante\, 03193\, España
CATEGORIES:Jóvenes,San Miguel de Salinas
GEO:37.9784386;-0.7889244
X-APPLE-STRUCTURED-LOCATION;VALUE=URI;X-ADDRESS=Centro Social. 1ªPlanta. San Miguel de Salinas C/ Vicente Blasco Ibáñez 1 San Miguel de Salinas Alicante 03193 España;X-APPLE-RADIUS=500;X-TITLE=C/ Vicente Blasco Ibáñez\, 1:geo:-0.7889244,37.9784386
END:VEVENT
END:VCALENDAR