BEGIN:VCALENDAR
VERSION:2.0
PRODID:-//Mancomunidad la vega - ECPv6.11.2//NONSGML v1.0//EN
CALSCALE:GREGORIAN
METHOD:PUBLISH
X-WR-CALNAME:Mancomunidad la vega
X-ORIGINAL-URL:https://www.mancomunidadlavega.es
X-WR-CALDESC:Eventos para Mancomunidad la vega
REFRESH-INTERVAL;VALUE=DURATION:PT1H
X-Robots-Tag:noindex
X-PUBLISHED-TTL:PT1H
BEGIN:VTIMEZONE
TZID:UTC
BEGIN:STANDARD
TZOFFSETFROM:+0000
TZOFFSETTO:+0000
TZNAME:UTC
DTSTART:20230101T000000
END:STANDARD
END:VTIMEZONE
BEGIN:VEVENT
DTSTART;TZID=UTC:20230109T091500
DTEND;TZID=UTC:20230109T101500
DTSTAMP:20260424T163946
CREATED:20221011T100836Z
LAST-MODIFIED:20231010T121932Z
UID:41948-1673255700-1673259300@www.mancomunidadlavega.es
SUMMARY:Gimnasia mayores. Algorfa
DESCRIPTION:Periodo: 2022/2023.\nHorario sesiones: lunes y miércoles de 09:15h a 10:15h.\nLugar de realización: Instalaciones deportivas.\n\nToda la Info sobre esta actividad en el TRAMITE ACTIVIDAD FISICA PARA MAYORES
URL:https://www.mancomunidadlavega.es/event/gimnasia-mayores-algorfa-3/2023-01-09/
LOCATION:Algorfa
CATEGORIES:Algorfa,Mayores,Proyecto AICP.COM
END:VEVENT
END:VCALENDAR