BEGIN:VCALENDAR
VERSION:2.0
PRODID:-//Mancomunidad la vega - ECPv6.11.2//NONSGML v1.0//EN
CALSCALE:GREGORIAN
METHOD:PUBLISH
X-WR-CALNAME:Mancomunidad la vega
X-ORIGINAL-URL:https://www.mancomunidadlavega.es
X-WR-CALDESC:Eventos para Mancomunidad la vega
REFRESH-INTERVAL;VALUE=DURATION:PT1H
X-Robots-Tag:noindex
X-PUBLISHED-TTL:PT1H
BEGIN:VTIMEZONE
TZID:UTC
BEGIN:STANDARD
TZOFFSETFROM:+0000
TZOFFSETTO:+0000
TZNAME:UTC
DTSTART:20230101T000000
END:STANDARD
END:VTIMEZONE
BEGIN:VEVENT
DTSTART;TZID=UTC:20231002T160000
DTEND;TZID=UTC:20231002T173000
DTSTAMP:20260424T200620
CREATED:20230926T120118Z
LAST-MODIFIED:20230926T120118Z
UID:55236-1696262400-1696267800@www.mancomunidadlavega.es
SUMMARY:Escuela de Mayores. San Miguel de Salinas
DESCRIPTION:A través del Programa CALIDAD DE VIDA se ponen en marcha diversas actividades cuya finalidad es mantener activos tanto física como mentalmente a las personas mayores\, contribuyendo así a prevenir situaciones propias del proceso de envejecimiento como el aislamiento\, la pérdida de autonomía personal y social\, el deterioro físico y cognitivo. \n\nInicio actividad: octubre 2023\nPeriodo: de Octubre 2023 a Junio 2024\nHorario:  de 16:00h a 17:30h\nPrecio: Gratuito\n\nEste programa se lleva a cabo con el apoyo del Área de Bienestar Social de la Diputación Provincial. +Info. escuela-mayores
URL:https://www.mancomunidadlavega.es/event/escuela-de-mayores-san-miguel-de-salinas-2-2/2023-10-02/
LOCATION:Centro Social. 1ªPlanta. San Miguel de Salinas\, C/ Vicente Blasco Ibáñez\, 1\, San Miguel de Salinas\, Alicante\, 03193\, España
CATEGORIES:Mayores,Proyecto AICP.COM,San Miguel de Salinas
GEO:37.9784386;-0.7889244
X-APPLE-STRUCTURED-LOCATION;VALUE=URI;X-ADDRESS=Centro Social. 1ªPlanta. San Miguel de Salinas C/ Vicente Blasco Ibáñez 1 San Miguel de Salinas Alicante 03193 España;X-APPLE-RADIUS=500;X-TITLE=C/ Vicente Blasco Ibáñez\, 1:geo:-0.7889244,37.9784386
END:VEVENT
END:VCALENDAR