BEGIN:VCALENDAR
VERSION:2.0
PRODID:-//Mancomunidad la vega - ECPv6.11.2//NONSGML v1.0//EN
CALSCALE:GREGORIAN
METHOD:PUBLISH
X-WR-CALNAME:Mancomunidad la vega
X-ORIGINAL-URL:https://www.mancomunidadlavega.es
X-WR-CALDESC:Eventos para Mancomunidad la vega
REFRESH-INTERVAL;VALUE=DURATION:PT1H
X-Robots-Tag:noindex
X-PUBLISHED-TTL:PT1H
BEGIN:VTIMEZONE
TZID:UTC
BEGIN:STANDARD
TZOFFSETFROM:+0000
TZOFFSETTO:+0000
TZNAME:UTC
DTSTART:20190101T000000
END:STANDARD
END:VTIMEZONE
BEGIN:VEVENT
DTSTART;TZID=UTC:20191001T103000
DTEND;TZID=UTC:20191001T113000
DTSTAMP:20260420T212110
CREATED:20200201T123415Z
LAST-MODIFIED:20200406T203243Z
UID:26950-1569925800-1569929400@www.mancomunidadlavega.es
SUMMARY:Actividad física. San Miguel
DESCRIPTION:Toda la Info sobre esta actividad en el TRAMITE ACTIVIDAD FISICA PARA MAYORES
URL:https://www.mancomunidadlavega.es/event/actividad-fisica-san-miguel/2019-10-01/
LOCATION:San Miguel de Salinas\, San Miguel de Salinas\, Alicante\, 03370\, España
CATEGORIES:Mayores,San Miguel de Salinas
GEO:38.3671062;-0.4796285
END:VEVENT
END:VCALENDAR